BEGIN:VCALENDAR
VERSION:2.0
PRODID:-//Sports Tukuma novadā - ECPv5.14.2.1//NONSGML v1.0//EN
CALSCALE:GREGORIAN
METHOD:PUBLISH
X-WR-CALNAME:Sports Tukuma novadā
X-ORIGINAL-URL:https://sports.tukums.lv
X-WR-CALDESC:Events for Sports Tukuma novadā
REFRESH-INTERVAL;VALUE=DURATION:PT1H
X-Robots-Tag:noindex
X-PUBLISHED-TTL:PT1H
BEGIN:VTIMEZONE
TZID:Europe/Riga
BEGIN:DAYLIGHT
TZOFFSETFROM:+0200
TZOFFSETTO:+0300
TZNAME:EEST
DTSTART:20260329T010000
END:DAYLIGHT
BEGIN:STANDARD
TZOFFSETFROM:+0300
TZOFFSETTO:+0200
TZNAME:EET
DTSTART:20261025T010000
END:STANDARD
END:VTIMEZONE
BEGIN:VEVENT
DTSTART;TZID=Europe/Riga:20260516T100000
DTEND;TZID=Europe/Riga:20260517T180000
DTSTAMP:20260423T063807
CREATED:20260321T120544Z
LAST-MODIFIED:20260321T120544Z
UID:25726-1778925600-1779040800@sports.tukums.lv
SUMMARY:Latvijas čempionāts kartingā\, 1.posms
DESCRIPTION:https://laf.lv/
URL:https://sports.tukums.lv/event/latvijas-cempionats-kartinga-1-posms/
LOCATION:Kandava\, Kandava\, Kandava
CATEGORIES:Autosports
END:VEVENT
END:VCALENDAR