BEGIN:VCALENDAR
VERSION:2.0
PRODID:-//Sports Tukuma novadā - ECPv5.14.2.1//NONSGML v1.0//EN
CALSCALE:GREGORIAN
METHOD:PUBLISH
X-WR-CALNAME:Sports Tukuma novadā
X-ORIGINAL-URL:https://sports.tukums.lv
X-WR-CALDESC:Events for Sports Tukuma novadā
REFRESH-INTERVAL;VALUE=DURATION:PT1H
X-Robots-Tag:noindex
X-PUBLISHED-TTL:PT1H
BEGIN:VTIMEZONE
TZID:Europe/Riga
BEGIN:DAYLIGHT
TZOFFSETFROM:+0200
TZOFFSETTO:+0300
TZNAME:EEST
DTSTART:20260329T010000
END:DAYLIGHT
BEGIN:STANDARD
TZOFFSETFROM:+0300
TZOFFSETTO:+0200
TZNAME:EET
DTSTART:20261025T010000
END:STANDARD
END:VTIMEZONE
BEGIN:VEVENT
DTSTART;TZID=Europe/Riga:20260530T110000
DTEND;TZID=Europe/Riga:20260530T170000
DTSTAMP:20260422T024113
CREATED:20260413T073746Z
LAST-MODIFIED:20260413T073746Z
UID:26164-1780138800-1780160400@sports.tukums.lv
SUMMARY:Kandavas Bruņinieku kauss 2026
DESCRIPTION:Spēks\, raksturs un īstas cīņas ringā!\nTurnīrs notiks pēc boksa un K-1 noteikumiem\, kur sarkanajā stūrī kā mājinieki apvienosies F7T BOX Kandava\, RRBOXING Tukums\, BUSHIDO Centrs Tukums un Boksa klubs “Ciems”\, lai stātos pretī sportistiem no citiem Latvijas klubiem.\nNāc un atbalsti savējos – sagaidāmas dinamiskas un skatāmas cīņas!\nhttps://www.facebook.com/events/938510588903444?acontext=%7B%22event_action_history%22%3A[%7B%22mechanism%22%3A%22attachment%22%2C%22surface%22%3A%22newsfeed%22%7D]%2C%22ref_notif_type%22%3Anull%7D
URL:https://sports.tukums.lv/event/kandavas-bruninieku-kauss-2026/
LOCATION:Kandava\, Kandava\, Kandava
CATEGORIES:Cīņas sports
END:VEVENT
END:VCALENDAR