BEGIN:VCALENDAR
VERSION:2.0
PRODID:-//Sports Tukuma novadā - ECPv5.14.2.1//NONSGML v1.0//EN
CALSCALE:GREGORIAN
METHOD:PUBLISH
X-WR-CALNAME:Sports Tukuma novadā
X-ORIGINAL-URL:https://sports.tukums.lv
X-WR-CALDESC:Events for Sports Tukuma novadā
REFRESH-INTERVAL;VALUE=DURATION:PT1H
X-Robots-Tag:noindex
X-PUBLISHED-TTL:PT1H
BEGIN:VTIMEZONE
TZID:Europe/Riga
BEGIN:DAYLIGHT
TZOFFSETFROM:+0200
TZOFFSETTO:+0300
TZNAME:EEST
DTSTART:20260329T010000
END:DAYLIGHT
BEGIN:STANDARD
TZOFFSETFROM:+0300
TZOFFSETTO:+0200
TZNAME:EET
DTSTART:20261025T010000
END:STANDARD
END:VTIMEZONE
BEGIN:VEVENT
DTSTART;TZID=Europe/Riga:20260221T100000
DTEND;TZID=Europe/Riga:20260221T170000
DTSTAMP:20260422T190957
CREATED:20260219T140448Z
LAST-MODIFIED:20260219T140448Z
UID:25019-1771668000-1771693200@sports.tukums.lv
SUMMARY:18. Arņa Kraukļa piemiņas kauss
DESCRIPTION:Jau drīz!!! Laipni lūgti\nComing soon!!! Welcome\nReğistrācija šeit https://kumitetechnology.com/en/tournament/508/\nRegistration https://kumitetechnology.com/en/tournament/508/
URL:https://sports.tukums.lv/event/18-arna-kraukla-pieminas-kauss/
LOCATION:Tukuma sporta hallē\, Pauzera iela 7
CATEGORIES:Cīņas sports
ATTACH;FMTTYPE=image/jpeg:https://sports.tukums.lv/wp-content/uploads/2026/02/627680171_1351317457012813_4901482712857466251_n.jpg
END:VEVENT
END:VCALENDAR