BEGIN:VCALENDAR
VERSION:2.0
PRODID:-//Sports Tukuma novadā - ECPv5.14.2.1//NONSGML v1.0//EN
CALSCALE:GREGORIAN
METHOD:PUBLISH
X-WR-CALNAME:Sports Tukuma novadā
X-ORIGINAL-URL:https://sports.tukums.lv
X-WR-CALDESC:Events for Sports Tukuma novadā
REFRESH-INTERVAL;VALUE=DURATION:PT1H
X-Robots-Tag:noindex
X-PUBLISHED-TTL:PT1H
BEGIN:VTIMEZONE
TZID:Europe/Riga
BEGIN:DAYLIGHT
TZOFFSETFROM:+0200
TZOFFSETTO:+0300
TZNAME:EEST
DTSTART:20240331T010000
END:DAYLIGHT
BEGIN:STANDARD
TZOFFSETFROM:+0300
TZOFFSETTO:+0200
TZNAME:EET
DTSTART:20241027T010000
END:STANDARD
END:VTIMEZONE
BEGIN:VEVENT
DTSTART;TZID=Europe/Riga:20240901T170000
DTEND;TZID=Europe/Riga:20240901T190000
DTSTAMP:20260421T140920
CREATED:20240604T135902Z
LAST-MODIFIED:20240604T135902Z
UID:13391-1725210000-1725217200@sports.tukums.lv
SUMMARY:FK Liepāja - FK Tukums 2000/Telms
DESCRIPTION:Futbola virslīgas spēle
URL:https://sports.tukums.lv/event/fk-liepaja-fk-tukums-2000-telms-4/
CATEGORIES:Futbols
END:VEVENT
BEGIN:VEVENT
DTSTART;TZID=Europe/Riga:20240907T123000
DTEND;TZID=Europe/Riga:20240907T140000
DTSTAMP:20260421T140920
CREATED:20240901T164205Z
LAST-MODIFIED:20240901T164205Z
UID:14194-1725712200-1725717600@sports.tukums.lv
SUMMARY:S.1.līga: Skanstes SK - FK Tukums 2000/FC Talsi
DESCRIPTION:
URL:https://sports.tukums.lv/event/s-1-liga-skanstes-sk-fk-tukums-2000-fc-talsi/
CATEGORIES:Futbols
END:VEVENT
BEGIN:VEVENT
DTSTART;TZID=Europe/Riga:20240907T170000
DTEND;TZID=Europe/Riga:20240907T190000
DTSTAMP:20260421T140920
CREATED:20240901T163656Z
LAST-MODIFIED:20240901T163656Z
UID:14188-1725728400-1725735600@sports.tukums.lv
SUMMARY:3.līga: FK Tukums 2000-3 - FC Talsi/NSS
DESCRIPTION:Dali Dali 3.līgas spēle
URL:https://sports.tukums.lv/event/3-liga-fk-tukums-2000-3-fc-talsi-nss/
LOCATION:Mākslīgā seguma futbola laukums “Pauzera pļavas”\, Tukums\, Latvija
CATEGORIES:Futbols
END:VEVENT
BEGIN:VEVENT
DTSTART;TZID=Europe/Riga:20240914T160000
DTEND;TZID=Europe/Riga:20240914T180000
DTSTAMP:20260421T140920
CREATED:20240801T074131Z
LAST-MODIFIED:20240801T074131Z
UID:13894-1726329600-1726336800@sports.tukums.lv
SUMMARY:1.līga: FK Tukums 2000-2/TSS - Ogre United
DESCRIPTION:Nākotnes līgas spēle!
URL:https://sports.tukums.lv/event/1-liga-fk-tukums-2000-2-tss-ogre-united/
LOCATION:Mākslīgā seguma futbola laukums “Pauzera pļavas”\, Tukums\, Latvija
CATEGORIES:Futbols
END:VEVENT
BEGIN:VEVENT
DTSTART;TZID=Europe/Riga:20240915T140000
DTEND;TZID=Europe/Riga:20240915T163000
DTSTAMP:20260421T140920
CREATED:20240801T071426Z
LAST-MODIFIED:20240801T071426Z
UID:13878-1726408800-1726417800@sports.tukums.lv
SUMMARY:FK Tukums 2000/Telms - FS Jelgava
DESCRIPTION:Futbola Virslīgas spēle
URL:https://sports.tukums.lv/event/fk-tukums-2000-telms-fs-jelgava-4/
LOCATION:Tukuma Sporta skolas stadions\, Kuldīgas 74\, Tukums\, Latvija
CATEGORIES:Futbols
END:VEVENT
BEGIN:VEVENT
DTSTART;TZID=Europe/Riga:20240915T140000
DTEND;TZID=Europe/Riga:20240915T163000
DTSTAMP:20260421T140920
CREATED:20240901T163841Z
LAST-MODIFIED:20240901T163841Z
UID:14190-1726408800-1726417800@sports.tukums.lv
SUMMARY:3.līga: Bauskas BJSS/Mēmele - FK Tukums 2000-3
DESCRIPTION:3.līgas spēle
URL:https://sports.tukums.lv/event/3-liga-bauskas-bjss-memele-fk-tukums-2000-3-2/
CATEGORIES:Futbols
END:VEVENT
BEGIN:VEVENT
DTSTART;TZID=Europe/Riga:20240921T140000
DTEND;TZID=Europe/Riga:20240921T163000
DTSTAMP:20260421T140920
CREATED:20240801T071859Z
LAST-MODIFIED:20240801T071859Z
UID:13880-1726927200-1726936200@sports.tukums.lv
SUMMARY:FK Tukums 2000/Telms - BFC Daugavpils
DESCRIPTION:Futbola Virslīgas spēle
URL:https://sports.tukums.lv/event/fk-tukums-2000-telms-bfc-daugavpils-4/
LOCATION:Tukuma Sporta skolas stadions\, Kuldīgas 74\, Tukums\, Latvija
CATEGORIES:Futbols
END:VEVENT
BEGIN:VEVENT
DTSTART;TZID=Europe/Riga:20240922T150000
DTEND;TZID=Europe/Riga:20240922T170000
DTSTAMP:20260421T140920
CREATED:20240801T074236Z
LAST-MODIFIED:20240801T074236Z
UID:13896-1727017200-1727024400@sports.tukums.lv
SUMMARY:SK Super Nova - FK Tukums 2000-2/TSS
DESCRIPTION:Nākotnes līgas spēle
URL:https://sports.tukums.lv/event/sk-super-nova-fk-tukums-2000-2-tss/
CATEGORIES:Futbols
END:VEVENT
BEGIN:VEVENT
DTSTART;TZID=Europe/Riga:20240922T170000
DTEND;TZID=Europe/Riga:20240922T190000
DTSTAMP:20260421T140920
CREATED:20240901T163955Z
LAST-MODIFIED:20240901T163955Z
UID:14192-1727024400-1727031600@sports.tukums.lv
SUMMARY:3.līga: FK Tukums 2000-3 - FK Iecava
DESCRIPTION:3.līgas spēle
URL:https://sports.tukums.lv/event/3-liga-fk-tukums-2000-3-fk-iecava-2/
LOCATION:Mākslīgā seguma futbola laukums “Pauzera pļavas”\, Tukums\, Latvija
CATEGORIES:Futbols
END:VEVENT
BEGIN:VEVENT
DTSTART;TZID=Europe/Riga:20240927T160000
DTEND;TZID=Europe/Riga:20240927T180000
DTSTAMP:20260421T140920
CREATED:20240801T074342Z
LAST-MODIFIED:20240801T074342Z
UID:13898-1727452800-1727460000@sports.tukums.lv
SUMMARY:1.līga: Riga FC-2 - FK Tukums 2000-2/TSS
DESCRIPTION:Nākotnes līgas spēle
URL:https://sports.tukums.lv/event/1-liga-riga-fc-2-fk-tukums-2000-2-tss/
CATEGORIES:Futbols
END:VEVENT
BEGIN:VEVENT
DTSTART;TZID=Europe/Riga:20240928T160000
DTEND;TZID=Europe/Riga:20240928T183000
DTSTAMP:20260421T140920
CREATED:20240801T072124Z
LAST-MODIFIED:20240801T072124Z
UID:13882-1727539200-1727548200@sports.tukums.lv
SUMMARY:Grobiņas SC/LFS - FK Tukums 2000/Telms
DESCRIPTION:Futbola Virslīgas spēle
URL:https://sports.tukums.lv/event/grobinas-sc-lfs-fk-tukums-2000-telms-2/
CATEGORIES:Futbols
END:VEVENT
END:VCALENDAR