BEGIN:VCALENDAR
VERSION:2.0
PRODID:-//Sports Tukuma novadā - ECPv5.14.2.1//NONSGML v1.0//EN
CALSCALE:GREGORIAN
METHOD:PUBLISH
X-WR-CALNAME:Sports Tukuma novadā
X-ORIGINAL-URL:https://sports.tukums.lv
X-WR-CALDESC:Events for Sports Tukuma novadā
REFRESH-INTERVAL;VALUE=DURATION:PT1H
X-Robots-Tag:noindex
X-PUBLISHED-TTL:PT1H
BEGIN:VTIMEZONE
TZID:Europe/Riga
BEGIN:DAYLIGHT
TZOFFSETFROM:+0200
TZOFFSETTO:+0300
TZNAME:EEST
DTSTART:20240331T010000
END:DAYLIGHT
BEGIN:STANDARD
TZOFFSETFROM:+0300
TZOFFSETTO:+0200
TZNAME:EET
DTSTART:20241027T010000
END:STANDARD
END:VTIMEZONE
BEGIN:VEVENT
DTSTART;TZID=Europe/Riga:20241005T154500
DTEND;TZID=Europe/Riga:20241005T173000
DTSTAMP:20260421T113607
CREATED:20240801T074444Z
LAST-MODIFIED:20241004T090732Z
UID:13900-1728143100-1728149400@sports.tukums.lv
SUMMARY:1.līga: Skanstes SK - FK Tukums 2000-2/TSS
DESCRIPTION:Nākotnes līgas spēle
URL:https://sports.tukums.lv/event/1-liga-skanstes-sk-fk-tukums-2000-2-tss/
CATEGORIES:Futbols
END:VEVENT
BEGIN:VEVENT
DTSTART;TZID=Europe/Riga:20241006T150000
DTEND;TZID=Europe/Riga:20241006T173000
DTSTAMP:20260421T113607
CREATED:20240801T073254Z
LAST-MODIFIED:20240801T073254Z
UID:13884-1728226800-1728235800@sports.tukums.lv
SUMMARY:FK Tukums 2000/Telms - FK Metta
DESCRIPTION:Futbola Virslīgas spēle
URL:https://sports.tukums.lv/event/fk-tukums-2000-telms-fk-metta-3/
LOCATION:Tukuma Sporta skolas stadions\, Kuldīgas 74\, Tukums\, Latvija
CATEGORIES:Futbols
END:VEVENT
BEGIN:VEVENT
DTSTART;TZID=Europe/Riga:20241019T190000
DTEND;TZID=Europe/Riga:20241019T210000
DTSTAMP:20260421T113607
CREATED:20240801T074550Z
LAST-MODIFIED:20241004T090905Z
UID:13902-1729364400-1729371600@sports.tukums.lv
SUMMARY:1.līga: JDFS Alberts - FK Tukums 2000-2/TSS
DESCRIPTION:Nākotnes līgas spēle
URL:https://sports.tukums.lv/event/1-liga-jdfs-alberts-fk-tukums-2000-2-tss-2/
CATEGORIES:Futbols
END:VEVENT
BEGIN:VEVENT
DTSTART;TZID=Europe/Riga:20241020T160000
DTEND;TZID=Europe/Riga:20241020T180000
DTSTAMP:20260421T113607
CREATED:20240801T073357Z
LAST-MODIFIED:20241004T090514Z
UID:13886-1729440000-1729447200@sports.tukums.lv
SUMMARY:FC RFS - FK Tukums 2000/Telms
DESCRIPTION:Futbola Virslīgas spēle
URL:https://sports.tukums.lv/event/fc-rfs-fk-tukums-2000-telms/
CATEGORIES:Futbols
END:VEVENT
BEGIN:VEVENT
DTSTART;TZID=Europe/Riga:20241027T140000
DTEND;TZID=Europe/Riga:20241027T163000
DTSTAMP:20260421T113607
CREATED:20240801T073511Z
LAST-MODIFIED:20240801T073511Z
UID:13888-1730037600-1730046600@sports.tukums.lv
SUMMARY:Riga FC - FK Tukums 2000/Telms
DESCRIPTION:Futbola Virslīgas spēle
URL:https://sports.tukums.lv/event/riga-fc-fk-tukums-2000-telms-5/
CATEGORIES:Futbols
END:VEVENT
BEGIN:VEVENT
DTSTART;TZID=Europe/Riga:20241028T193000
DTEND;TZID=Europe/Riga:20241028T213000
DTSTAMP:20260421T113607
CREATED:20240801T074726Z
LAST-MODIFIED:20240801T074726Z
UID:13904-1730143800-1730151000@sports.tukums.lv
SUMMARY:1.līga: Leevon PPK - FK Tukums 2000-2/TSS
DESCRIPTION:Nākotnes līgas spēle
URL:https://sports.tukums.lv/event/1-liga-leevon-ppk-fk-tukums-2000-2-tss/
CATEGORIES:Futbols
END:VEVENT
END:VCALENDAR