BEGIN:VCALENDAR
VERSION:2.0
PRODID:-//Sports Tukuma novadā - ECPv5.14.2.1//NONSGML v1.0//EN
CALSCALE:GREGORIAN
METHOD:PUBLISH
X-WR-CALNAME:Sports Tukuma novadā
X-ORIGINAL-URL:https://sports.tukums.lv
X-WR-CALDESC:Events for Sports Tukuma novadā
REFRESH-INTERVAL;VALUE=DURATION:PT1H
X-Robots-Tag:noindex
X-PUBLISHED-TTL:PT1H
BEGIN:VTIMEZONE
TZID:Europe/Riga
BEGIN:DAYLIGHT
TZOFFSETFROM:+0200
TZOFFSETTO:+0300
TZNAME:EEST
DTSTART:20240331T010000
END:DAYLIGHT
BEGIN:STANDARD
TZOFFSETFROM:+0300
TZOFFSETTO:+0200
TZNAME:EET
DTSTART:20241027T010000
END:STANDARD
END:VTIMEZONE
BEGIN:VEVENT
DTSTART;TZID=Europe/Riga:20241109T130000
DTEND;TZID=Europe/Riga:20241109T153000
DTSTAMP:20260421T204855
CREATED:20240801T073814Z
LAST-MODIFIED:20240801T073814Z
UID:13892-1731157200-1731166200@sports.tukums.lv
SUMMARY:Valmiera FC - FK Tukums 2000/Telms
DESCRIPTION:Futbola Virslīgas spēle
URL:https://sports.tukums.lv/event/valmiera-fc-fk-tukums-2000-telms-4/
CATEGORIES:Futbols
END:VEVENT
END:VCALENDAR