BEGIN:VCALENDAR
VERSION:2.0
PRODID:-//Sports Tukuma novadā - ECPv5.14.2.1//NONSGML v1.0//EN
CALSCALE:GREGORIAN
METHOD:PUBLISH
X-WR-CALNAME:Sports Tukuma novadā
X-ORIGINAL-URL:https://sports.tukums.lv
X-WR-CALDESC:Events for Sports Tukuma novadā
REFRESH-INTERVAL;VALUE=DURATION:PT1H
X-Robots-Tag:noindex
X-PUBLISHED-TTL:PT1H
BEGIN:VTIMEZONE
TZID:Europe/Riga
BEGIN:DAYLIGHT
TZOFFSETFROM:+0200
TZOFFSETTO:+0300
TZNAME:EEST
DTSTART:20240331T010000
END:DAYLIGHT
BEGIN:STANDARD
TZOFFSETFROM:+0300
TZOFFSETTO:+0200
TZNAME:EET
DTSTART:20241027T010000
END:STANDARD
END:VTIMEZONE
BEGIN:VEVENT
DTSTART;TZID=Europe/Riga:20241113T200000
DTEND;TZID=Europe/Riga:20241113T213000
DTSTAMP:20260421T112433
CREATED:20241111T053840Z
LAST-MODIFIED:20241111T053840Z
UID:15642-1731528000-1731533400@sports.tukums.lv
SUMMARY:Pārspēle: FK Salaspils - FK Tukums 2000-2/TSS
DESCRIPTION:Pārspēle par vietas saglabāšanu 1.līgā.
URL:https://sports.tukums.lv/event/parspele-fk-salaspils-fk-tukums-2000-2-tss/
CATEGORIES:Futbols
END:VEVENT
END:VCALENDAR