BEGIN:VCALENDAR
VERSION:2.0
PRODID:-//Sports Tukuma novadā - ECPv5.14.2.1//NONSGML v1.0//EN
CALSCALE:GREGORIAN
METHOD:PUBLISH
X-WR-CALNAME:Sports Tukuma novadā
X-ORIGINAL-URL:https://sports.tukums.lv
X-WR-CALDESC:Events for Sports Tukuma novadā
REFRESH-INTERVAL;VALUE=DURATION:PT1H
X-Robots-Tag:noindex
X-PUBLISHED-TTL:PT1H
BEGIN:VTIMEZONE
TZID:Europe/Riga
BEGIN:DAYLIGHT
TZOFFSETFROM:+0200
TZOFFSETTO:+0300
TZNAME:EEST
DTSTART:20250330T010000
END:DAYLIGHT
BEGIN:STANDARD
TZOFFSETFROM:+0300
TZOFFSETTO:+0200
TZNAME:EET
DTSTART:20251026T010000
END:STANDARD
END:VTIMEZONE
BEGIN:VEVENT
DTSTART;TZID=Europe/Riga:20250307T173000
DTEND;TZID=Europe/Riga:20250307T190000
DTSTAMP:20260420T124611
CREATED:20250224T122806Z
LAST-MODIFIED:20250224T122806Z
UID:17989-1741368600-1741374000@sports.tukums.lv
SUMMARY:BFC Daugavpils - FK Tukums 2000/Telms
DESCRIPTION:Futbola Virslīgas spēle
URL:https://sports.tukums.lv/event/bfc-daugavpils-fk-tukums-2000-telms-5/
CATEGORIES:Futbols
END:VEVENT
END:VCALENDAR