BEGIN:VCALENDAR
VERSION:2.0
PRODID:-//Sports Tukuma novadā - ECPv5.14.2.1//NONSGML v1.0//EN
CALSCALE:GREGORIAN
METHOD:PUBLISH
X-WR-CALNAME:Sports Tukuma novadā
X-ORIGINAL-URL:https://sports.tukums.lv
X-WR-CALDESC:Events for Sports Tukuma novadā
REFRESH-INTERVAL;VALUE=DURATION:PT1H
X-Robots-Tag:noindex
X-PUBLISHED-TTL:PT1H
BEGIN:VTIMEZONE
TZID:Europe/Riga
BEGIN:DAYLIGHT
TZOFFSETFROM:+0200
TZOFFSETTO:+0300
TZNAME:EEST
DTSTART:20250330T010000
END:DAYLIGHT
BEGIN:STANDARD
TZOFFSETFROM:+0300
TZOFFSETTO:+0200
TZNAME:EET
DTSTART:20251026T010000
END:STANDARD
END:VTIMEZONE
BEGIN:VEVENT
DTSTART;TZID=Europe/Riga:20250331T170000
DTEND;TZID=Europe/Riga:20250331T190000
DTSTAMP:20260420T200742
CREATED:20250320T083236Z
LAST-MODIFIED:20250320T083236Z
UID:18630-1743440400-1743447600@sports.tukums.lv
SUMMARY:FK Tukums 2000 - SK Super Nova
DESCRIPTION:Futbola virslīga
URL:https://sports.tukums.lv/event/fk-tukums-2000-sk-super-nova/
LOCATION:Mākslīgā seguma futbola laukums “Pauzera pļavas”\, Tukums\, Latvija
CATEGORIES:Futbols
END:VEVENT
END:VCALENDAR