BEGIN:VCALENDAR
VERSION:2.0
PRODID:-//Sports Tukuma novadā - ECPv5.14.2.1//NONSGML v1.0//EN
CALSCALE:GREGORIAN
METHOD:PUBLISH
X-WR-CALNAME:Sports Tukuma novadā
X-ORIGINAL-URL:https://sports.tukums.lv
X-WR-CALDESC:Events for Sports Tukuma novadā
REFRESH-INTERVAL;VALUE=DURATION:PT1H
X-Robots-Tag:noindex
X-PUBLISHED-TTL:PT1H
BEGIN:VTIMEZONE
TZID:Europe/Riga
BEGIN:DAYLIGHT
TZOFFSETFROM:+0200
TZOFFSETTO:+0300
TZNAME:EEST
DTSTART:20250330T010000
END:DAYLIGHT
BEGIN:STANDARD
TZOFFSETFROM:+0300
TZOFFSETTO:+0200
TZNAME:EET
DTSTART:20251026T010000
END:STANDARD
END:VTIMEZONE
BEGIN:VEVENT
DTSTART;TZID=Europe/Riga:20250426T173000
DTEND;TZID=Europe/Riga:20250426T193000
DTSTAMP:20260421T003935
CREATED:20250320T084353Z
LAST-MODIFIED:20250320T084353Z
UID:18652-1745688600-1745695800@sports.tukums.lv
SUMMARY:1.līga: Ogre United - FK Tukums 2000-2/TSS
DESCRIPTION:Futbola 1.līga
URL:https://sports.tukums.lv/event/1-liga-ogre-united-fk-tukums-2000-2-tss-2/
CATEGORIES:Futbols
END:VEVENT
END:VCALENDAR