BEGIN:VCALENDAR
VERSION:2.0
PRODID:-//Sports Tukuma novadā - ECPv5.14.2.1//NONSGML v1.0//EN
CALSCALE:GREGORIAN
METHOD:PUBLISH
X-WR-CALNAME:Sports Tukuma novadā
X-ORIGINAL-URL:https://sports.tukums.lv
X-WR-CALDESC:Events for Sports Tukuma novadā
REFRESH-INTERVAL;VALUE=DURATION:PT1H
X-Robots-Tag:noindex
X-PUBLISHED-TTL:PT1H
BEGIN:VTIMEZONE
TZID:Europe/Riga
BEGIN:DAYLIGHT
TZOFFSETFROM:+0200
TZOFFSETTO:+0300
TZNAME:EEST
DTSTART:20260329T010000
END:DAYLIGHT
BEGIN:STANDARD
TZOFFSETFROM:+0300
TZOFFSETTO:+0200
TZNAME:EET
DTSTART:20261025T010000
END:STANDARD
END:VTIMEZONE
BEGIN:VEVENT
DTSTART;TZID=Europe/Riga:20260421T180000
DTEND;TZID=Europe/Riga:20260421T200000
DTSTAMP:20260420T195432
CREATED:20260323T113414Z
LAST-MODIFIED:20260323T113414Z
UID:25782-1776794400-1776801600@sports.tukums.lv
SUMMARY:Vlīga: FK Tukums 2000 - BFC Daugavpils
DESCRIPTION:Futbola virslīgas spēle
URL:https://sports.tukums.lv/event/vliga-fk-tukums-2000-bfc-daugavpils/
LOCATION:Mākslīgā seguma futbola laukums “Pauzera pļavas”\, Tukums\, Latvija
CATEGORIES:Futbols
END:VEVENT
BEGIN:VEVENT
DTSTART;TZID=Europe/Riga:20260426T140000
DTEND;TZID=Europe/Riga:20260426T160000
DTSTAMP:20260420T195432
CREATED:20260323T113516Z
LAST-MODIFIED:20260323T113516Z
UID:25784-1777212000-1777219200@sports.tukums.lv
SUMMARY:Vlīga: FK Auda - FK Tukums 2000
DESCRIPTION:Futbola virslīgas spēle
URL:https://sports.tukums.lv/event/vliga-fk-auda-fk-tukums-2000/
LOCATION:Rīga
CATEGORIES:Futbols
END:VEVENT
BEGIN:VEVENT
DTSTART;TZID=Europe/Riga:20260427T180000
DTEND;TZID=Europe/Riga:20260427T200000
DTSTAMP:20260420T195432
CREATED:20260323T113932Z
LAST-MODIFIED:20260323T113932Z
UID:25790-1777312800-1777320000@sports.tukums.lv
SUMMARY:1.līga: FK Tukums 2000-2/TSS - Skanstes SK
DESCRIPTION:Futbola 1.līgas spēle
URL:https://sports.tukums.lv/event/1-liga-fk-tukums-2000-2-tss-skanstes-sk-3/
LOCATION:Mākslīgā seguma futbola laukums “Pauzera pļavas”\, Tukums\, Latvija
CATEGORIES:Futbols
END:VEVENT
BEGIN:VEVENT
DTSTART;TZID=Europe/Riga:20260531T140000
DTEND;TZID=Europe/Riga:20260531T160000
DTSTAMP:20260420T195432
CREATED:20260317T121558Z
LAST-MODIFIED:20260328T104140Z
UID:25613-1780236000-1780243200@sports.tukums.lv
SUMMARY:1.līga: JDFS Alberts - FK Tukums 2000-2/TSS
DESCRIPTION:Futbola 1.līgas spēle
URL:https://sports.tukums.lv/event/1-liga-jdfs-alberts-fk-tukums-2000-2-tss-4/
CATEGORIES:Futbols
END:VEVENT
END:VCALENDAR