BEGIN:VCALENDAR
VERSION:2.0
PRODID:-//Sports Tukuma novadā - ECPv5.14.2.1//NONSGML v1.0//EN
CALSCALE:GREGORIAN
METHOD:PUBLISH
X-WR-CALNAME:Sports Tukuma novadā
X-ORIGINAL-URL:https://sports.tukums.lv
X-WR-CALDESC:Events for Sports Tukuma novadā
REFRESH-INTERVAL;VALUE=DURATION:PT1H
X-Robots-Tag:noindex
X-PUBLISHED-TTL:PT1H
BEGIN:VTIMEZONE
TZID:Europe/Riga
BEGIN:DAYLIGHT
TZOFFSETFROM:+0200
TZOFFSETTO:+0300
TZNAME:EEST
DTSTART:20250330T010000
END:DAYLIGHT
BEGIN:STANDARD
TZOFFSETFROM:+0300
TZOFFSETTO:+0200
TZNAME:EET
DTSTART:20251026T010000
END:STANDARD
END:VTIMEZONE
BEGIN:VEVENT
DTSTART;TZID=Europe/Riga:20251228T100000
DTEND;TZID=Europe/Riga:20251228T160000
DTSTAMP:20260421T002809
CREATED:20251217T115238Z
LAST-MODIFIED:20251217T115238Z
UID:23460-1766916000-1766937600@sports.tukums.lv
SUMMARY:TF: Telpu futbola čempionāta 3.sabraukums
DESCRIPTION:3.kārta\n\n\n\n\n\n\n28.12.\nSvētdiena\n10:00\nTukuma halle\nOffside FC – Kandava\n\n\n28.12.\nSvētdiena\n10:50\nTukuma halle\nFS LLT – FK Process\n\n\n28.12.\nSvētdiena\n11:40\nTukuma halle\nKandava – SK Pūre\n\n\n28.12.\nSvētdiena\n12:30\nTukuma halle\nUganda – Offside FC\n\n\n28.12.\nSvētdiena\n13:20\nTukuma halle\nTFK Melnis – FS LLT\n\n\n28.12.\nSvētdiena\n14:10\nTukuma halle\nFK Process – Uganda\n\n\n28.12.\nSvētdiena\n15:00\nTukuma halle\nSK Pūre – TFK Melnis
URL:https://sports.tukums.lv/event/tf-telpu-futbola-cempionata-3-sabraukums/
LOCATION:Tukuma sporta hallē\, Pauzera iela 7
CATEGORIES:Futbols,Novads futbols,Telpu futbols
END:VEVENT
BEGIN:VEVENT
DTSTART;TZID=Europe/Riga:20251206T160000
DTEND;TZID=Europe/Riga:20251206T180000
DTSTAMP:20260421T002809
CREATED:20251205T054922Z
LAST-MODIFIED:20251205T054922Z
UID:23167-1765036800-1765044000@sports.tukums.lv
SUMMARY:Leģendu spēle - Šerifam 60!
DESCRIPTION:
URL:https://sports.tukums.lv/event/legendu-spele-serifam-60/
LOCATION:Engures vidusskola\, Engures vidusskola
CATEGORIES:Futbols
ATTACH;FMTTYPE=image/jpeg:https://sports.tukums.lv/wp-content/uploads/2025/12/592578233_1178061534457623_4473102393445123160_n.jpg
END:VEVENT
BEGIN:VEVENT
DTSTART;TZID=Europe/Riga:20251109T130000
DTEND;TZID=Europe/Riga:20251109T150000
DTSTAMP:20260421T002809
CREATED:20250721T160949Z
LAST-MODIFIED:20250721T160949Z
UID:20516-1762693200-1762700400@sports.tukums.lv
SUMMARY:FK Tukums 2000 - FS Jelgava
DESCRIPTION:Futbola virslīgas spēle
URL:https://sports.tukums.lv/event/fk-tukums-2000-fs-jelgava-2/
LOCATION:Mākslīgā seguma futbola laukums “Pauzera pļavas”\, Tukums\, Latvija
CATEGORIES:Futbols
END:VEVENT
BEGIN:VEVENT
DTSTART;TZID=Europe/Riga:20251108T130000
DTEND;TZID=Europe/Riga:20251108T150000
DTSTAMP:20260421T002809
CREATED:20250721T162046Z
LAST-MODIFIED:20250721T162046Z
UID:20533-1762606800-1762614000@sports.tukums.lv
SUMMARY:1.līga: Skanstes SK - FK Tukums 2000-2/TSS
DESCRIPTION:Futbola 1.līga
URL:https://sports.tukums.lv/event/1-liga-skanstes-sk-fk-tukums-2000-2-tss-2/
CATEGORIES:Futbols
END:VEVENT
BEGIN:VEVENT
DTSTART;TZID=Europe/Riga:20251107T203000
DTEND;TZID=Europe/Riga:20251107T220000
DTSTAMP:20260421T002809
CREATED:20251102T113448Z
LAST-MODIFIED:20251102T113448Z
UID:22282-1762547400-1762552800@sports.tukums.lv
SUMMARY:ML: Offside FC - TFK Lions
DESCRIPTION:Mediju līgas telpu futbola spēle
URL:https://sports.tukums.lv/event/ml-offside-fc-tfk-lions/
LOCATION:Tukuma sporta hallē\, Pauzera iela 7
CATEGORIES:Futbols
END:VEVENT
BEGIN:VEVENT
DTSTART;TZID=Europe/Riga:20251102T180000
DTEND;TZID=Europe/Riga:20251102T200000
DTSTAMP:20260421T002809
CREATED:20251026T121043Z
LAST-MODIFIED:20251026T121043Z
UID:22068-1762106400-1762113600@sports.tukums.lv
SUMMARY:ML: Offside FC - TFK Melnis
DESCRIPTION:Mediju līgas spēle – telpu futbols
URL:https://sports.tukums.lv/event/ml-offside-fc-tfk-melnis/
LOCATION:Tukuma sporta hallē\, Pauzera iela 7
CATEGORIES:Futbols
END:VEVENT
BEGIN:VEVENT
DTSTART;TZID=Europe/Riga:20251102T130000
DTEND;TZID=Europe/Riga:20251102T150000
DTSTAMP:20260421T002809
CREATED:20250721T160854Z
LAST-MODIFIED:20250721T160854Z
UID:20514-1762088400-1762095600@sports.tukums.lv
SUMMARY:FK Auda - FK Tukums 2000
DESCRIPTION:Futbola virslīgas spēle
URL:https://sports.tukums.lv/event/fk-auda-fk-tukums-2000-2/
CATEGORIES:Futbols
END:VEVENT
BEGIN:VEVENT
DTSTART;TZID=Europe/Riga:20251101T130000
DTEND;TZID=Europe/Riga:20251101T150000
DTSTAMP:20260421T002809
CREATED:20250721T161946Z
LAST-MODIFIED:20250721T161946Z
UID:20531-1762002000-1762009200@sports.tukums.lv
SUMMARY:1.līga: FK Tukums 2000-2/TSS - Riga FC-2
DESCRIPTION:Futbola 1.līga
URL:https://sports.tukums.lv/event/1-liga-fk-tukums-2000-2-tss-riga-fc-2-2/
LOCATION:Mākslīgā seguma futbola laukums “Pauzera pļavas”\, Tukums\, Latvija
CATEGORIES:Futbols
END:VEVENT
BEGIN:VEVENT
DTSTART;TZID=Europe/Riga:20251025T130000
DTEND;TZID=Europe/Riga:20251025T150000
DTSTAMP:20260421T002809
CREATED:20250721T161848Z
LAST-MODIFIED:20250721T161848Z
UID:20529-1761397200-1761404400@sports.tukums.lv
SUMMARY:1.līga: JDFS Alberts - FK Tukums 2000-2/TSS
DESCRIPTION:Futbola 1.līga
URL:https://sports.tukums.lv/event/1-liga-jdfs-alberts-fk-tukums-2000-2-tss-3/
CATEGORIES:Futbols
END:VEVENT
BEGIN:VEVENT
DTSTART;TZID=Europe/Riga:20251024T180000
DTEND;TZID=Europe/Riga:20251024T200000
DTSTAMP:20260421T002809
CREATED:20250721T160802Z
LAST-MODIFIED:20250721T160802Z
UID:20512-1761328800-1761336000@sports.tukums.lv
SUMMARY:Riga FC - FK Tukums 2000
DESCRIPTION:Futbola virslīgas spēle
URL:https://sports.tukums.lv/event/riga-fc-fk-tukums-2000-2/
CATEGORIES:Futbols
END:VEVENT
BEGIN:VEVENT
DTSTART;TZID=Europe/Riga:20251020T180000
DTEND;TZID=Europe/Riga:20251020T200000
DTSTAMP:20260421T002809
CREATED:20250721T161750Z
LAST-MODIFIED:20250721T161750Z
UID:20527-1760983200-1760990400@sports.tukums.lv
SUMMARY:1.līga: FK Tukums 2000-2/TSS - FC RFS-2
DESCRIPTION:Futbola 1.līga
URL:https://sports.tukums.lv/event/1-liga-fk-tukums-2000-2-tss-fc-rfs-2/
LOCATION:Mākslīgā seguma futbola laukums “Pauzera pļavas”\, Tukums\, Latvija
CATEGORIES:Futbols
END:VEVENT
BEGIN:VEVENT
DTSTART;TZID=Europe/Riga:20251019T130000
DTEND;TZID=Europe/Riga:20251019T150000
DTSTAMP:20260421T002809
CREATED:20250721T160711Z
LAST-MODIFIED:20250721T160711Z
UID:20510-1760878800-1760886000@sports.tukums.lv
SUMMARY:FK Tukums 2000 - FC RFS
DESCRIPTION:Futbola virslīgas spēle
URL:https://sports.tukums.lv/event/fk-tukums-2000-fc-rfs-2/
LOCATION:Tukuma Sporta skolas stadions\, Kuldīgas 74\, Tukums\, Latvija
CATEGORIES:Futbols
END:VEVENT
BEGIN:VEVENT
DTSTART;TZID=Europe/Riga:20251005T180000
DTEND;TZID=Europe/Riga:20251005T200000
DTSTAMP:20260421T002809
CREATED:20250721T161653Z
LAST-MODIFIED:20250721T161653Z
UID:20525-1759687200-1759694400@sports.tukums.lv
SUMMARY:1.līga: FK Smiltene/BJSS - FK Tukums 2000-2/TSS
DESCRIPTION:Futbola 1.līga
URL:https://sports.tukums.lv/event/1-liga-fk-smiltene-bjss-fk-tukums-2000-2-tss-2/
CATEGORIES:Futbols
END:VEVENT
BEGIN:VEVENT
DTSTART;TZID=Europe/Riga:20251004T150000
DTEND;TZID=Europe/Riga:20251004T170000
DTSTAMP:20260421T002809
CREATED:20250721T160607Z
LAST-MODIFIED:20251004T110746Z
UID:20508-1759590000-1759597200@sports.tukums.lv
SUMMARY:FK Grobiņa - FK Tukums 2000
DESCRIPTION:Futbola virslīgas spēle
URL:https://sports.tukums.lv/event/fk-grobina-fk-tukums-2000-2/
CATEGORIES:Futbols
END:VEVENT
BEGIN:VEVENT
DTSTART;TZID=Europe/Riga:20250928T160000
DTEND;TZID=Europe/Riga:20250928T180000
DTSTAMP:20260421T002809
CREATED:20250721T160519Z
LAST-MODIFIED:20250721T160519Z
UID:20506-1759075200-1759082400@sports.tukums.lv
SUMMARY:FK Tukums 2000 - SK Super Nova
DESCRIPTION:Futbola virslīgas spēle
URL:https://sports.tukums.lv/event/fk-tukums-2000-sk-super-nova-2/
LOCATION:Tukuma Sporta skolas stadions\, Kuldīgas 74\, Tukums\, Latvija
CATEGORIES:Futbols
END:VEVENT
BEGIN:VEVENT
DTSTART;TZID=Europe/Riga:20250926T190000
DTEND;TZID=Europe/Riga:20250926T210000
DTSTAMP:20260421T002809
CREATED:20250721T161558Z
LAST-MODIFIED:20250721T161558Z
UID:20523-1758913200-1758920400@sports.tukums.lv
SUMMARY:1.līga: FK Tukums 2000-2/TSS - Riga Mariners
DESCRIPTION:Futbola 1.līga
URL:https://sports.tukums.lv/event/1-liga-fk-tukums-2000-2-tss-riga-mariners/
LOCATION:Mākslīgā seguma futbola laukums “Pauzera pļavas”\, Tukums\, Latvija
CATEGORIES:Futbols
END:VEVENT
BEGIN:VEVENT
DTSTART;TZID=Europe/Riga:20250921T180000
DTEND;TZID=Europe/Riga:20250921T200000
DTSTAMP:20260421T002809
CREATED:20250721T162656Z
LAST-MODIFIED:20250721T162656Z
UID:20539-1758477600-1758484800@sports.tukums.lv
SUMMARY:3.līga: FK Tukums 2000-3 - FK Iecava
DESCRIPTION:Futbola 1.līga
URL:https://sports.tukums.lv/event/3-liga-fk-tukums-2000-3-fk-iecava-3/
LOCATION:Mākslīgā seguma futbola laukums “Pauzera pļavas”\, Tukums\, Latvija
CATEGORIES:Futbols
END:VEVENT
BEGIN:VEVENT
DTSTART;TZID=Europe/Riga:20250921T150000
DTEND;TZID=Europe/Riga:20250921T170000
DTSTAMP:20260421T002809
CREATED:20250721T161456Z
LAST-MODIFIED:20250721T161456Z
UID:20521-1758466800-1758474000@sports.tukums.lv
SUMMARY:1.līga: Augšdaugavas NSS - FK Tukums 2000-2/TSS
DESCRIPTION:Futbola 1.līga
URL:https://sports.tukums.lv/event/1-liga-augsdaugavas-nss-fk-tukums-2000-2-tss/
CATEGORIES:Futbols
END:VEVENT
BEGIN:VEVENT
DTSTART;TZID=Europe/Riga:20250920T140000
DTEND;TZID=Europe/Riga:20250920T160000
DTSTAMP:20260421T002809
CREATED:20250721T160423Z
LAST-MODIFIED:20250721T160423Z
UID:20504-1758376800-1758384000@sports.tukums.lv
SUMMARY:FK Tukums 2000 - FK Metta
DESCRIPTION:Futbola virslīgas spēle
URL:https://sports.tukums.lv/event/fk-tukums-2000-fk-metta-2/
LOCATION:Tukuma Sporta skolas stadions\, Kuldīgas 74\, Tukums\, Latvija
CATEGORIES:Futbols
END:VEVENT
BEGIN:VEVENT
DTSTART;TZID=Europe/Riga:20250914T190000
DTEND;TZID=Europe/Riga:20250914T210000
DTSTAMP:20260421T002809
CREATED:20250721T160320Z
LAST-MODIFIED:20250721T160320Z
UID:20502-1757876400-1757883600@sports.tukums.lv
SUMMARY:FK Liepāja - FK Tukums 2000
DESCRIPTION:Futbola virslīgas spēle
URL:https://sports.tukums.lv/event/fk-liepaja-fk-tukums-2000/
CATEGORIES:Futbols
END:VEVENT
BEGIN:VEVENT
DTSTART;TZID=Europe/Riga:20250914T160000
DTEND;TZID=Europe/Riga:20250914T180000
DTSTAMP:20260421T002809
CREATED:20250721T163247Z
LAST-MODIFIED:20250721T163247Z
UID:20547-1757865600-1757872800@sports.tukums.lv
SUMMARY:S.1.līga: FC Talsi/Tukums - FK Sigulda
DESCRIPTION:Sieviešu futbola 1.līga
URL:https://sports.tukums.lv/event/s-1-liga-fc-talsi-tukums-fk-sigulda/
LOCATION:Talsi
CATEGORIES:Futbols
END:VEVENT
BEGIN:VEVENT
DTSTART;TZID=Europe/Riga:20250913T170000
DTEND;TZID=Europe/Riga:20250913T190000
DTSTAMP:20260421T002809
CREATED:20250721T161402Z
LAST-MODIFIED:20250721T161402Z
UID:20519-1757782800-1757790000@sports.tukums.lv
SUMMARY:1.līga: FK Tukums 2000-2/TSS - Rēzekne
DESCRIPTION:Futbola 1.līga
URL:https://sports.tukums.lv/event/1-liga-fk-tukums-2000-2-tss-rezekne-2/
LOCATION:Mākslīgā seguma futbola laukums “Pauzera pļavas”\, Tukums\, Latvija
CATEGORIES:Futbols
END:VEVENT
BEGIN:VEVENT
DTSTART;TZID=Europe/Riga:20250913T160000
DTEND;TZID=Europe/Riga:20250913T180000
DTSTAMP:20260421T002809
CREATED:20250721T162559Z
LAST-MODIFIED:20250721T162559Z
UID:20537-1757779200-1757786400@sports.tukums.lv
SUMMARY:3.līga: Bauskas BJSS/Mēmele - FK Tukums 2000-3
DESCRIPTION:Futbola 3.līga
URL:https://sports.tukums.lv/event/3-liga-bauskas-bjss-memele-fk-tukums-2000-3-3/
CATEGORIES:Futbols
END:VEVENT
BEGIN:VEVENT
DTSTART;TZID=Europe/Riga:20250906T150000
DTEND;TZID=Europe/Riga:20250906T170000
DTSTAMP:20260421T002809
CREATED:20250721T162504Z
LAST-MODIFIED:20250721T162504Z
UID:20535-1757170800-1757178000@sports.tukums.lv
SUMMARY:3.līga: FK Tukums 2000-3 - FK Liepāja/LFS-2
DESCRIPTION:Futbola 3.līga
URL:https://sports.tukums.lv/event/3-liga-fk-tukums-2000-3-fk-liepaja-lfs-2/
LOCATION:Mākslīgā seguma futbola laukums “Pauzera pļavas”\, Tukums\, Latvija
CATEGORIES:Futbols
END:VEVENT
BEGIN:VEVENT
DTSTART;TZID=Europe/Riga:20250905T180000
DTEND;TZID=Europe/Riga:20250905T200000
DTSTAMP:20260421T002809
CREATED:20250905T085709Z
LAST-MODIFIED:20250905T085709Z
UID:20991-1757095200-1757102400@sports.tukums.lv
SUMMARY:FK Tukums 2000 - Latvija U21 (pārbaudes spēle)
DESCRIPTION:Futbola pārbaudes spēle
URL:https://sports.tukums.lv/event/fk-tukums-2000-latvija-u21-parbaudes-spele/
LOCATION:Tukuma Sporta skolas stadions\, Kuldīgas 74\, Tukums\, Latvija
CATEGORIES:Futbols
END:VEVENT
BEGIN:VEVENT
DTSTART;TZID=Europe/Riga:20250831T140000
DTEND;TZID=Europe/Riga:20250831T160000
DTSTAMP:20260421T002809
CREATED:20250519T060905Z
LAST-MODIFIED:20250519T060905Z
UID:19964-1756648800-1756656000@sports.tukums.lv
SUMMARY:1.līga: FK Tukums 2000-2/TSS - Ogre United
DESCRIPTION:Nākotnes līgas spēle futbolā
URL:https://sports.tukums.lv/event/1-liga-fk-tukums-2000-2-tss-ogre-united-2/
LOCATION:Mākslīgā seguma futbola laukums “Pauzera pļavas”\, Tukums\, Latvija
CATEGORIES:Futbols
END:VEVENT
BEGIN:VEVENT
DTSTART;TZID=Europe/Riga:20250830T160000
DTEND;TZID=Europe/Riga:20250830T183000
DTSTAMP:20260421T002809
CREATED:20250519T055724Z
LAST-MODIFIED:20250519T055724Z
UID:19944-1756569600-1756578600@sports.tukums.lv
SUMMARY:FK Tukums 2000 - BFC Daugavpils
DESCRIPTION:Futbola Virslīgas spēle
URL:https://sports.tukums.lv/event/fk-tukums-2000-bfc-daugavpils-2/
LOCATION:Tukuma Sporta skolas stadions\, Kuldīgas 74\, Tukums\, Latvija
CATEGORIES:Futbols
END:VEVENT
BEGIN:VEVENT
DTSTART;TZID=Europe/Riga:20250824T100000
DTEND;TZID=Europe/Riga:20250824T170000
DTSTAMP:20260421T002809
CREATED:20250815T095741Z
LAST-MODIFIED:20250815T095741Z
UID:20778-1756029600-1756054800@sports.tukums.lv
SUMMARY:Kandavas futbola čempionāts 5x5\, 5.posms
DESCRIPTION:
URL:https://sports.tukums.lv/event/kandavas-futbola-cempionats-5x5-5-posms/
LOCATION:Kandava\, Kandava\, Kandava
CATEGORIES:Futbols
END:VEVENT
BEGIN:VEVENT
DTSTART;TZID=Europe/Riga:20250823T150000
DTEND;TZID=Europe/Riga:20250823T173000
DTSTAMP:20260421T002809
CREATED:20250519T055618Z
LAST-MODIFIED:20250519T055618Z
UID:19942-1755961200-1755970200@sports.tukums.lv
SUMMARY:FS Jelgava - FK Tukums 2000
DESCRIPTION:Futbola Virslīgas spēle
URL:https://sports.tukums.lv/event/fs-jelgava-fk-tukums-2000-2/
CATEGORIES:Futbols
END:VEVENT
BEGIN:VEVENT
DTSTART;TZID=Europe/Riga:20250822T180000
DTEND;TZID=Europe/Riga:20250822T200000
DTSTAMP:20260421T002809
CREATED:20250519T060801Z
LAST-MODIFIED:20250519T060801Z
UID:19962-1755885600-1755892800@sports.tukums.lv
SUMMARY:1.līga: JFK Ventspils - FK Tukums 2000-2/TSS
DESCRIPTION:Nākotnes līgas spēle futbolā
URL:https://sports.tukums.lv/event/1-liga-jfk-ventspils-fk-tukums-2000-2-tss-3/
CATEGORIES:Futbols
END:VEVENT
END:VCALENDAR