BEGIN:VCALENDAR
VERSION:2.0
PRODID:-//Sports Tukuma novadā - ECPv5.14.2.1//NONSGML v1.0//EN
CALSCALE:GREGORIAN
METHOD:PUBLISH
X-WR-CALNAME:Sports Tukuma novadā
X-ORIGINAL-URL:https://sports.tukums.lv
X-WR-CALDESC:Events for Sports Tukuma novadā
REFRESH-INTERVAL;VALUE=DURATION:PT1H
X-Robots-Tag:noindex
X-PUBLISHED-TTL:PT1H
BEGIN:VTIMEZONE
TZID:Europe/Riga
BEGIN:DAYLIGHT
TZOFFSETFROM:+0200
TZOFFSETTO:+0300
TZNAME:EEST
DTSTART:20250330T010000
END:DAYLIGHT
BEGIN:STANDARD
TZOFFSETFROM:+0300
TZOFFSETTO:+0200
TZNAME:EET
DTSTART:20251026T010000
END:STANDARD
END:VTIMEZONE
BEGIN:VEVENT
DTSTART;TZID=Europe/Riga:20250104T100000
DTEND;TZID=Europe/Riga:20250104T113000
DTSTAMP:20260425T154530
CREATED:20250102T103721Z
LAST-MODIFIED:20250102T103721Z
UID:16675-1735984800-1735990200@sports.tukums.lv
SUMMARY:FL: Irlava - Pūre
DESCRIPTION:Florbola čempionāta spēle
URL:https://sports.tukums.lv/event/fl-irlava-pure/
LOCATION:Engures vidusskola\, Engures vidusskola
CATEGORIES:Novads florbols
END:VEVENT
BEGIN:VEVENT
DTSTART;TZID=Europe/Riga:20250104T113000
DTEND;TZID=Europe/Riga:20250104T130000
DTSTAMP:20260425T154530
CREATED:20250102T103821Z
LAST-MODIFIED:20250102T103821Z
UID:16677-1735990200-1735995600@sports.tukums.lv
SUMMARY:FL: Slampe - Engures korsāri
DESCRIPTION:Florbola čempionāta spēle
URL:https://sports.tukums.lv/event/fl-slampe-engures-korsari/
LOCATION:Engures vidusskola\, Engures vidusskola
CATEGORIES:Novads florbols
END:VEVENT
BEGIN:VEVENT
DTSTART;TZID=Europe/Riga:20250104T130000
DTEND;TZID=Europe/Riga:20250104T143000
DTSTAMP:20260425T154530
CREATED:20250102T103919Z
LAST-MODIFIED:20250102T103919Z
UID:16679-1735995600-1736001000@sports.tukums.lv
SUMMARY:FL: Klapkalnciema zvejnieki - Užava (Kandava)
DESCRIPTION:Florbola čempionāta spēle
URL:https://sports.tukums.lv/event/fl-klapkalnciema-zvejnieki-uzava-kandava/
LOCATION:Engures vidusskola\, Engures vidusskola
CATEGORIES:Novads florbols
END:VEVENT
BEGIN:VEVENT
DTSTART;TZID=Europe/Riga:20250119T100000
DTEND;TZID=Europe/Riga:20250119T113000
DTSTAMP:20260425T154530
CREATED:20250113T102222Z
LAST-MODIFIED:20250113T102222Z
UID:16974-1737280800-1737286200@sports.tukums.lv
SUMMARY:FL: Slampe - Užava (Kandava)
DESCRIPTION:Florbola čempionāta spēle!
URL:https://sports.tukums.lv/event/fl-slampe-uzava-kandava/
LOCATION:Slampe
CATEGORIES:Novads florbols
END:VEVENT
BEGIN:VEVENT
DTSTART;TZID=Europe/Riga:20250119T113000
DTEND;TZID=Europe/Riga:20250119T130000
DTSTAMP:20260425T154530
CREATED:20250113T102311Z
LAST-MODIFIED:20250113T102311Z
UID:16976-1737286200-1737291600@sports.tukums.lv
SUMMARY:FL: Engures korsāri - Klapkalnciema zvejnieki
DESCRIPTION:Florbola čempionāta spēle!
URL:https://sports.tukums.lv/event/fl-engures-korsari-klapkalnciema-zvejnieki/
LOCATION:Slampe
CATEGORIES:Novads florbols
END:VEVENT
BEGIN:VEVENT
DTSTART;TZID=Europe/Riga:20250119T130000
DTEND;TZID=Europe/Riga:20250119T143000
DTSTAMP:20260425T154530
CREATED:20250113T102350Z
LAST-MODIFIED:20250113T102350Z
UID:16978-1737291600-1737297000@sports.tukums.lv
SUMMARY:FL: Smārde - Pūre
DESCRIPTION:Florbola čempionāta spēle!
URL:https://sports.tukums.lv/event/fl-smarde-pure/
LOCATION:Slampe
CATEGORIES:Novads florbols
END:VEVENT
BEGIN:VEVENT
DTSTART;TZID=Europe/Riga:20250125T100000
DTEND;TZID=Europe/Riga:20250125T113000
DTSTAMP:20260425T154530
CREATED:20250122T052139Z
LAST-MODIFIED:20250122T052139Z
UID:17185-1737799200-1737804600@sports.tukums.lv
SUMMARY:FL: Slampe - Smārde
DESCRIPTION:Florbola čempionāta spēle
URL:https://sports.tukums.lv/event/fl-slampe-smarde/
LOCATION:Slampe
CATEGORIES:Novads florbols
END:VEVENT
BEGIN:VEVENT
DTSTART;TZID=Europe/Riga:20250125T113000
DTEND;TZID=Europe/Riga:20250125T130000
DTSTAMP:20260425T154530
CREATED:20250122T052233Z
LAST-MODIFIED:20250122T052233Z
UID:17187-1737804600-1737810000@sports.tukums.lv
SUMMARY:FL: Irlava - Užava (Kandava)
DESCRIPTION:Florbola čempionāta spēle
URL:https://sports.tukums.lv/event/fl-irlava-uzava-kandava-2/
LOCATION:Slampe
CATEGORIES:Novads florbols
END:VEVENT
END:VCALENDAR