BEGIN:VCALENDAR
VERSION:2.0
PRODID:-//Sports Tukuma novadā - ECPv5.14.2.1//NONSGML v1.0//EN
CALSCALE:GREGORIAN
METHOD:PUBLISH
X-WR-CALNAME:Sports Tukuma novadā
X-ORIGINAL-URL:https://sports.tukums.lv
X-WR-CALDESC:Events for Sports Tukuma novadā
REFRESH-INTERVAL;VALUE=DURATION:PT1H
X-Robots-Tag:noindex
X-PUBLISHED-TTL:PT1H
BEGIN:VTIMEZONE
TZID:Europe/Riga
BEGIN:DAYLIGHT
TZOFFSETFROM:+0200
TZOFFSETTO:+0300
TZNAME:EEST
DTSTART:20250330T010000
END:DAYLIGHT
BEGIN:STANDARD
TZOFFSETFROM:+0300
TZOFFSETTO:+0200
TZNAME:EET
DTSTART:20251026T010000
END:STANDARD
END:VTIMEZONE
BEGIN:VEVENT
DTSTART;TZID=Europe/Riga:20250216T100000
DTEND;TZID=Europe/Riga:20250216T113000
DTSTAMP:20260425T154403
CREATED:20250212T112252Z
LAST-MODIFIED:20250212T112252Z
UID:17730-1739700000-1739705400@sports.tukums.lv
SUMMARY:FL: Engures korsāri - Užava (Kandava)
DESCRIPTION:
URL:https://sports.tukums.lv/event/fl-engures-korsari-uzava-kandava-2/
LOCATION:Irlavas sporta hallē\, Sporta iela 1\, Irlava
CATEGORIES:Novads florbols
END:VEVENT
BEGIN:VEVENT
DTSTART;TZID=Europe/Riga:20250216T113000
DTEND;TZID=Europe/Riga:20250216T130000
DTSTAMP:20260425T154403
CREATED:20250212T112344Z
LAST-MODIFIED:20250212T112344Z
UID:17732-1739705400-1739710800@sports.tukums.lv
SUMMARY:FL: Slampe - Klapkalnciema zvejnieki
DESCRIPTION:
URL:https://sports.tukums.lv/event/fl-slampe-klapkalnciema-zvejnieki-2/
LOCATION:Irlavas sporta hallē\, Sporta iela 1\, Irlava
CATEGORIES:Novads florbols
END:VEVENT
BEGIN:VEVENT
DTSTART;TZID=Europe/Riga:20250216T130000
DTEND;TZID=Europe/Riga:20250216T143000
DTSTAMP:20260425T154403
CREATED:20250212T112436Z
LAST-MODIFIED:20250212T112436Z
UID:17734-1739710800-1739716200@sports.tukums.lv
SUMMARY:FL: Irlava - Pūre
DESCRIPTION:
URL:https://sports.tukums.lv/event/fl-irlava-pure-2/
LOCATION:Irlavas sporta hallē\, Sporta iela 1\, Irlava
CATEGORIES:Novads florbols
END:VEVENT
END:VCALENDAR