BEGIN:VCALENDAR
VERSION:2.0
PRODID:-//Sports Tukuma novadā - ECPv5.14.2.1//NONSGML v1.0//EN
CALSCALE:GREGORIAN
METHOD:PUBLISH
X-WR-CALNAME:Sports Tukuma novadā
X-ORIGINAL-URL:https://sports.tukums.lv
X-WR-CALDESC:Events for Sports Tukuma novadā
REFRESH-INTERVAL;VALUE=DURATION:PT1H
X-Robots-Tag:noindex
X-PUBLISHED-TTL:PT1H
BEGIN:VTIMEZONE
TZID:Europe/Riga
BEGIN:DAYLIGHT
TZOFFSETFROM:+0200
TZOFFSETTO:+0300
TZNAME:EEST
DTSTART:20250330T010000
END:DAYLIGHT
BEGIN:STANDARD
TZOFFSETFROM:+0300
TZOFFSETTO:+0200
TZNAME:EET
DTSTART:20251026T010000
END:STANDARD
END:VTIMEZONE
BEGIN:VEVENT
DTSTART;TZID=Europe/Riga:20250404T200000
DTEND;TZID=Europe/Riga:20250404T213000
DTSTAMP:20260425T151851
CREATED:20250402T055057Z
LAST-MODIFIED:20250402T055504Z
UID:18940-1743796800-1743802200@sports.tukums.lv
SUMMARY:FL: Engures korsāri - Slampe
DESCRIPTION:Florbola čempionāta spēle
URL:https://sports.tukums.lv/event/fl-engures-korsari-slampe/
LOCATION:Engures vidusskola\, Engures vidusskola
CATEGORIES:Novads florbols
END:VEVENT
BEGIN:VEVENT
DTSTART;TZID=Europe/Riga:20250410T191500
DTEND;TZID=Europe/Riga:20250410T210000
DTSTAMP:20260425T151851
CREATED:20250409T092335Z
LAST-MODIFIED:20250409T092335Z
UID:19148-1744312500-1744318800@sports.tukums.lv
SUMMARY:FL: Užava (Kandava) - Smārde
DESCRIPTION:Florbola čempionāta ceturtdaļfināls
URL:https://sports.tukums.lv/event/fl-uzava-kandava-smarde/
LOCATION:Slampe
CATEGORIES:Florbols,Novads florbols
END:VEVENT
BEGIN:VEVENT
DTSTART;TZID=Europe/Riga:20250413T110000
DTEND;TZID=Europe/Riga:20250413T123000
DTSTAMP:20260425T151851
CREATED:20250409T092423Z
LAST-MODIFIED:20250409T092423Z
UID:19150-1744542000-1744547400@sports.tukums.lv
SUMMARY:FL: Slampe - Irlava
DESCRIPTION:Florbola čempionāta ceturtdaļfināls
URL:https://sports.tukums.lv/event/fl-slampe-irlava-2/
LOCATION:Slampe
CATEGORIES:Florbols,Novads florbols
END:VEVENT
BEGIN:VEVENT
DTSTART;TZID=Europe/Riga:20250418T193000
DTEND;TZID=Europe/Riga:20250418T210000
DTSTAMP:20260425T151851
CREATED:20250416T093245Z
LAST-MODIFIED:20250416T093245Z
UID:19326-1745004600-1745010000@sports.tukums.lv
SUMMARY:FL: Engures korsāri - Užava (Kandava)
DESCRIPTION:Florbola čempionāta pusfināla spēle!
URL:https://sports.tukums.lv/event/fl-engures-korsari-uzava-kandava-3/
LOCATION:Engures vidusskola\, Engures vidusskola
CATEGORIES:Florbols,Novads florbols
END:VEVENT
BEGIN:VEVENT
DTSTART;TZID=Europe/Riga:20250419T110000
DTEND;TZID=Europe/Riga:20250419T123000
DTSTAMP:20260425T151851
CREATED:20250417T094309Z
LAST-MODIFIED:20250417T094309Z
UID:19334-1745060400-1745065800@sports.tukums.lv
SUMMARY:FL: Irlava - Klapkalnciema zvejnieki
DESCRIPTION:Florbola čempionāta pusfināla spēle
URL:https://sports.tukums.lv/event/fl-irlava-klapkalnciema-zvejnieki/
LOCATION:Slampe
CATEGORIES:Florbols,Novads florbols
END:VEVENT
BEGIN:VEVENT
DTSTART;TZID=Europe/Riga:20250427T100000
DTEND;TZID=Europe/Riga:20250427T113000
DTSTAMP:20260425T151851
CREATED:20250424T115741Z
LAST-MODIFIED:20250424T115741Z
UID:19443-1745748000-1745753400@sports.tukums.lv
SUMMARY:Spēle par 3.vietu: Klapkalnciema zvejnieki - Užava (Kandava)
DESCRIPTION:Florbola čempionāta spēle par 3.vietu
URL:https://sports.tukums.lv/event/spele-par-3-vietu-klapkalnciema-zvejnieki-uzava-kandava/
LOCATION:Engures vidusskola\, Engures vidusskola
CATEGORIES:Florbols,Novads florbols
END:VEVENT
BEGIN:VEVENT
DTSTART;TZID=Europe/Riga:20250427T123000
DTEND;TZID=Europe/Riga:20250427T140000
DTSTAMP:20260425T151851
CREATED:20250424T115910Z
LAST-MODIFIED:20250424T115910Z
UID:19445-1745757000-1745762400@sports.tukums.lv
SUMMARY:Fināls: Engures korsāri - Irlava
DESCRIPTION:Florbola čempionāta fināla spēle!
URL:https://sports.tukums.lv/event/finals-engures-korsari-irlava/
LOCATION:Engures vidusskola\, Engures vidusskola
CATEGORIES:Florbols,Novads florbols
END:VEVENT
END:VCALENDAR