BEGIN:VCALENDAR
VERSION:2.0
PRODID:-//Sports Tukuma novadā - ECPv5.14.2.1//NONSGML v1.0//EN
CALSCALE:GREGORIAN
METHOD:PUBLISH
X-WR-CALNAME:Sports Tukuma novadā
X-ORIGINAL-URL:https://sports.tukums.lv
X-WR-CALDESC:Events for Sports Tukuma novadā
REFRESH-INTERVAL;VALUE=DURATION:PT1H
X-Robots-Tag:noindex
X-PUBLISHED-TTL:PT1H
BEGIN:VTIMEZONE
TZID:Europe/Riga
BEGIN:DAYLIGHT
TZOFFSETFROM:+0200
TZOFFSETTO:+0300
TZNAME:EEST
DTSTART:20250330T010000
END:DAYLIGHT
BEGIN:STANDARD
TZOFFSETFROM:+0300
TZOFFSETTO:+0200
TZNAME:EET
DTSTART:20251026T010000
END:STANDARD
END:VTIMEZONE
BEGIN:VEVENT
DTSTART;TZID=Europe/Riga:20251109T100000
DTEND;TZID=Europe/Riga:20251109T113000
DTSTAMP:20260423T050151
CREATED:20251014T112543Z
LAST-MODIFIED:20251014T112543Z
UID:21618-1762682400-1762687800@sports.tukums.lv
SUMMARY:FL: Slampe - Klapkalnciema zvejnieki
DESCRIPTION:Florbola čempionāta spēle
URL:https://sports.tukums.lv/event/fl-slampe-klapkalnciema-zvejnieki-3/
LOCATION:Engures vidusskola\, Engures vidusskola
CATEGORIES:Florbols,Novads florbols
END:VEVENT
BEGIN:VEVENT
DTSTART;TZID=Europe/Riga:20251109T113000
DTEND;TZID=Europe/Riga:20251109T130000
DTSTAMP:20260423T050151
CREATED:20251014T112638Z
LAST-MODIFIED:20251014T112638Z
UID:21620-1762687800-1762693200@sports.tukums.lv
SUMMARY:FL: Engures korsāri - Užava Cēre
DESCRIPTION:Florbola čempionāta spēle
URL:https://sports.tukums.lv/event/fl-engures-korsari-uzava-cere/
LOCATION:Engures vidusskola\, Engures vidusskola
CATEGORIES:Florbols,Novads florbols
END:VEVENT
BEGIN:VEVENT
DTSTART;TZID=Europe/Riga:20251109T130000
DTEND;TZID=Europe/Riga:20251109T143000
DTSTAMP:20260423T050151
CREATED:20251014T112730Z
LAST-MODIFIED:20251014T112730Z
UID:21622-1762693200-1762698600@sports.tukums.lv
SUMMARY:FL: Irlava - Imantas snaiperi
DESCRIPTION:Florbola čempionāta spēle
URL:https://sports.tukums.lv/event/fl-irlava-imantas-snaiperi/
LOCATION:Engures vidusskola\, Engures vidusskola
CATEGORIES:Florbols,Novads florbols
END:VEVENT
BEGIN:VEVENT
DTSTART;TZID=Europe/Riga:20251122T100000
DTEND;TZID=Europe/Riga:20251122T113000
DTSTAMP:20260423T050151
CREATED:20251116T093155Z
LAST-MODIFIED:20251116T093155Z
UID:22678-1763805600-1763811000@sports.tukums.lv
SUMMARY:FL: Slampe - Engures korsāri
DESCRIPTION:Tukuma novada florbola čempionāts
URL:https://sports.tukums.lv/event/fl-slampe-engures-korsari-2/
LOCATION:Slampe
CATEGORIES:Florbols,Novads florbols
END:VEVENT
BEGIN:VEVENT
DTSTART;TZID=Europe/Riga:20251122T113000
DTEND;TZID=Europe/Riga:20251122T130000
DTSTAMP:20260423T050151
CREATED:20251116T093310Z
LAST-MODIFIED:20251116T093310Z
UID:22680-1763811000-1763816400@sports.tukums.lv
SUMMARY:FL: Klapkalnciema zvejnieki - Irlava
DESCRIPTION:Tukuma novada florbola čempionāts
URL:https://sports.tukums.lv/event/fl-klapkalnciema-zvejnieki-irlava-3/
LOCATION:Slampe
CATEGORIES:Florbols,Novads florbols
END:VEVENT
BEGIN:VEVENT
DTSTART;TZID=Europe/Riga:20251122T130000
DTEND;TZID=Europe/Riga:20251122T143000
DTSTAMP:20260423T050151
CREATED:20251116T093411Z
LAST-MODIFIED:20251116T093411Z
UID:22682-1763816400-1763821800@sports.tukums.lv
SUMMARY:FL: Imantas snaiperi - Užava Cēre
DESCRIPTION:Tukuma novada florbola čempionāts
URL:https://sports.tukums.lv/event/fl-imantas-snaiperi-uzava-cere/
LOCATION:Slampe
CATEGORIES:Florbols,Novads florbols
END:VEVENT
END:VCALENDAR