BEGIN:VCALENDAR
VERSION:2.0
PRODID:-//Sports Tukuma novadā - ECPv5.14.2.1//NONSGML v1.0//EN
CALSCALE:GREGORIAN
METHOD:PUBLISH
X-WR-CALNAME:Sports Tukuma novadā
X-ORIGINAL-URL:https://sports.tukums.lv
X-WR-CALDESC:Events for Sports Tukuma novadā
REFRESH-INTERVAL;VALUE=DURATION:PT1H
X-Robots-Tag:noindex
X-PUBLISHED-TTL:PT1H
BEGIN:VTIMEZONE
TZID:Europe/Riga
BEGIN:DAYLIGHT
TZOFFSETFROM:+0200
TZOFFSETTO:+0300
TZNAME:EEST
DTSTART:20260329T010000
END:DAYLIGHT
BEGIN:STANDARD
TZOFFSETFROM:+0300
TZOFFSETTO:+0200
TZNAME:EET
DTSTART:20261025T010000
END:STANDARD
END:VTIMEZONE
BEGIN:VEVENT
DTSTART;TZID=Europe/Riga:20260301T100000
DTEND;TZID=Europe/Riga:20260301T113000
DTSTAMP:20260421T102508
CREATED:20260227T062634Z
LAST-MODIFIED:20260227T062634Z
UID:25205-1772359200-1772364600@sports.tukums.lv
SUMMARY:FL: Engures korsāri - Užava-Cēre
DESCRIPTION:Florbola čempionāta spēle
URL:https://sports.tukums.lv/event/fl-engures-korsari-uzava-cere-2/
LOCATION:Engures vidusskola\, Engures vidusskola
CATEGORIES:Florbols,Novads florbols
END:VEVENT
BEGIN:VEVENT
DTSTART;TZID=Europe/Riga:20260301T113000
DTEND;TZID=Europe/Riga:20260301T130000
DTSTAMP:20260421T102508
CREATED:20260227T062734Z
LAST-MODIFIED:20260227T062734Z
UID:25207-1772364600-1772370000@sports.tukums.lv
SUMMARY:FL: Klapkalnciema zvejnieki - Irlava
DESCRIPTION:Florbola čempionāta spēle
URL:https://sports.tukums.lv/event/fl-klapkalnciema-zvejnieki-irlava-4/
LOCATION:Engures vidusskola\, Engures vidusskola
CATEGORIES:Florbols,Novads florbols
END:VEVENT
BEGIN:VEVENT
DTSTART;TZID=Europe/Riga:20260308T100000
DTEND;TZID=Europe/Riga:20260308T113000
DTSTAMP:20260421T102508
CREATED:20260306T071105Z
LAST-MODIFIED:20260306T071105Z
UID:25371-1772964000-1772969400@sports.tukums.lv
SUMMARY:FL: Slampe - Irlava
DESCRIPTION:Florbola čempionāta spēle
URL:https://sports.tukums.lv/event/fl-slampe-irlava-4/
LOCATION:Slampe
CATEGORIES:Florbols,Novads florbols
END:VEVENT
BEGIN:VEVENT
DTSTART;TZID=Europe/Riga:20260308T113000
DTEND;TZID=Europe/Riga:20260308T130000
DTSTAMP:20260421T102508
CREATED:20260306T071210Z
LAST-MODIFIED:20260306T071210Z
UID:25373-1772969400-1772974800@sports.tukums.lv
SUMMARY:FK: Engures korsāri - Imantas snaiperi
DESCRIPTION:Florbola čempionāta spēle
URL:https://sports.tukums.lv/event/fk-engures-korsari-imantas-snaiperi/
LOCATION:Slampe
CATEGORIES:Florbols,Novads florbols
END:VEVENT
BEGIN:VEVENT
DTSTART;TZID=Europe/Riga:20260308T130000
DTEND;TZID=Europe/Riga:20260308T143000
DTSTAMP:20260421T102508
CREATED:20260306T071308Z
LAST-MODIFIED:20260306T071308Z
UID:25375-1772974800-1772980200@sports.tukums.lv
SUMMARY:FL: Užava-Cēre - Klapkalnciema zvejnieki
DESCRIPTION:Florbola čempionāta spēle
URL:https://sports.tukums.lv/event/fl-uzava-cere-klapkalnciema-zvejnieki-2/
LOCATION:Slampe
CATEGORIES:Florbols,Novads florbols
END:VEVENT
BEGIN:VEVENT
DTSTART;TZID=Europe/Riga:20260322T100000
DTEND;TZID=Europe/Riga:20260322T113000
DTSTAMP:20260421T102508
CREATED:20260317T121251Z
LAST-MODIFIED:20260317T121251Z
UID:25607-1774173600-1774179000@sports.tukums.lv
SUMMARY:FL: Imantas snaiperi - Klapkalnciema zvejnieki
DESCRIPTION:Florbola čempionāta spēle
URL:https://sports.tukums.lv/event/fl-imantas-snaiperi-klapkalnciema-zvejnieki/
LOCATION:Cēre\, Cēres skola\, Cēre\, Latvija
CATEGORIES:Florbols,Novads florbols
END:VEVENT
BEGIN:VEVENT
DTSTART;TZID=Europe/Riga:20260322T113000
DTEND;TZID=Europe/Riga:20260322T130000
DTSTAMP:20260421T102508
CREATED:20260317T121348Z
LAST-MODIFIED:20260317T121348Z
UID:25609-1774179000-1774184400@sports.tukums.lv
SUMMARY:FL: Irlava - Engures korsāri
DESCRIPTION:Florbola čempionāta spēle
URL:https://sports.tukums.lv/event/fl-irlava-engures-korsari-4/
LOCATION:Cēre\, Cēres skola\, Cēre\, Latvija
CATEGORIES:Florbols,Novads florbols
END:VEVENT
BEGIN:VEVENT
DTSTART;TZID=Europe/Riga:20260322T130000
DTEND;TZID=Europe/Riga:20260322T143000
DTSTAMP:20260421T102508
CREATED:20260317T121441Z
LAST-MODIFIED:20260317T121441Z
UID:25611-1774184400-1774189800@sports.tukums.lv
SUMMARY:FL: Užava-Cēre - Slampe
DESCRIPTION:Florbola čempionāta spēle
URL:https://sports.tukums.lv/event/fl-uzava-cere-slampe-2/
LOCATION:Cēre\, Cēres skola\, Cēre\, Latvija
CATEGORIES:Florbols,Novads florbols
END:VEVENT
BEGIN:VEVENT
DTSTART;TZID=Europe/Riga:20260325T200000
DTEND;TZID=Europe/Riga:20260325T213000
DTSTAMP:20260421T102508
CREATED:20260325T061125Z
LAST-MODIFIED:20260325T061125Z
UID:25821-1774468800-1774474200@sports.tukums.lv
SUMMARY:FL: Irlava - Užava-Cēre
DESCRIPTION:Florbola čempionāta spēle
URL:https://sports.tukums.lv/event/fl-irlava-uzava-cere/
LOCATION:Irlavas sporta hallē\, Sporta iela 1\, Irlava
CATEGORIES:Florbols,Novads florbols
END:VEVENT
BEGIN:VEVENT
DTSTART;TZID=Europe/Riga:20260329T100000
DTEND;TZID=Europe/Riga:20260329T113000
DTSTAMP:20260421T102508
CREATED:20260325T104341Z
LAST-MODIFIED:20260325T104341Z
UID:25843-1774778400-1774783800@sports.tukums.lv
SUMMARY:FL: Engures korsāri - Slampe
DESCRIPTION:Florbola čempionāta spēle
URL:https://sports.tukums.lv/event/fl-engures-korsari-slampe-2/
LOCATION:Engures vidusskola\, Engures vidusskola
CATEGORIES:Florbols,Novads florbols
END:VEVENT
BEGIN:VEVENT
DTSTART;TZID=Europe/Riga:20260329T113000
DTEND;TZID=Europe/Riga:20260329T130000
DTSTAMP:20260421T102508
CREATED:20260325T104439Z
LAST-MODIFIED:20260325T104439Z
UID:25845-1774783800-1774789200@sports.tukums.lv
SUMMARY:FL: Imantas snaiperi - Užava-Cēre
DESCRIPTION:Florbola čempionāta spēle
URL:https://sports.tukums.lv/event/fl-imantas-snaiperi-uzava-cere-2/
LOCATION:Engures vidusskola\, Engures vidusskola
CATEGORIES:Florbols,Novads florbols
END:VEVENT
END:VCALENDAR