BEGIN:VCALENDAR
VERSION:2.0
PRODID:-//Sports Tukuma novadā - ECPv5.14.2.1//NONSGML v1.0//EN
CALSCALE:GREGORIAN
METHOD:PUBLISH
X-WR-CALNAME:Sports Tukuma novadā
X-ORIGINAL-URL:https://sports.tukums.lv
X-WR-CALDESC:Events for Sports Tukuma novadā
REFRESH-INTERVAL;VALUE=DURATION:PT1H
X-Robots-Tag:noindex
X-PUBLISHED-TTL:PT1H
BEGIN:VTIMEZONE
TZID:Europe/Riga
BEGIN:DAYLIGHT
TZOFFSETFROM:+0200
TZOFFSETTO:+0300
TZNAME:EEST
DTSTART:20240331T010000
END:DAYLIGHT
BEGIN:STANDARD
TZOFFSETFROM:+0300
TZOFFSETTO:+0200
TZNAME:EET
DTSTART:20241027T010000
END:STANDARD
END:VTIMEZONE
BEGIN:VEVENT
DTSTART;TZID=Europe/Riga:20241102T100000
DTEND;TZID=Europe/Riga:20241102T113000
DTSTAMP:20260425T231011
CREATED:20241028T094850Z
LAST-MODIFIED:20241028T094850Z
UID:15377-1730541600-1730547000@sports.tukums.lv
SUMMARY:FL: Irlava - Užava (Kandava)
DESCRIPTION:Novada čempionāta spēle florbolā!
URL:https://sports.tukums.lv/event/fl-irlava-uzava-kandava/
LOCATION:Irlavas sporta hallē\, Sporta iela 1\, Irlava
CATEGORIES:Novads florbols
END:VEVENT
BEGIN:VEVENT
DTSTART;TZID=Europe/Riga:20241102T113000
DTEND;TZID=Europe/Riga:20241102T130000
DTSTAMP:20260425T231011
CREATED:20241028T094937Z
LAST-MODIFIED:20241028T094937Z
UID:15379-1730547000-1730552400@sports.tukums.lv
SUMMARY:FL: Smārde - Slampe
DESCRIPTION:Novada čempionāta spēle florbolā!
URL:https://sports.tukums.lv/event/fl-smarde-slampe-2/
LOCATION:Irlavas sporta hallē\, Sporta iela 1\, Irlava
CATEGORIES:Novads florbols
END:VEVENT
BEGIN:VEVENT
DTSTART;TZID=Europe/Riga:20241102T130000
DTEND;TZID=Europe/Riga:20241102T143000
DTSTAMP:20260425T231011
CREATED:20241028T095025Z
LAST-MODIFIED:20241028T095025Z
UID:15381-1730552400-1730557800@sports.tukums.lv
SUMMARY:FL: Klapkalnciema zvejnieki - Pūre
DESCRIPTION:Novada čempionāta spēle florbolā!
URL:https://sports.tukums.lv/event/fl-klapkalnciema-zvejnieki-pure/
LOCATION:Irlavas sporta hallē\, Sporta iela 1\, Irlava
CATEGORIES:Novads florbols
END:VEVENT
END:VCALENDAR