BEGIN:VCALENDAR
VERSION:2.0
PRODID:-//Sports Tukuma novadā - ECPv5.14.2.1//NONSGML v1.0//EN
CALSCALE:GREGORIAN
METHOD:PUBLISH
X-WR-CALNAME:Sports Tukuma novadā
X-ORIGINAL-URL:https://sports.tukums.lv
X-WR-CALDESC:Events for Sports Tukuma novadā
REFRESH-INTERVAL;VALUE=DURATION:PT1H
X-Robots-Tag:noindex
X-PUBLISHED-TTL:PT1H
BEGIN:VTIMEZONE
TZID:Europe/Riga
BEGIN:DAYLIGHT
TZOFFSETFROM:+0200
TZOFFSETTO:+0300
TZNAME:EEST
DTSTART:20240331T010000
END:DAYLIGHT
BEGIN:STANDARD
TZOFFSETFROM:+0300
TZOFFSETTO:+0200
TZNAME:EET
DTSTART:20241027T010000
END:STANDARD
END:VTIMEZONE
BEGIN:VEVENT
DTSTART;TZID=Europe/Riga:20241116T100000
DTEND;TZID=Europe/Riga:20241116T113000
DTSTAMP:20260426T052418
CREATED:20241113T135025Z
LAST-MODIFIED:20241113T135025Z
UID:15688-1731751200-1731756600@sports.tukums.lv
SUMMARY:FL: Slampe - Klapkalnciema zvejnieki
DESCRIPTION:Florbola čempionāta spēle
URL:https://sports.tukums.lv/event/fl-slampe-klapkalnciema-zvejnieki/
LOCATION:Engures vidusskola\, Engures vidusskola
CATEGORIES:Novads florbols
END:VEVENT
BEGIN:VEVENT
DTSTART;TZID=Europe/Riga:20241116T113000
DTEND;TZID=Europe/Riga:20241116T130000
DTSTAMP:20260426T052418
CREATED:20241113T135125Z
LAST-MODIFIED:20241113T135125Z
UID:15690-1731756600-1731762000@sports.tukums.lv
SUMMARY:FL: Irlava - Smārde
DESCRIPTION:Florbola čempionāta spēle
URL:https://sports.tukums.lv/event/fl-irlava-smarde/
LOCATION:Engures vidusskola\, Engures vidusskola
CATEGORIES:Novads florbols
END:VEVENT
BEGIN:VEVENT
DTSTART;TZID=Europe/Riga:20241116T130000
DTEND;TZID=Europe/Riga:20241116T143000
DTSTAMP:20260426T052418
CREATED:20241113T135224Z
LAST-MODIFIED:20241113T135224Z
UID:15692-1731762000-1731767400@sports.tukums.lv
SUMMARY:FL: Engures korsāri - Užava (Kandava)
DESCRIPTION:Florbola čempionāta spēle
URL:https://sports.tukums.lv/event/fl-engures-korsari-uzava-kandava/
LOCATION:Engures vidusskola\, Engures vidusskola
CATEGORIES:Novads florbols
END:VEVENT
END:VCALENDAR