BEGIN:VCALENDAR
VERSION:2.0
PRODID:-//Sports Tukuma novadā - ECPv5.14.2.1//NONSGML v1.0//EN
CALSCALE:GREGORIAN
METHOD:PUBLISH
X-WR-CALNAME:Sports Tukuma novadā
X-ORIGINAL-URL:https://sports.tukums.lv
X-WR-CALDESC:Events for Sports Tukuma novadā
REFRESH-INTERVAL;VALUE=DURATION:PT1H
X-Robots-Tag:noindex
X-PUBLISHED-TTL:PT1H
BEGIN:VTIMEZONE
TZID:Europe/Riga
BEGIN:DAYLIGHT
TZOFFSETFROM:+0200
TZOFFSETTO:+0300
TZNAME:EEST
DTSTART:20240331T010000
END:DAYLIGHT
BEGIN:STANDARD
TZOFFSETFROM:+0300
TZOFFSETTO:+0200
TZNAME:EET
DTSTART:20241027T010000
END:STANDARD
END:VTIMEZONE
BEGIN:VEVENT
DTSTART;TZID=Europe/Riga:20241124T100000
DTEND;TZID=Europe/Riga:20241124T113000
DTSTAMP:20260426T022500
CREATED:20241118T102025Z
LAST-MODIFIED:20241118T102025Z
UID:15771-1732442400-1732447800@sports.tukums.lv
SUMMARY:FL: Pūre - Engures korsāri
DESCRIPTION:Florbola čempionāta spēle
URL:https://sports.tukums.lv/event/fl-pure-engures-korsari/
CATEGORIES:Novads florbols
END:VEVENT
BEGIN:VEVENT
DTSTART;TZID=Europe/Riga:20241124T113000
DTEND;TZID=Europe/Riga:20241124T130000
DTSTAMP:20260426T022500
CREATED:20241118T102117Z
LAST-MODIFIED:20241118T102117Z
UID:15773-1732447800-1732453200@sports.tukums.lv
SUMMARY:FL: Smārde - Užava (Kandava)
DESCRIPTION:Florbola čempionāta spēle
URL:https://sports.tukums.lv/event/fl-smarde-uzava-kandava/
CATEGORIES:Novads florbols
END:VEVENT
BEGIN:VEVENT
DTSTART;TZID=Europe/Riga:20241124T130000
DTEND;TZID=Europe/Riga:20241124T143000
DTSTAMP:20260426T022500
CREATED:20241118T102211Z
LAST-MODIFIED:20241118T102211Z
UID:15775-1732453200-1732458600@sports.tukums.lv
SUMMARY:FL: Klapkalnciema zvejnieki - Irlava
DESCRIPTION:Florbola čempionāta spēle
URL:https://sports.tukums.lv/event/fl-klapkalnciema-zvejnieki-irlava/
CATEGORIES:Novads florbols
END:VEVENT
END:VCALENDAR