BEGIN:VCALENDAR
VERSION:2.0
PRODID:-//Sports Tukuma novadā - ECPv5.14.2.1//NONSGML v1.0//EN
CALSCALE:GREGORIAN
METHOD:PUBLISH
X-WR-CALNAME:Sports Tukuma novadā
X-ORIGINAL-URL:https://sports.tukums.lv
X-WR-CALDESC:Events for Sports Tukuma novadā
REFRESH-INTERVAL;VALUE=DURATION:PT1H
X-Robots-Tag:noindex
X-PUBLISHED-TTL:PT1H
BEGIN:VTIMEZONE
TZID:Europe/Riga
BEGIN:DAYLIGHT
TZOFFSETFROM:+0200
TZOFFSETTO:+0300
TZNAME:EEST
DTSTART:20240331T010000
END:DAYLIGHT
BEGIN:STANDARD
TZOFFSETFROM:+0300
TZOFFSETTO:+0200
TZNAME:EET
DTSTART:20241027T010000
END:STANDARD
END:VTIMEZONE
BEGIN:VEVENT
DTSTART;TZID=Europe/Riga:20241208T100000
DTEND;TZID=Europe/Riga:20241208T113000
DTSTAMP:20260426T003742
CREATED:20241122T063805Z
LAST-MODIFIED:20241122T063805Z
UID:15853-1733652000-1733657400@sports.tukums.lv
SUMMARY:FL: Engures korsāri - Smārde
DESCRIPTION:Florbola čempionāta spēle
URL:https://sports.tukums.lv/event/fl-engures-korsari-smarde/
CATEGORIES:Novads florbols
END:VEVENT
BEGIN:VEVENT
DTSTART;TZID=Europe/Riga:20241208T113000
DTEND;TZID=Europe/Riga:20241208T130000
DTSTAMP:20260426T003742
CREATED:20241122T063856Z
LAST-MODIFIED:20241122T063856Z
UID:15855-1733657400-1733662800@sports.tukums.lv
SUMMARY:FL: Užava (Kandava) - Pūre
DESCRIPTION:Florbola čempionāta spēle
URL:https://sports.tukums.lv/event/fl-uzava-kandava-pure/
CATEGORIES:Novads florbols
END:VEVENT
BEGIN:VEVENT
DTSTART;TZID=Europe/Riga:20241208T130000
DTEND;TZID=Europe/Riga:20241208T143000
DTSTAMP:20260426T003742
CREATED:20241122T063939Z
LAST-MODIFIED:20241122T063939Z
UID:15857-1733662800-1733668200@sports.tukums.lv
SUMMARY:FL: Slampe - Irlava
DESCRIPTION:Florbola čempionāta spēle
URL:https://sports.tukums.lv/event/fl-slampe-irlava/
CATEGORIES:Novads florbols
END:VEVENT
END:VCALENDAR