BEGIN:VCALENDAR
VERSION:2.0
PRODID:-//Sports Tukuma novadā - ECPv5.14.2.1//NONSGML v1.0//EN
CALSCALE:GREGORIAN
METHOD:PUBLISH
X-WR-CALNAME:Sports Tukuma novadā
X-ORIGINAL-URL:https://sports.tukums.lv
X-WR-CALDESC:Events for Sports Tukuma novadā
REFRESH-INTERVAL;VALUE=DURATION:PT1H
X-Robots-Tag:noindex
X-PUBLISHED-TTL:PT1H
BEGIN:VTIMEZONE
TZID:Europe/Riga
BEGIN:DAYLIGHT
TZOFFSETFROM:+0200
TZOFFSETTO:+0300
TZNAME:EEST
DTSTART:20250330T010000
END:DAYLIGHT
BEGIN:STANDARD
TZOFFSETFROM:+0300
TZOFFSETTO:+0200
TZNAME:EET
DTSTART:20251026T010000
END:STANDARD
END:VTIMEZONE
BEGIN:VEVENT
DTSTART;TZID=Europe/Riga:20251228T100000
DTEND;TZID=Europe/Riga:20251228T113000
DTSTAMP:20260423T103349
CREATED:20251222T082229Z
LAST-MODIFIED:20251222T082229Z
UID:23542-1766916000-1766921400@sports.tukums.lv
SUMMARY:FL: Slampe - Irlava
DESCRIPTION:Florbola čempionāta spēle
URL:https://sports.tukums.lv/event/fl-slampe-irlava-3/
LOCATION:Slampe
CATEGORIES:Florbols,Novads florbols
END:VEVENT
BEGIN:VEVENT
DTSTART;TZID=Europe/Riga:20251228T113000
DTEND;TZID=Europe/Riga:20251228T130000
DTSTAMP:20260423T103349
CREATED:20251222T082332Z
LAST-MODIFIED:20251222T082332Z
UID:23544-1766921400-1766926800@sports.tukums.lv
SUMMARY:FL: Užava-Cēre - Klapkalnciema zvejnieki
DESCRIPTION:Florbola čempionāta spēle
URL:https://sports.tukums.lv/event/fl-uzava-cere-klapkalnciema-zvejnieki/
LOCATION:Slampe
CATEGORIES:Florbols,Novads florbols
END:VEVENT
BEGIN:VEVENT
DTSTART;TZID=Europe/Riga:20251228T130000
DTEND;TZID=Europe/Riga:20251228T143000
DTSTAMP:20260423T103349
CREATED:20251222T082430Z
LAST-MODIFIED:20251222T082430Z
UID:23546-1766926800-1766932200@sports.tukums.lv
SUMMARY:FL: Engures korsāri - Imantas snaiperi
DESCRIPTION:Florbola čempionāta spēle
URL:https://sports.tukums.lv/event/fl-engures-korsari-imantas-snaiperi/
LOCATION:Slampe
CATEGORIES:Florbols,Novads florbols
END:VEVENT
END:VCALENDAR