BEGIN:VCALENDAR
VERSION:2.0
PRODID:-//Sports Tukuma novadā - ECPv5.14.2.1//NONSGML v1.0//EN
CALSCALE:GREGORIAN
METHOD:PUBLISH
X-WR-CALNAME:Sports Tukuma novadā
X-ORIGINAL-URL:https://sports.tukums.lv
X-WR-CALDESC:Events for Sports Tukuma novadā
REFRESH-INTERVAL;VALUE=DURATION:PT1H
X-Robots-Tag:noindex
X-PUBLISHED-TTL:PT1H
BEGIN:VTIMEZONE
TZID:Europe/Riga
BEGIN:DAYLIGHT
TZOFFSETFROM:+0200
TZOFFSETTO:+0300
TZNAME:EEST
DTSTART:20250330T010000
END:DAYLIGHT
BEGIN:STANDARD
TZOFFSETFROM:+0300
TZOFFSETTO:+0200
TZNAME:EET
DTSTART:20251026T010000
END:STANDARD
END:VTIMEZONE
BEGIN:VEVENT
DTSTART;TZID=Europe/Riga:20250411T183000
DTEND;TZID=Europe/Riga:20250411T210000
DTSTAMP:20260422T141342
CREATED:20250110T062749Z
LAST-MODIFIED:20250110T062749Z
UID:16925-1744396200-1744405200@sports.tukums.lv
SUMMARY:Tukuma novada galda tenisa čempionāta 4.posms
DESCRIPTION:
URL:https://sports.tukums.lv/event/tukuma-novada-galda-tenisa-cempionata-4-posms/
LOCATION:Smārde\, Smārdes skola\, Smārdes pagasts\, Tukuma novads\, LV3129\, Latvija
CATEGORIES:Galda teniss,Novads galda teniss
ATTACH;FMTTYPE=image/png:https://sports.tukums.lv/wp-content/uploads/2025/01/tukuma-novada-galda-tenisa-cempionats.png
END:VEVENT
END:VCALENDAR