BEGIN:VCALENDAR
VERSION:2.0
PRODID:-//Sports Tukuma novadā - ECPv5.14.2.1//NONSGML v1.0//EN
CALSCALE:GREGORIAN
METHOD:PUBLISH
X-WR-CALNAME:Sports Tukuma novadā
X-ORIGINAL-URL:https://sports.tukums.lv
X-WR-CALDESC:Events for Sports Tukuma novadā
REFRESH-INTERVAL;VALUE=DURATION:PT1H
X-Robots-Tag:noindex
X-PUBLISHED-TTL:PT1H
BEGIN:VTIMEZONE
TZID:Europe/Riga
BEGIN:DAYLIGHT
TZOFFSETFROM:+0200
TZOFFSETTO:+0300
TZNAME:EEST
DTSTART:20260329T010000
END:DAYLIGHT
BEGIN:STANDARD
TZOFFSETFROM:+0300
TZOFFSETTO:+0200
TZNAME:EET
DTSTART:20261025T010000
END:STANDARD
END:VTIMEZONE
BEGIN:VEVENT
DTSTART;TZID=Europe/Riga:20260213T183000
DTEND;TZID=Europe/Riga:20260213T213000
DTSTAMP:20260421T055301
CREATED:20260203T102042Z
LAST-MODIFIED:20260203T102106Z
UID:24665-1771007400-1771018200@sports.tukums.lv
SUMMARY:Tukuma novada galda tenisa čempionāta 4.posms
DESCRIPTION:
URL:https://sports.tukums.lv/event/tukuma-novada-galda-tenisa-cempionata-4-posms-2/
LOCATION:Lapmežciema sporta komplekss
CATEGORIES:Galda teniss,Novads galda teniss
ATTACH;FMTTYPE=image/png:https://sports.tukums.lv/wp-content/uploads/2026/02/galda-teniss-12.png
END:VEVENT
END:VCALENDAR