BEGIN:VCALENDAR
VERSION:2.0
PRODID:-//Sports Tukuma novadā - ECPv5.14.2.1//NONSGML v1.0//EN
CALSCALE:GREGORIAN
METHOD:PUBLISH
X-WR-CALNAME:Sports Tukuma novadā
X-ORIGINAL-URL:https://sports.tukums.lv
X-WR-CALDESC:Events for Sports Tukuma novadā
REFRESH-INTERVAL;VALUE=DURATION:PT1H
X-Robots-Tag:noindex
X-PUBLISHED-TTL:PT1H
BEGIN:VTIMEZONE
TZID:Europe/Riga
BEGIN:DAYLIGHT
TZOFFSETFROM:+0200
TZOFFSETTO:+0300
TZNAME:EEST
DTSTART:20240331T010000
END:DAYLIGHT
BEGIN:STANDARD
TZOFFSETFROM:+0300
TZOFFSETTO:+0200
TZNAME:EET
DTSTART:20241027T010000
END:STANDARD
END:VTIMEZONE
BEGIN:VEVENT
DTSTART;TZID=Europe/Riga:20241025T193000
DTEND;TZID=Europe/Riga:20241025T210000
DTSTAMP:20260424T133310
CREATED:20241004T074958Z
LAST-MODIFIED:20241004T074958Z
UID:14777-1729884600-1729890000@sports.tukums.lv
SUMMARY:SV: Ventspils novads - Tenapors
DESCRIPTION:Tukuma novada atklātā sieviešu volejbola čempionāta spēle!
URL:https://sports.tukums.lv/event/sv-ventspils-novads-tenapors-2/
LOCATION:Liepu iela 2\, Pope.\, Liepu iela 2\, Pope\, Latvija
CATEGORIES:Novads sieviešu volejbols
END:VEVENT
BEGIN:VEVENT
DTSTART;TZID=Europe/Riga:20241023T193000
DTEND;TZID=Europe/Riga:20241023T210000
DTSTAMP:20260424T133310
CREATED:20241004T074913Z
LAST-MODIFIED:20241004T074913Z
UID:14775-1729711800-1729717200@sports.tukums.lv
SUMMARY:SV: Lapmežciems - VK Saldus
DESCRIPTION:Tukuma novada atklātā sieviešu volejbola čempionāta spēle!
URL:https://sports.tukums.lv/event/sv-lapmezciems-vk-saldus/
LOCATION:Lapmežciema sporta komplekss
CATEGORIES:Novads sieviešu volejbols
END:VEVENT
BEGIN:VEVENT
DTSTART;TZID=Europe/Riga:20241021T190000
DTEND;TZID=Europe/Riga:20241021T203000
DTSTAMP:20260424T133310
CREATED:20241004T074829Z
LAST-MODIFIED:20241004T074829Z
UID:14773-1729537200-1729542600@sports.tukums.lv
SUMMARY:SV: Tukuma Sporta skola - SK Pūre
DESCRIPTION:Tukuma novada atklātā sieviešu volejbola čempionāta spēle!
URL:https://sports.tukums.lv/event/sv-tukuma-sporta-skola-sk-pure/
LOCATION:Tukuma sporta hallē\, Pauzera iela 7
CATEGORIES:Novads sieviešu volejbols
END:VEVENT
BEGIN:VEVENT
DTSTART;TZID=Europe/Riga:20241021T190000
DTEND;TZID=Europe/Riga:20241021T203000
DTSTAMP:20260424T133310
CREATED:20241004T074740Z
LAST-MODIFIED:20241004T074740Z
UID:14771-1729537200-1729542600@sports.tukums.lv
SUMMARY:SV: Jūrmalas Sporta skola - Sēme
DESCRIPTION:Tukuma novada atklātā sieviešu volejbola čempionāta spēle!
URL:https://sports.tukums.lv/event/sv-jurmalas-sporta-skola-seme/
LOCATION:Kļavu iela 29/31\, Dubulti Taurenītis\, Kļavu iela 29/31\, Dubulti \, Jūrmala\, Latvija
CATEGORIES:Novads sieviešu volejbols
END:VEVENT
BEGIN:VEVENT
DTSTART;TZID=Europe/Riga:20241016T190000
DTEND;TZID=Europe/Riga:20241016T203000
DTSTAMP:20260424T133310
CREATED:20241004T074645Z
LAST-MODIFIED:20241004T074645Z
UID:14769-1729105200-1729110600@sports.tukums.lv
SUMMARY:SV: Tenapors - Jūrmalas Sporta skola
DESCRIPTION:Tukuma novada atklātā sieviešu volejbola čempionāta spēle!
URL:https://sports.tukums.lv/event/sv-tenapors-jurmalas-sporta-skola/
LOCATION:Jaunbērze
CATEGORIES:Novads sieviešu volejbols
END:VEVENT
BEGIN:VEVENT
DTSTART;TZID=Europe/Riga:20241015T193000
DTEND;TZID=Europe/Riga:20241015T210000
DTSTAMP:20260424T133310
CREATED:20241004T074549Z
LAST-MODIFIED:20241004T074549Z
UID:14767-1729020600-1729026000@sports.tukums.lv
SUMMARY:SV: VK Saldus - Ventspils novads
DESCRIPTION:Tukuma novada atklātā sieviešu volejbola čempionāta spēle!
URL:https://sports.tukums.lv/event/sv-vk-saldus-ventspils-novads-2/
LOCATION:Cieceres pamatskola
CATEGORIES:Novads sieviešu volejbols
END:VEVENT
BEGIN:VEVENT
DTSTART;TZID=Europe/Riga:20241015T193000
DTEND;TZID=Europe/Riga:20241015T210000
DTSTAMP:20260424T133310
CREATED:20241004T074500Z
LAST-MODIFIED:20241004T074500Z
UID:14765-1729020600-1729026000@sports.tukums.lv
SUMMARY:SV: SK Pūre - Mārupe Desk Pro
DESCRIPTION:Tukuma novada atklātā sieviešu volejbola čempionāta spēle!
URL:https://sports.tukums.lv/event/sv-sk-pure-marupe-desk-pro/
LOCATION:Pūres sporta halle\, Pūres skola\, Pūre\, Latvija
CATEGORIES:Novads sieviešu volejbols
END:VEVENT
BEGIN:VEVENT
DTSTART;TZID=Europe/Riga:20241014T190000
DTEND;TZID=Europe/Riga:20241014T203000
DTSTAMP:20260424T133310
CREATED:20241004T074409Z
LAST-MODIFIED:20241004T074409Z
UID:14763-1728932400-1728937800@sports.tukums.lv
SUMMARY:SV: Tukuma Sporta skola - Sēme
DESCRIPTION:Tukuma novada atklātā sieviešu volejbola čempionāta spēle!
URL:https://sports.tukums.lv/event/sv-tukuma-sporta-skola-seme/
LOCATION:Tukuma sporta hallē\, Pauzera iela 7
CATEGORIES:Novads sieviešu volejbols
END:VEVENT
BEGIN:VEVENT
DTSTART;TZID=Europe/Riga:20240517T190000
DTEND;TZID=Europe/Riga:20240518T020000
DTSTAMP:20260424T133310
CREATED:20240507T055803Z
LAST-MODIFIED:20240515T114228Z
UID:13024-1715972400-1715997600@sports.tukums.lv
SUMMARY:Čempionātu uzvarētāju apbalvošana un Sportistu balle
DESCRIPTION:17.maijā\, Slampes Kultūras pilī\, plkst. 19.00 notiks Tukuma novada pašvaldības čempionātu uzvarētāju apbalvošana un Sportistu balle!
URL:https://sports.tukums.lv/event/cempionatu-uzvaretaju-apbalvosana-un-sportistu-balle-2/
LOCATION:Slampe
CATEGORIES:Novads basketbols,Novads volejbols,Novads florbols,Novads galda teniss,Novads novuss,Novads sieviešu volejbols,Novads sieviešu basketbols
END:VEVENT
BEGIN:VEVENT
DTSTART;TZID=Europe/Riga:20240515T193000
DTEND;TZID=Europe/Riga:20240515T210000
DTSTAMP:20260424T133310
CREATED:20240510T084031Z
LAST-MODIFIED:20240513T182101Z
UID:13100-1715801400-1715806800@sports.tukums.lv
SUMMARY:3.-4.v. VK Saldus - Jūrmalas Sporta skola 1
DESCRIPTION:Bronzas sērijas 3.spēle\, ja nepieciešams
URL:https://sports.tukums.lv/event/3-4-v-vk-saldus-jurmalas-sporta-skola-1-2/
LOCATION:Cieceres pamatskola
CATEGORIES:Volejbols,Novads sieviešu volejbols
END:VEVENT
BEGIN:VEVENT
DTSTART;TZID=Europe/Riga:20240513T193000
DTEND;TZID=Europe/Riga:20240513T210000
DTSTAMP:20260424T133310
CREATED:20240510T083925Z
LAST-MODIFIED:20240510T083925Z
UID:13098-1715628600-1715634000@sports.tukums.lv
SUMMARY:3.-4.v. VK Saldus - Jūrmalas Sporta skola 1
DESCRIPTION:Bronzas sērijas 2.spēle!
URL:https://sports.tukums.lv/event/3-4-v-vk-saldus-jurmalas-sporta-skola-1/
LOCATION:Cieceres pamatskola
CATEGORIES:Volejbols,Novads sieviešu volejbols
END:VEVENT
BEGIN:VEVENT
DTSTART;TZID=Europe/Riga:20240512T120000
DTEND;TZID=Europe/Riga:20240512T133000
DTSTAMP:20260424T133310
CREATED:20240508T053353Z
LAST-MODIFIED:20240508T053353Z
UID:13075-1715515200-1715520600@sports.tukums.lv
SUMMARY:Fināls: SK Pūre - Mārupe Desk Pro
DESCRIPTION:Fināla sērijas 2.spēle!
URL:https://sports.tukums.lv/event/finals-sk-pure-marupe-desk-pro/
LOCATION:Pūres sporta halle\, Pūres skola\, Pūre\, Latvija
CATEGORIES:Volejbols,Novads sieviešu volejbols
END:VEVENT
BEGIN:VEVENT
DTSTART;TZID=Europe/Riga:20240511T120000
DTEND;TZID=Europe/Riga:20240511T133000
DTSTAMP:20260424T133310
CREATED:20240508T053215Z
LAST-MODIFIED:20240508T053215Z
UID:13073-1715428800-1715434200@sports.tukums.lv
SUMMARY:3.-4.v. Jūrmalas Sporta skola 1 - VK Saldus
DESCRIPTION:Bronzas sērijas 1.spēle!
URL:https://sports.tukums.lv/event/3-4-v-jurmalas-sporta-skola-1-vk-saldus/
LOCATION:Kļavu iela 29/31\, Dubulti Taurenītis\, Kļavu iela 29/31\, Dubulti \, Jūrmala\, Latvija
CATEGORIES:Volejbols,Novads sieviešu volejbols
END:VEVENT
BEGIN:VEVENT
DTSTART;TZID=Europe/Riga:20240507T190000
DTEND;TZID=Europe/Riga:20240507T203000
DTSTAMP:20260424T133310
CREATED:20240502T053532Z
LAST-MODIFIED:20240502T053532Z
UID:12940-1715108400-1715113800@sports.tukums.lv
SUMMARY:Fināls: Mārupe Desk Pro - SK Pūre
DESCRIPTION:Sieviešu volejbola fināla sērijas 1.spēle!
URL:https://sports.tukums.lv/event/finals-marupe-desk-pro-sk-pure/
LOCATION:Smārde\, Smārdes skola\, Smārdes pagasts\, Tukuma novads\, LV3129\, Latvija
CATEGORIES:Volejbols,Novads sieviešu volejbols
END:VEVENT
BEGIN:VEVENT
DTSTART;TZID=Europe/Riga:20240430T190000
DTEND;TZID=Europe/Riga:20240430T203000
DTSTAMP:20260424T133310
CREATED:20240426T080206Z
LAST-MODIFIED:20240426T080206Z
UID:12791-1714503600-1714509000@sports.tukums.lv
SUMMARY:SV: Mārupe Desk Pro - VK Saldus
DESCRIPTION:Pusfināla 3.spēle!
URL:https://sports.tukums.lv/event/sv-marupe-desk-pro-vk-saldus-3/
LOCATION:Smārde\, Smārdes skola\, Smārdes pagasts\, Tukuma novads\, LV3129\, Latvija
CATEGORIES:Volejbols,Novads sieviešu volejbols
END:VEVENT
BEGIN:VEVENT
DTSTART;TZID=Europe/Riga:20240423T203000
DTEND;TZID=Europe/Riga:20240423T220000
DTSTAMP:20260424T133310
CREATED:20240418T140615Z
LAST-MODIFIED:20240418T140615Z
UID:12648-1713904200-1713909600@sports.tukums.lv
SUMMARY:SV: VK Saldus - Mārupe Desk Pro
DESCRIPTION:Pusfināla 2.spēle!
URL:https://sports.tukums.lv/event/sv-vk-saldus-marupe-desk-pro/
LOCATION:Cieceres pamatskola
CATEGORIES:Volejbols,Novads sieviešu volejbols
END:VEVENT
BEGIN:VEVENT
DTSTART;TZID=Europe/Riga:20240419T190000
DTEND;TZID=Europe/Riga:20240419T203000
DTSTAMP:20260424T133310
CREATED:20240412T042053Z
LAST-MODIFIED:20240412T042053Z
UID:12514-1713553200-1713558600@sports.tukums.lv
SUMMARY:SV: Jūrmalas Sporta skola 1 - SK Pūre
DESCRIPTION:Pusfināla 2.spēle!
URL:https://sports.tukums.lv/event/sv-jurmalas-sporta-skola-1-sk-pure-2/
LOCATION:Kļavu iela 29/31\, Dubulti Taurenītis\, Kļavu iela 29/31\, Dubulti \, Jūrmala\, Latvija
CATEGORIES:Volejbols,Novads sieviešu volejbols
END:VEVENT
BEGIN:VEVENT
DTSTART;TZID=Europe/Riga:20240417T193000
DTEND;TZID=Europe/Riga:20240417T210000
DTSTAMP:20260424T133310
CREATED:20240412T041949Z
LAST-MODIFIED:20240412T041949Z
UID:12512-1713382200-1713387600@sports.tukums.lv
SUMMARY:SV: SK Pūre - Jūrmalas Sporta skola 1
DESCRIPTION:Pusfināla 1.spēle!
URL:https://sports.tukums.lv/event/sv-sk-pure-jurmalas-sporta-skola-1-2/
LOCATION:Pūres sporta halle\, Pūres skola\, Pūre\, Latvija
CATEGORIES:Volejbols,Novads sieviešu volejbols
END:VEVENT
BEGIN:VEVENT
DTSTART;TZID=Europe/Riga:20240416T193000
DTEND;TZID=Europe/Riga:20240416T210000
DTSTAMP:20260424T133310
CREATED:20240412T065228Z
LAST-MODIFIED:20240412T065228Z
UID:12516-1713295800-1713301200@sports.tukums.lv
SUMMARY:SV: Mārupe Desk Pro - VK Saldus
DESCRIPTION:Pusfināla 1.spēle!
URL:https://sports.tukums.lv/event/sv-marupe-desk-pro-vk-saldus-2/
LOCATION:Pūres sporta halle\, Pūres skola\, Pūre\, Latvija
CATEGORIES:Volejbols,Novads sieviešu volejbols
END:VEVENT
BEGIN:VEVENT
DTSTART;TZID=Europe/Riga:20240410T190000
DTEND;TZID=Europe/Riga:20240410T203000
DTSTAMP:20260424T133310
CREATED:20240324T191013Z
LAST-MODIFIED:20240324T191013Z
UID:12117-1712775600-1712781000@sports.tukums.lv
SUMMARY:SV: Jūrmalas Sporta skola 1 - Ventspils novads
DESCRIPTION:Ceturtdaļfināla 2.spēle!
URL:https://sports.tukums.lv/event/sv-jurmalas-sporta-skola-1-ventspils-novads-2/
LOCATION:Kļavu iela 29/31\, Dubulti Taurenītis\, Kļavu iela 29/31\, Dubulti \, Jūrmala\, Latvija
CATEGORIES:Volejbols,Novads sieviešu volejbols
END:VEVENT
BEGIN:VEVENT
DTSTART;TZID=Europe/Riga:20240405T193000
DTEND;TZID=Europe/Riga:20240405T210000
DTSTAMP:20260424T133310
CREATED:20240321T064430Z
LAST-MODIFIED:20240321T064430Z
UID:12037-1712345400-1712350800@sports.tukums.lv
SUMMARY:SV: VK Saldus - Tenapors Dobele
DESCRIPTION:Ceturtdaļfināla 2.spēle!
URL:https://sports.tukums.lv/event/sv-vk-saldus-tenapors-dobele/
LOCATION:Cieceres pamatskola
CATEGORIES:Volejbols,Novads sieviešu volejbols
END:VEVENT
BEGIN:VEVENT
DTSTART;TZID=Europe/Riga:20240405T190000
DTEND;TZID=Europe/Riga:20240405T203000
DTSTAMP:20260424T133310
CREATED:20240324T190900Z
LAST-MODIFIED:20240324T190900Z
UID:12115-1712343600-1712349000@sports.tukums.lv
SUMMARY:SV: Ventspils novads - Jūrmalas Sporta skola 1
DESCRIPTION:Ceturtdaļfināla 1.spēle!
URL:https://sports.tukums.lv/event/sv-ventspils-novads-jurmalas-sporta-skola-1-2/
CATEGORIES:Volejbols,Novads sieviešu volejbols
END:VEVENT
BEGIN:VEVENT
DTSTART;TZID=Europe/Riga:20240327T193000
DTEND;TZID=Europe/Riga:20240327T210000
DTSTAMP:20260424T133310
CREATED:20240321T064331Z
LAST-MODIFIED:20240325T072023Z
UID:12035-1711567800-1711573200@sports.tukums.lv
SUMMARY:SV: Tenapors Dobele - VK Saldus
DESCRIPTION:Ceturtdaļfināla 1.spēle!
URL:https://sports.tukums.lv/event/sv-tenapors-dobele-vk-saldus-2/
LOCATION:Kroņauce\, Tērvetes sporta centrs\, Kroņauce\, LV3730\, Latvija
CATEGORIES:Volejbols,Novads sieviešu volejbols
END:VEVENT
BEGIN:VEVENT
DTSTART;TZID=Europe/Riga:20240316T103000
DTEND;TZID=Europe/Riga:20240316T120000
DTSTAMP:20260424T133310
CREATED:20240123T081733Z
LAST-MODIFIED:20240304T125006Z
UID:10697-1710585000-1710590400@sports.tukums.lv
SUMMARY:SV: Jūrmalas Sporta skola 1 - SK Pūre
DESCRIPTION:Sieviešu volejbola čempionāta spēle!
URL:https://sports.tukums.lv/event/sv-jurmalas-sporta-skola-1-sk-pure/
LOCATION:Kļavu iela 29/31\, Dubulti Taurenītis\, Kļavu iela 29/31\, Dubulti \, Jūrmala\, Latvija
CATEGORIES:Volejbols,Novads sieviešu volejbols
END:VEVENT
BEGIN:VEVENT
DTSTART;TZID=Europe/Riga:20240314T193000
DTEND;TZID=Europe/Riga:20240314T210000
DTSTAMP:20260424T133310
CREATED:20240123T082101Z
LAST-MODIFIED:20240208T064758Z
UID:10705-1710444600-1710450000@sports.tukums.lv
SUMMARY:SV: Mārupe Desk Pro - SK Pūre
DESCRIPTION:Sieviešu volejbola čempionāta spēle!
URL:https://sports.tukums.lv/event/sv-marupe-desk-pro-sk-pure/
LOCATION:Smārde\, Smārdes skola\, Smārdes pagasts\, Tukuma novads\, LV3129\, Latvija
CATEGORIES:Volejbols,Novads sieviešu volejbols
END:VEVENT
BEGIN:VEVENT
DTSTART;TZID=Europe/Riga:20240313T190000
DTEND;TZID=Europe/Riga:20240313T200000
DTSTAMP:20260424T133310
CREATED:20240123T081221Z
LAST-MODIFIED:20240208T065428Z
UID:10685-1710356400-1710360000@sports.tukums.lv
SUMMARY:SV: Jūrmalas Sporta skola 2 - Tenapors Dobele
DESCRIPTION:Sieviešu volejbola čempionāta spēle!
URL:https://sports.tukums.lv/event/sv-jurmalas-sporta-skola-2-tenapors-dobele/
LOCATION:Kļavu iela 29/31\, Dubulti Taurenītis\, Kļavu iela 29/31\, Dubulti \, Jūrmala\, Latvija
CATEGORIES:Volejbols,Novads sieviešu volejbols
END:VEVENT
BEGIN:VEVENT
DTSTART;TZID=Europe/Riga:20240312T193000
DTEND;TZID=Europe/Riga:20240312T210000
DTSTAMP:20260424T133310
CREATED:20240123T080214Z
LAST-MODIFIED:20240216T105903Z
UID:10667-1710271800-1710277200@sports.tukums.lv
SUMMARY:SV: VK Saldus - Tukuma Sporta skola 1
DESCRIPTION:Sieviešu volejbola čempionāta spēle!
URL:https://sports.tukums.lv/event/sv-vk-saldus-tukuma-sporta-skola-1/
LOCATION:Cieceres pamatskola
CATEGORIES:Volejbols,Novads sieviešu volejbols
END:VEVENT
BEGIN:VEVENT
DTSTART;TZID=Europe/Riga:20240312T183000
DTEND;TZID=Europe/Riga:20240312T193000
DTSTAMP:20260424T133310
CREATED:20240123T080134Z
LAST-MODIFIED:20240216T105824Z
UID:10665-1710268200-1710271800@sports.tukums.lv
SUMMARY:SV: VK Saldus - Tukuma Sporta skola 2
DESCRIPTION:Sieviešu volejbola čempionāta spēle!
URL:https://sports.tukums.lv/event/sv-vk-saldus-tukuma-sporta-skola-2/
LOCATION:Cieceres pamatskola
CATEGORIES:Volejbols,Novads sieviešu volejbols
END:VEVENT
BEGIN:VEVENT
DTSTART;TZID=Europe/Riga:20240308T193000
DTEND;TZID=Europe/Riga:20240308T210000
DTSTAMP:20260424T133310
CREATED:20240123T081638Z
LAST-MODIFIED:20240123T081638Z
UID:10695-1709926200-1709931600@sports.tukums.lv
SUMMARY:SV: VK Saldus - Ventspils novads
DESCRIPTION:Sieviešu volejbola čempionāta spēle!
URL:https://sports.tukums.lv/event/sv-vk-saldus-ventspils-novads/
LOCATION:Cieceres pamatskola
CATEGORIES:Volejbols,Novads sieviešu volejbols
END:VEVENT
BEGIN:VEVENT
DTSTART;TZID=Europe/Riga:20240306T183000
DTEND;TZID=Europe/Riga:20240306T200000
DTSTAMP:20260424T133310
CREATED:20240123T081921Z
LAST-MODIFIED:20240208T065049Z
UID:10701-1709749800-1709755200@sports.tukums.lv
SUMMARY:SV: Jūrmalas Sporta skola 2 - Tukuma Sporta skola 1
DESCRIPTION:Sieviešu volejbola čempionāta spēle!
URL:https://sports.tukums.lv/event/sv-jurmalas-sporta-skola-2-tukuma-sporta-skola-1/
LOCATION:Kļavu iela 29/31\, Dubulti Taurenītis\, Kļavu iela 29/31\, Dubulti \, Jūrmala\, Latvija
CATEGORIES:Volejbols,Novads sieviešu volejbols
END:VEVENT
END:VCALENDAR