BEGIN:VCALENDAR
VERSION:2.0
PRODID:-//Sports Tukuma novadā - ECPv5.14.2.1//NONSGML v1.0//EN
CALSCALE:GREGORIAN
METHOD:PUBLISH
X-WR-CALNAME:Sports Tukuma novadā
X-ORIGINAL-URL:https://sports.tukums.lv
X-WR-CALDESC:Events for Sports Tukuma novadā
REFRESH-INTERVAL;VALUE=DURATION:PT1H
X-Robots-Tag:noindex
X-PUBLISHED-TTL:PT1H
BEGIN:VTIMEZONE
TZID:Europe/Riga
BEGIN:DAYLIGHT
TZOFFSETFROM:+0200
TZOFFSETTO:+0300
TZNAME:EEST
DTSTART:20250330T010000
END:DAYLIGHT
BEGIN:STANDARD
TZOFFSETFROM:+0300
TZOFFSETTO:+0200
TZNAME:EET
DTSTART:20251026T010000
END:STANDARD
END:VTIMEZONE
BEGIN:VEVENT
DTSTART;TZID=Europe/Riga:20251015T193000
DTEND;TZID=Europe/Riga:20251015T210000
DTSTAMP:20260423T151145
CREATED:20251007T114041Z
LAST-MODIFIED:20251007T114041Z
UID:21457-1760556600-1760562000@sports.tukums.lv
SUMMARY:SV: Tenapors Dobele - SK Pūre 2
DESCRIPTION:Sieviešu volejbola čempionāta spēle
URL:https://sports.tukums.lv/event/sv-tenapors-dobele-sk-pure-2-2/
LOCATION:Jaunbērze
CATEGORIES:Volejbols,Novads sieviešu volejbols
END:VEVENT
BEGIN:VEVENT
DTSTART;TZID=Europe/Riga:20251014T193000
DTEND;TZID=Europe/Riga:20251014T210000
DTSTAMP:20260423T151145
CREATED:20251007T113942Z
LAST-MODIFIED:20251007T113942Z
UID:21455-1760470200-1760475600@sports.tukums.lv
SUMMARY:SV: SK Pūre 1 - Tukuma Sporta skola
DESCRIPTION:Sieviešu volejbola čempionāta spēle
URL:https://sports.tukums.lv/event/sv-sk-pure-1-tukuma-sporta-skola/
LOCATION:Pūres sporta halle\, Pūres skola\, Pūre\, Latvija
CATEGORIES:Volejbols,Novads sieviešu volejbols
END:VEVENT
BEGIN:VEVENT
DTSTART;TZID=Europe/Riga:20251012T110000
DTEND;TZID=Europe/Riga:20251012T123000
DTSTAMP:20260423T151145
CREATED:20251007T113535Z
LAST-MODIFIED:20251007T113535Z
UID:21453-1760266800-1760272200@sports.tukums.lv
SUMMARY:SV: Ventspils novads - Sēme
DESCRIPTION:Sieviešu volejbola čempionāta spēle
URL:https://sports.tukums.lv/event/sv-ventspils-novads-seme-2/
LOCATION:Liepu iela 2\, Pope.\, Liepu iela 2\, Pope\, Latvija
CATEGORIES:Volejbols,Novads sieviešu volejbols
END:VEVENT
BEGIN:VEVENT
DTSTART;TZID=Europe/Riga:20250516T200000
DTEND;TZID=Europe/Riga:20250517T020000
DTSTAMP:20260423T151145
CREATED:20250427T185320Z
LAST-MODIFIED:20250427T185355Z
UID:19537-1747425600-1747447200@sports.tukums.lv
SUMMARY:Tukuma novada čempionātu apbalvošanas ceremonija un Sportistu balle!
DESCRIPTION:
URL:https://sports.tukums.lv/event/tukuma-novada-cempionatu-apbalvosanas-ceremonija-un-sportistu-balle/
LOCATION:Tumes kultūra nams\, Pasta iela 1A\, Tumes pagasts\, Tukuma novads\, LV-3139\, Latvija
CATEGORIES:Novads basketbols,Novads volejbols,Novads florbols,Novads galda teniss,Novads novuss,Novads sieviešu volejbols,Novads sieviešu basketbols
END:VEVENT
BEGIN:VEVENT
DTSTART;TZID=Europe/Riga:20250502T160000
DTEND;TZID=Europe/Riga:20250502T180000
DTSTAMP:20260423T151145
CREATED:20250406T084257Z
LAST-MODIFIED:20250430T041200Z
UID:19049-1746201600-1746208800@sports.tukums.lv
SUMMARY:FINĀLS: SK Pūre - Mārupe Desk Pro
DESCRIPTION:Sieviešu volejbola čempionāta fināls!
URL:https://sports.tukums.lv/event/sv-finals/
LOCATION:Tukuma sporta hallē\, Pauzera iela 7
CATEGORIES:Volejbols,Novads sieviešu volejbols
END:VEVENT
BEGIN:VEVENT
DTSTART;TZID=Europe/Riga:20250502T110000
DTEND;TZID=Europe/Riga:20250502T130000
DTSTAMP:20260423T151145
CREATED:20250406T084041Z
LAST-MODIFIED:20250430T041119Z
UID:19045-1746183600-1746190800@sports.tukums.lv
SUMMARY:Spēle par 3.vietu: Tenapors Dobele - Jūrmalas Sporta skola
DESCRIPTION:Volejbola čempionātu finālu diena!
URL:https://sports.tukums.lv/event/sv-spele-par-3-vietu/
LOCATION:Tukuma sporta hallē\, Pauzera iela 7
CATEGORIES:Volejbols,Novads sieviešu volejbols
END:VEVENT
BEGIN:VEVENT
DTSTART;TZID=Europe/Riga:20250429T193000
DTEND;TZID=Europe/Riga:20250429T210000
DTSTAMP:20260423T151145
CREATED:20250423T180949Z
LAST-MODIFIED:20250423T180949Z
UID:19430-1745955000-1745960400@sports.tukums.lv
SUMMARY:SV: SK Pūre - Tenapors Dobele
DESCRIPTION:Sieviešu volejbola čempionāta pusfināla 3.spēle!
URL:https://sports.tukums.lv/event/sv-sk-pure-tenapors-dobele-3/
LOCATION:Pūres sporta halle\, Pūres skola\, Pūre\, Latvija
CATEGORIES:Volejbols,Novads sieviešu volejbols
END:VEVENT
BEGIN:VEVENT
DTSTART;TZID=Europe/Riga:20250429T193000
DTEND;TZID=Europe/Riga:20250429T210000
DTSTAMP:20260423T151145
CREATED:20250414T094658Z
LAST-MODIFIED:20250422T072707Z
UID:19261-1745955000-1745960400@sports.tukums.lv
SUMMARY:SV: Jūrmalas Sporta skola - Mārupe Desk Pro
DESCRIPTION:Sieviešu volejbola čempionāta pusfināla 2.spēle
URL:https://sports.tukums.lv/event/sv-jurmalas-sporta-skola-marupe-desk-pro-2/
LOCATION:Smārde\, Smārdes skola\, Smārdes pagasts\, Tukuma novads\, LV3129\, Latvija
CATEGORIES:Volejbols,Novads sieviešu volejbols
END:VEVENT
BEGIN:VEVENT
DTSTART;TZID=Europe/Riga:20250423T193000
DTEND;TZID=Europe/Riga:20250423T210000
DTSTAMP:20260423T151145
CREATED:20250415T063320Z
LAST-MODIFIED:20250415T063320Z
UID:19295-1745436600-1745442000@sports.tukums.lv
SUMMARY:SV: Tenapors Dobele - SK Pūre
DESCRIPTION:Sieviešu volejbola čempionāta pusfināla 2.spēle
URL:https://sports.tukums.lv/event/sv-tenapors-dobele-sk-pure-2/
LOCATION:Jaunbērze
CATEGORIES:Volejbols,Novads sieviešu volejbols
END:VEVENT
BEGIN:VEVENT
DTSTART;TZID=Europe/Riga:20250416T193000
DTEND;TZID=Europe/Riga:20250416T210000
DTSTAMP:20260423T151145
CREATED:20250408T114057Z
LAST-MODIFIED:20250408T114057Z
UID:19136-1744831800-1744837200@sports.tukums.lv
SUMMARY:SV: Mārupe Desk Pro - Jūrmalas Sporta skola
DESCRIPTION:Sieviešu volejbola čempionāta 1.pusfināla spēle!
URL:https://sports.tukums.lv/event/sv-marupe-desk-pro-jurmalas-sporta-skola-3/
LOCATION:Smārde\, Smārdes skola\, Smārdes pagasts\, Tukuma novads\, LV3129\, Latvija
CATEGORIES:Volejbols,Novads sieviešu volejbols
END:VEVENT
BEGIN:VEVENT
DTSTART;TZID=Europe/Riga:20250415T193000
DTEND;TZID=Europe/Riga:20250415T210000
DTSTAMP:20260423T151145
CREATED:20250408T114359Z
LAST-MODIFIED:20250411T174736Z
UID:19138-1744745400-1744750800@sports.tukums.lv
SUMMARY:SV: SK Pūre - Tenapors Dobele
DESCRIPTION:Sieviešu volejbola čempionāta 1.pusfināla spēle
URL:https://sports.tukums.lv/event/sv-sk-pure/
LOCATION:Pūres sporta halle\, Pūres skola\, Pūre\, Latvija
CATEGORIES:Volejbols,Novads sieviešu volejbols
END:VEVENT
BEGIN:VEVENT
DTSTART;TZID=Europe/Riga:20250411T193000
DTEND;TZID=Europe/Riga:20250411T210000
DTSTAMP:20260423T151145
CREATED:20250403T180613Z
LAST-MODIFIED:20250403T180613Z
UID:18986-1744399800-1744405200@sports.tukums.lv
SUMMARY:SV: VK Saldus - Tenapors Dobele
DESCRIPTION:Ceturtdaļfināla sērijas 3.spēle
URL:https://sports.tukums.lv/event/sv-vk-saldus-tenapors-dobele-4/
LOCATION:Cieceres pamatskola
CATEGORIES:Volejbols,Novads sieviešu volejbols
END:VEVENT
BEGIN:VEVENT
DTSTART;TZID=Europe/Riga:20250402T193000
DTEND;TZID=Europe/Riga:20250402T210000
DTSTAMP:20260423T151145
CREATED:20250320T080632Z
LAST-MODIFIED:20250320T080632Z
UID:18606-1743622200-1743627600@sports.tukums.lv
SUMMARY:SV: Lapmežciems - SK Pūre
DESCRIPTION:Sieviešu volejbola čempionāta ceturtdaļfināla 2.spēle
URL:https://sports.tukums.lv/event/sv-lapmezciems-sk-pure-2/
LOCATION:Lapmežciema sporta komplekss
CATEGORIES:Novads sieviešu volejbols
END:VEVENT
BEGIN:VEVENT
DTSTART;TZID=Europe/Riga:20250401T193000
DTEND;TZID=Europe/Riga:20250401T210000
DTSTAMP:20260423T151145
CREATED:20250320T080855Z
LAST-MODIFIED:20250320T195433Z
UID:18610-1743535800-1743541200@sports.tukums.lv
SUMMARY:SV: Tenapors Dobele - VK Saldus
DESCRIPTION:Sieviešu volejbola čempionāta ceturtdaļfināla 2.spēle
URL:https://sports.tukums.lv/event/sv-tenapors-dobele-vk-saldus-4/
LOCATION:Jaunbērze
CATEGORIES:Novads sieviešu volejbols
END:VEVENT
BEGIN:VEVENT
DTSTART;TZID=Europe/Riga:20250401T193000
DTEND;TZID=Europe/Riga:20250401T210000
DTSTAMP:20260423T151145
CREATED:20250320T080548Z
LAST-MODIFIED:20250320T080548Z
UID:18604-1743535800-1743541200@sports.tukums.lv
SUMMARY:SV: Sēme - Mārupe Desk Pro
DESCRIPTION:Sieviešu volejbola čempionāta ceturtdaļfināla 2.spēle
URL:https://sports.tukums.lv/event/sv-seme-marupe-desk-pro-2/
LOCATION:Sēme\, Sēmes sākumskola
CATEGORIES:Novads sieviešu volejbols
END:VEVENT
BEGIN:VEVENT
DTSTART;TZID=Europe/Riga:20250331T190000
DTEND;TZID=Europe/Riga:20250331T203000
DTSTAMP:20260423T151145
CREATED:20250320T080501Z
LAST-MODIFIED:20250320T080501Z
UID:18602-1743447600-1743453000@sports.tukums.lv
SUMMARY:SV: Jūrmalas Sporta skola - Ventspils novads
DESCRIPTION:Sieviešu volejbola čempionāta ceturtdaļfināla 2.spēle
URL:https://sports.tukums.lv/event/sv-jurmalas-sporta-skola-ventspils-novads-2/
LOCATION:Kļavu iela 29/31\, Dubulti Taurenītis\, Kļavu iela 29/31\, Dubulti \, Jūrmala\, Latvija
CATEGORIES:Novads sieviešu volejbols
END:VEVENT
BEGIN:VEVENT
DTSTART;TZID=Europe/Riga:20250327T193000
DTEND;TZID=Europe/Riga:20250327T210000
DTSTAMP:20260423T151145
CREATED:20250320T080300Z
LAST-MODIFIED:20250320T084520Z
UID:18598-1743103800-1743109200@sports.tukums.lv
SUMMARY:SV: Mārupe Desk Pro - Sēme
DESCRIPTION:Sieviešu volejbola čempionāta ceturtdaļfināla 1.spēle
URL:https://sports.tukums.lv/event/sv-marupe-desk-pro-seme-2/
LOCATION:Smārde\, Smārdes skola\, Smārdes pagasts\, Tukuma novads\, LV3129\, Latvija
CATEGORIES:Novads sieviešu volejbols
END:VEVENT
BEGIN:VEVENT
DTSTART;TZID=Europe/Riga:20250326T193000
DTEND;TZID=Europe/Riga:20250326T210000
DTSTAMP:20260423T151145
CREATED:20250320T080348Z
LAST-MODIFIED:20250320T080348Z
UID:18600-1743017400-1743022800@sports.tukums.lv
SUMMARY:SV: SK Pūre - Lapmežciems
DESCRIPTION:Sieviešu volejbola čempionāta ceturtdaļfināla 1.spēle
URL:https://sports.tukums.lv/event/sv-sk-pure-lapmezciems-2/
LOCATION:Pūres sporta halle\, Pūres skola\, Pūre\, Latvija
CATEGORIES:Novads sieviešu volejbols
END:VEVENT
BEGIN:VEVENT
DTSTART;TZID=Europe/Riga:20250325T193000
DTEND;TZID=Europe/Riga:20250325T210000
DTSTAMP:20260423T151145
CREATED:20250320T080813Z
LAST-MODIFIED:20250320T080813Z
UID:18608-1742931000-1742936400@sports.tukums.lv
SUMMARY:SV: VK Saldus - Tenapors Dobele
DESCRIPTION:Sieviešu volejbola čempionāta ceturtdaļfināla 1.spēle
URL:https://sports.tukums.lv/event/sv-vk-saldus-tenapors-dobele-3/
LOCATION:Cieceres pamatskola
CATEGORIES:Novads sieviešu volejbols
END:VEVENT
BEGIN:VEVENT
DTSTART;TZID=Europe/Riga:20250324T190000
DTEND;TZID=Europe/Riga:20250324T203000
DTSTAMP:20260423T151145
CREATED:20250320T080212Z
LAST-MODIFIED:20250320T080212Z
UID:18596-1742842800-1742848200@sports.tukums.lv
SUMMARY:SV: Ventspils novads - Jūrmalas Sporta skola
DESCRIPTION:Sieviešu volejbola čempionāta ceturtdaļfināla 1.spēle
URL:https://sports.tukums.lv/event/sv-ventspils-novads-jurmalas-sporta-skola-3/
LOCATION:Liepu iela 2\, Pope.\, Liepu iela 2\, Pope\, Latvija
CATEGORIES:Novads sieviešu volejbols
END:VEVENT
BEGIN:VEVENT
DTSTART;TZID=Europe/Riga:20250319T193000
DTEND;TZID=Europe/Riga:20250319T210000
DTSTAMP:20260423T151145
CREATED:20250127T100931Z
LAST-MODIFIED:20250227T085829Z
UID:17388-1742412600-1742418000@sports.tukums.lv
SUMMARY:SV: Lapmežciems - Jūrmalas Sporta skola
DESCRIPTION:Tukuma novada sieviešu volejbola čempionāta spēle!
URL:https://sports.tukums.lv/event/sv-lapmezciems-jurmalas-sporta-skola/
LOCATION:Lapmežciema sporta komplekss
CATEGORIES:Novads sieviešu volejbols
END:VEVENT
BEGIN:VEVENT
DTSTART;TZID=Europe/Riga:20250318T193000
DTEND;TZID=Europe/Riga:20250318T210000
DTSTAMP:20260423T151145
CREATED:20250220T062315Z
LAST-MODIFIED:20250310T074851Z
UID:17910-1742326200-1742331600@sports.tukums.lv
SUMMARY:SV: Mārupe Desk Pro - Sēme
DESCRIPTION:Sieviešu volejbola čempionāta spēle!
URL:https://sports.tukums.lv/event/sv-marupe-desk-pro-seme/
LOCATION:Sēme\, Sēmes sākumskola
CATEGORIES:Novads sieviešu volejbols
END:VEVENT
BEGIN:VEVENT
DTSTART;TZID=Europe/Riga:20250311T193000
DTEND;TZID=Europe/Riga:20250311T210000
DTSTAMP:20260423T151145
CREATED:20250107T084201Z
LAST-MODIFIED:20250310T074936Z
UID:16793-1741721400-1741726800@sports.tukums.lv
SUMMARY:SV: Mārupe Desk Pro - SK Pūre
DESCRIPTION:Sieviešu volejbola čempionāta spēle!
URL:https://sports.tukums.lv/event/sv-marupe-desk-pro-sk-pure-2/
LOCATION:Pūres sporta halle\, Pūres skola\, Pūre\, Latvija
CATEGORIES:Novads sieviešu volejbols
END:VEVENT
BEGIN:VEVENT
DTSTART;TZID=Europe/Riga:20250310T190000
DTEND;TZID=Europe/Riga:20250310T203000
DTSTAMP:20260423T151145
CREATED:20250127T101204Z
LAST-MODIFIED:20250127T101204Z
UID:17392-1741633200-1741638600@sports.tukums.lv
SUMMARY:SV: Tukuma Sporta skola - Tenapors Dobele
DESCRIPTION:Tukuma novada sieviešu volejbola čempionāta spēle!
URL:https://sports.tukums.lv/event/sv-tukuma-sporta-skola-tenapors-dobele/
LOCATION:Tukuma sporta hallē\, Pauzera iela 7
CATEGORIES:Novads sieviešu volejbols
END:VEVENT
BEGIN:VEVENT
DTSTART;TZID=Europe/Riga:20250310T190000
DTEND;TZID=Europe/Riga:20250310T203000
DTSTAMP:20260423T151145
CREATED:20250127T101118Z
LAST-MODIFIED:20250127T101118Z
UID:17390-1741633200-1741638600@sports.tukums.lv
SUMMARY:SV: Jūrmalas Sporta skola - VK Saldus
DESCRIPTION:Tukuma novada sieviešu volejbola čempionāta spēle!
URL:https://sports.tukums.lv/event/sv-jurmalas-sporta-skola-vk-saldus/
LOCATION:Kļavu iela 29/31\, Dubulti Taurenītis\, Kļavu iela 29/31\, Dubulti \, Jūrmala\, Latvija
CATEGORIES:Novads sieviešu volejbols
END:VEVENT
BEGIN:VEVENT
DTSTART;TZID=Europe/Riga:20250305T193000
DTEND;TZID=Europe/Riga:20250305T210000
DTSTAMP:20260423T151145
CREATED:20250220T061958Z
LAST-MODIFIED:20250220T061958Z
UID:17907-1741203000-1741208400@sports.tukums.lv
SUMMARY:SV: Mārupe Desk Pro - Tenapors Dobele
DESCRIPTION:Sieviešu volejbola čempionāta spēle Jaunbērzē!
URL:https://sports.tukums.lv/event/sv-marupe-desk-pro-tenapors-dobele-2/
LOCATION:Jaunbērze
CATEGORIES:Novads sieviešu volejbols
END:VEVENT
BEGIN:VEVENT
DTSTART;TZID=Europe/Riga:20250304T193000
DTEND;TZID=Europe/Riga:20250304T210000
DTSTAMP:20260423T151145
CREATED:20250127T100848Z
LAST-MODIFIED:20250127T100848Z
UID:17386-1741116600-1741122000@sports.tukums.lv
SUMMARY:SV: SK Pūre - Sēme
DESCRIPTION:Tukuma novada sieviešu volejbola čempionāta spēle!
URL:https://sports.tukums.lv/event/sv-sk-pure-seme/
LOCATION:Pūres sporta halle\, Pūres skola\, Pūre\, Latvija
CATEGORIES:Novads sieviešu volejbols
END:VEVENT
BEGIN:VEVENT
DTSTART;TZID=Europe/Riga:20250304T193000
DTEND;TZID=Europe/Riga:20250304T210000
DTSTAMP:20260423T151145
CREATED:20250127T100806Z
LAST-MODIFIED:20250127T100806Z
UID:17384-1741116600-1741122000@sports.tukums.lv
SUMMARY:SV: VK Saldus - Tukuma Sporta skola
DESCRIPTION:Tukuma novada sieviešu volejbola čempionāta spēle!
URL:https://sports.tukums.lv/event/sv-vk-saldus-tukuma-sporta-skola/
LOCATION:Cieceres pamatskola
CATEGORIES:Novads sieviešu volejbols
END:VEVENT
BEGIN:VEVENT
DTSTART;TZID=Europe/Riga:20250228T193000
DTEND;TZID=Europe/Riga:20250228T210000
DTSTAMP:20260423T151145
CREATED:20250219T184016Z
LAST-MODIFIED:20250219T184016Z
UID:17895-1740771000-1740776400@sports.tukums.lv
SUMMARY:SV: Tenapors Dobele - SK Pūre
DESCRIPTION:Sieviešu volejbola čempionāta spēle!
URL:https://sports.tukums.lv/event/sv-tenapors-dobele-sk-pure/
LOCATION:Kroņauce\, Tērvetes sporta centrs\, Kroņauce\, LV3730\, Latvija
CATEGORIES:Novads sieviešu volejbols
END:VEVENT
BEGIN:VEVENT
DTSTART;TZID=Europe/Riga:20250225T193000
DTEND;TZID=Europe/Riga:20250225T210000
DTSTAMP:20260423T151145
CREATED:20250127T100632Z
LAST-MODIFIED:20250127T100632Z
UID:17382-1740511800-1740517200@sports.tukums.lv
SUMMARY:SV: VK Saldus - Mārupe Desk Pro
DESCRIPTION:Tukuma novada sieviešu volejbola čempionāta spēle!
URL:https://sports.tukums.lv/event/sv-vk-saldus-marupe-desk-pro-2/
LOCATION:Cieceres pamatskola
CATEGORIES:Novads sieviešu volejbols
END:VEVENT
END:VCALENDAR