BEGIN:VCALENDAR
VERSION:2.0
PRODID:-//Sports Tukuma novadā - ECPv5.14.2.1//NONSGML v1.0//EN
CALSCALE:GREGORIAN
METHOD:PUBLISH
X-WR-CALNAME:Sports Tukuma novadā
X-ORIGINAL-URL:https://sports.tukums.lv
X-WR-CALDESC:Events for Sports Tukuma novadā
REFRESH-INTERVAL;VALUE=DURATION:PT1H
X-Robots-Tag:noindex
X-PUBLISHED-TTL:PT1H
BEGIN:VTIMEZONE
TZID:Europe/Riga
BEGIN:DAYLIGHT
TZOFFSETFROM:+0200
TZOFFSETTO:+0300
TZNAME:EEST
DTSTART:20240331T010000
END:DAYLIGHT
BEGIN:STANDARD
TZOFFSETFROM:+0300
TZOFFSETTO:+0200
TZNAME:EET
DTSTART:20241027T010000
END:STANDARD
BEGIN:DAYLIGHT
TZOFFSETFROM:+0200
TZOFFSETTO:+0300
TZNAME:EEST
DTSTART:20250330T010000
END:DAYLIGHT
BEGIN:STANDARD
TZOFFSETFROM:+0300
TZOFFSETTO:+0200
TZNAME:EET
DTSTART:20251026T010000
END:STANDARD
END:VTIMEZONE
BEGIN:VEVENT
DTSTART;TZID=Europe/Riga:20250217T190000
DTEND;TZID=Europe/Riga:20250217T203000
DTSTAMP:20260423T180711
CREATED:20250127T100001Z
LAST-MODIFIED:20250127T100001Z
UID:17370-1739818800-1739824200@sports.tukums.lv
SUMMARY:SV: Ventspils novads - Tukuma Sporta skola
DESCRIPTION:Tukuma novada sieviešu volejbola čempionāta spēle!
URL:https://sports.tukums.lv/event/sv-ventspils-novads-tukuma-sporta-skola/
LOCATION:Liepu iela 2\, Pope.\, Liepu iela 2\, Pope\, Latvija
CATEGORIES:Novads sieviešu volejbols
END:VEVENT
BEGIN:VEVENT
DTSTART;TZID=Europe/Riga:20250213T193000
DTEND;TZID=Europe/Riga:20250213T210000
DTSTAMP:20260423T180711
CREATED:20250127T134033Z
LAST-MODIFIED:20250127T134033Z
UID:17397-1739475000-1739480400@sports.tukums.lv
SUMMARY:SV: Mārupe Desk Pro - Ventspils novads
DESCRIPTION:Tukuma novada sieviešu volejbola čempionāta spēle!
URL:https://sports.tukums.lv/event/sv-marupe-desk-pro-ventspils-novads/
LOCATION:Smārde\, Smārdes skola\, Smārdes pagasts\, Tukuma novads\, LV3129\, Latvija
CATEGORIES:Novads sieviešu volejbols
END:VEVENT
BEGIN:VEVENT
DTSTART;TZID=Europe/Riga:20250212T193000
DTEND;TZID=Europe/Riga:20250212T210000
DTSTAMP:20260423T180711
CREATED:20250127T095910Z
LAST-MODIFIED:20250127T095910Z
UID:17368-1739388600-1739394000@sports.tukums.lv
SUMMARY:SV: Lapmežciems - SK Pūre
DESCRIPTION:Tukuma novada sieviešu volejbola čempionāta spēle!
URL:https://sports.tukums.lv/event/sv-lapmezciems-sk-pure/
LOCATION:Lapmežciema sporta komplekss
CATEGORIES:Novads sieviešu volejbols
END:VEVENT
BEGIN:VEVENT
DTSTART;TZID=Europe/Riga:20250211T193000
DTEND;TZID=Europe/Riga:20250211T210000
DTSTAMP:20260423T180711
CREATED:20250127T095822Z
LAST-MODIFIED:20250127T095822Z
UID:17366-1739302200-1739307600@sports.tukums.lv
SUMMARY:SV: VK Saldus - Sēme
DESCRIPTION:Tukuma novada sieviešu volejbola čempionāta spēle!
URL:https://sports.tukums.lv/event/sv-vk-saldus-seme/
LOCATION:Cieceres pamatskola
CATEGORIES:Novads sieviešu volejbols
END:VEVENT
BEGIN:VEVENT
DTSTART;TZID=Europe/Riga:20250210T190000
DTEND;TZID=Europe/Riga:20250210T203000
DTSTAMP:20260423T180711
CREATED:20250127T095743Z
LAST-MODIFIED:20250127T095743Z
UID:17364-1739214000-1739219400@sports.tukums.lv
SUMMARY:SV: Tukuma Sporta skola - Jūrmalas Sporta skola
DESCRIPTION:Tukuma novada sieviešu volejbola čempionāta spēle!
URL:https://sports.tukums.lv/event/sv-tukuma-sporta-skola-jurmalas-sporta-skola/
LOCATION:Tukuma sporta hallē\, Pauzera iela 7
CATEGORIES:Novads sieviešu volejbols
END:VEVENT
BEGIN:VEVENT
DTSTART;TZID=Europe/Riga:20250207T193000
DTEND;TZID=Europe/Riga:20250207T210000
DTSTAMP:20260423T180711
CREATED:20250127T095645Z
LAST-MODIFIED:20250127T095645Z
UID:17362-1738956600-1738962000@sports.tukums.lv
SUMMARY:SV: Tenapors Dobele - VK Saldus
DESCRIPTION:Tukuma novada sieviešu volejbola čempionāta spēle!
URL:https://sports.tukums.lv/event/sv-tenapors-dobele-vk-saldus-3/
LOCATION:Kroņauce\, Tērvetes sporta centrs\, Kroņauce\, LV3730\, Latvija
CATEGORIES:Novads sieviešu volejbols
END:VEVENT
BEGIN:VEVENT
DTSTART;TZID=Europe/Riga:20250204T193000
DTEND;TZID=Europe/Riga:20250204T210000
DTSTAMP:20260423T180711
CREATED:20250127T095556Z
LAST-MODIFIED:20250127T095556Z
UID:17360-1738697400-1738702800@sports.tukums.lv
SUMMARY:SV: Sēme - Lapmežciems
DESCRIPTION:Tukuma novada sieviešu volejbola čempionāta spēle!
URL:https://sports.tukums.lv/event/sv-seme-lapmezciems/
LOCATION:Sēme\, Sēmes sākumskola
CATEGORIES:Novads sieviešu volejbols
END:VEVENT
BEGIN:VEVENT
DTSTART;TZID=Europe/Riga:20250204T193000
DTEND;TZID=Europe/Riga:20250204T210000
DTSTAMP:20260423T180711
CREATED:20250127T095513Z
LAST-MODIFIED:20250127T095513Z
UID:17358-1738697400-1738702800@sports.tukums.lv
SUMMARY:SV: SK Pūre - Ventspils novads
DESCRIPTION:Tukuma novada sieviešu volejbola čempionāta spēle!
URL:https://sports.tukums.lv/event/sv-sk-pure-ventspils-novads-2/
LOCATION:Pūres sporta halle\, Pūres skola\, Pūre\, Latvija
CATEGORIES:Novads sieviešu volejbols
END:VEVENT
BEGIN:VEVENT
DTSTART;TZID=Europe/Riga:20250203T190000
DTEND;TZID=Europe/Riga:20250203T203000
DTSTAMP:20260423T180711
CREATED:20250127T095420Z
LAST-MODIFIED:20250127T095420Z
UID:17356-1738609200-1738614600@sports.tukums.lv
SUMMARY:SV: Mārupe Desk Pro - Jūrmalas Sporta skola
DESCRIPTION:Tukuma novada sieviešu volejbola čempionāta spēle!
URL:https://sports.tukums.lv/event/sv-marupe-desk-pro-jurmalas-sporta-skola/
LOCATION:Kļavu iela 29/31\, Dubulti Taurenītis\, Kļavu iela 29/31\, Dubulti \, Jūrmala\, Latvija
CATEGORIES:Novads sieviešu volejbols
END:VEVENT
BEGIN:VEVENT
DTSTART;TZID=Europe/Riga:20250129T193000
DTEND;TZID=Europe/Riga:20250129T210000
DTSTAMP:20260423T180711
CREATED:20250107T085553Z
LAST-MODIFIED:20250107T085553Z
UID:16809-1738179000-1738184400@sports.tukums.lv
SUMMARY:SV: Lapmežciems - Tenapors Dobele
DESCRIPTION:Sieviešu volejbola čempionāta spēle!
URL:https://sports.tukums.lv/event/sv-lapmezciems-tenapors-dobele/
LOCATION:Lapmežciema sporta komplekss
CATEGORIES:Novads sieviešu volejbols
END:VEVENT
BEGIN:VEVENT
DTSTART;TZID=Europe/Riga:20250127T193000
DTEND;TZID=Europe/Riga:20250127T210000
DTSTAMP:20260423T180711
CREATED:20250107T085506Z
LAST-MODIFIED:20250107T085506Z
UID:16807-1738006200-1738011600@sports.tukums.lv
SUMMARY:SV: Ventspils novads - Sēme
DESCRIPTION:Sieviešu volejbola čempionāta spēle!
URL:https://sports.tukums.lv/event/sv-ventspils-novads-seme/
LOCATION:Liepu iela 2\, Pope.\, Liepu iela 2\, Pope\, Latvija
CATEGORIES:Novads sieviešu volejbols
END:VEVENT
BEGIN:VEVENT
DTSTART;TZID=Europe/Riga:20250127T190000
DTEND;TZID=Europe/Riga:20250127T203000
DTSTAMP:20260423T180711
CREATED:20250107T085417Z
LAST-MODIFIED:20250107T085417Z
UID:16805-1738004400-1738009800@sports.tukums.lv
SUMMARY:SV: Jūrmalas Sporta skola - SK Pūre
DESCRIPTION:Sieviešu volejbola čempionāta spēle!
URL:https://sports.tukums.lv/event/sv-jurmalas-sporta-skola-sk-pure/
LOCATION:Kļavu iela 29/31\, Dubulti Taurenītis\, Kļavu iela 29/31\, Dubulti \, Jūrmala\, Latvija
CATEGORIES:Novads sieviešu volejbols
END:VEVENT
BEGIN:VEVENT
DTSTART;TZID=Europe/Riga:20250127T190000
DTEND;TZID=Europe/Riga:20250127T203000
DTSTAMP:20260423T180711
CREATED:20250107T085338Z
LAST-MODIFIED:20250107T085338Z
UID:16803-1738004400-1738009800@sports.tukums.lv
SUMMARY:SV: Tukuma Sporta skola - Mārupe Desk Pro
DESCRIPTION:Sieviešu volejbola čempionāta spēle!
URL:https://sports.tukums.lv/event/sv-tukuma-sporta-skola-marupe-desk-pro/
LOCATION:Tukuma sporta hallē\, Pauzera iela 7
CATEGORIES:Novads sieviešu volejbols
END:VEVENT
BEGIN:VEVENT
DTSTART;TZID=Europe/Riga:20250124T190000
DTEND;TZID=Europe/Riga:20250124T203000
DTSTAMP:20260423T180711
CREATED:20241227T071511Z
LAST-MODIFIED:20250107T083237Z
UID:16597-1737745200-1737750600@sports.tukums.lv
SUMMARY:SV: Jūrmalas Sporta skola - Tenapors Dobele
DESCRIPTION:Tukuma novada sieviešu volejbola čempionāta spēle!
URL:https://sports.tukums.lv/event/sv-jurmalas-sporta-skola-tenapors-dobele/
LOCATION:Kļavu iela 29/31\, Dubulti Taurenītis\, Kļavu iela 29/31\, Dubulti \, Jūrmala\, Latvija
CATEGORIES:Novads sieviešu volejbols
END:VEVENT
BEGIN:VEVENT
DTSTART;TZID=Europe/Riga:20250122T193000
DTEND;TZID=Europe/Riga:20250122T210000
DTSTAMP:20260423T180711
CREATED:20250107T085246Z
LAST-MODIFIED:20250107T085246Z
UID:16801-1737574200-1737579600@sports.tukums.lv
SUMMARY:SV: Tenapors Dobele - Ventspils novads
DESCRIPTION:Sieviešu volejbola čempionāta spēle!
URL:https://sports.tukums.lv/event/sv-tenapors-dobele-ventspils-novads-2/
LOCATION:Jaunbērze
CATEGORIES:Novads sieviešu volejbols
END:VEVENT
BEGIN:VEVENT
DTSTART;TZID=Europe/Riga:20250121T193000
DTEND;TZID=Europe/Riga:20250121T210000
DTSTAMP:20260423T180711
CREATED:20250107T085201Z
LAST-MODIFIED:20250107T085201Z
UID:16799-1737487800-1737493200@sports.tukums.lv
SUMMARY:SV: VK Saldus - Lapmežciems
DESCRIPTION:Sieviešu volejbola čempionāta spēle!
URL:https://sports.tukums.lv/event/sv-vk-saldus-lapmezciems/
LOCATION:Cieceres pamatskola
CATEGORIES:Novads sieviešu volejbols
END:VEVENT
BEGIN:VEVENT
DTSTART;TZID=Europe/Riga:20250121T193000
DTEND;TZID=Europe/Riga:20250121T210000
DTSTAMP:20260423T180711
CREATED:20250107T085112Z
LAST-MODIFIED:20250107T085112Z
UID:16797-1737487800-1737493200@sports.tukums.lv
SUMMARY:SV: SK Pūre - Tukuma Sporta skola
DESCRIPTION:Sieviešu volejbola čempionāta spēle!
URL:https://sports.tukums.lv/event/sv-sk-pure-tukuma-sporta-skola/
LOCATION:Pūres sporta halle\, Pūres skola\, Pūre\, Latvija
CATEGORIES:Novads sieviešu volejbols
END:VEVENT
BEGIN:VEVENT
DTSTART;TZID=Europe/Riga:20250120T193000
DTEND;TZID=Europe/Riga:20250120T210000
DTSTAMP:20260423T180711
CREATED:20250107T085025Z
LAST-MODIFIED:20250116T152921Z
UID:16795-1737401400-1737406800@sports.tukums.lv
SUMMARY:SV: Sēme - Jūrmalas Sporta skola
DESCRIPTION:Sieviešu volejbola čempionāta spēle!
URL:https://sports.tukums.lv/event/sv-seme-jurmalas-sporta-skola/
LOCATION:Sēme\, Sēmes sākumskola
CATEGORIES:Novads sieviešu volejbols
END:VEVENT
BEGIN:VEVENT
DTSTART;TZID=Europe/Riga:20250114T193000
DTEND;TZID=Europe/Riga:20250114T210000
DTSTAMP:20260423T180711
CREATED:20241227T071556Z
LAST-MODIFIED:20241227T071556Z
UID:16599-1736883000-1736888400@sports.tukums.lv
SUMMARY:SV: Sēme - Tukuma Sporta skola
DESCRIPTION:Tukuma novada sieviešu volejbola čempionāta spēle!
URL:https://sports.tukums.lv/event/sv-seme-tukuma-sporta-skola/
LOCATION:Sēme\, Sēmes sākumskola
CATEGORIES:Novads sieviešu volejbols
END:VEVENT
BEGIN:VEVENT
DTSTART;TZID=Europe/Riga:20250113T193000
DTEND;TZID=Europe/Riga:20250113T210000
DTSTAMP:20260423T180711
CREATED:20241227T071412Z
LAST-MODIFIED:20241227T071412Z
UID:16595-1736796600-1736802000@sports.tukums.lv
SUMMARY:SV: Ventspils novads - VK Saldus
DESCRIPTION:Tukuma novada sieviešu volejbola čempionāta spēle!
URL:https://sports.tukums.lv/event/sv-ventspils-novads-vk-saldus-2/
LOCATION:Liepu iela 2\, Pope.\, Liepu iela 2\, Pope\, Latvija
CATEGORIES:Novads sieviešu volejbols
END:VEVENT
BEGIN:VEVENT
DTSTART;TZID=Europe/Riga:20250107T193000
DTEND;TZID=Europe/Riga:20250107T210000
DTSTAMP:20260423T180711
CREATED:20241227T071313Z
LAST-MODIFIED:20241227T071313Z
UID:16593-1736278200-1736283600@sports.tukums.lv
SUMMARY:SV: Sēme - Mārupe Desk Pro
DESCRIPTION:Tukuma novada sieviešu volejbola čempionāta spēle!
URL:https://sports.tukums.lv/event/sv-seme-marupe-desk-pro/
LOCATION:Sēme\, Sēmes sākumskola
CATEGORIES:Novads sieviešu volejbols
END:VEVENT
BEGIN:VEVENT
DTSTART;TZID=Europe/Riga:20241219T190000
DTEND;TZID=Europe/Riga:20241219T203000
DTSTAMP:20260423T180711
CREATED:20241018T081010Z
LAST-MODIFIED:20241209T133543Z
UID:15152-1734634800-1734640200@sports.tukums.lv
SUMMARY:SV: VK Saldus - Jūrmalas Sporta skola
DESCRIPTION:Sieviešu volejbola čempionāta spēle!
URL:https://sports.tukums.lv/event/sv-vk-saldus-jurmalas-sporta-skola/
LOCATION:Cieceres pamatskola
CATEGORIES:Novads sieviešu volejbols
END:VEVENT
BEGIN:VEVENT
DTSTART;TZID=Europe/Riga:20241216T190000
DTEND;TZID=Europe/Riga:20241216T203000
DTSTAMP:20260423T180712
CREATED:20241018T080735Z
LAST-MODIFIED:20241123T135802Z
UID:15148-1734375600-1734381000@sports.tukums.lv
SUMMARY:SV: Jūrmalas Sporta skola - Lapmežciems
DESCRIPTION:Sieviešu volejbola čempionāta spēle!
URL:https://sports.tukums.lv/event/sv-jurmalas-sporta-skola-lapmezciems/
LOCATION:Kļavu iela 29/31\, Dubulti Taurenītis\, Kļavu iela 29/31\, Dubulti \, Jūrmala\, Latvija
CATEGORIES:Novads sieviešu volejbols
END:VEVENT
BEGIN:VEVENT
DTSTART;TZID=Europe/Riga:20241211T193000
DTEND;TZID=Europe/Riga:20241211T210000
DTSTAMP:20260423T180712
CREATED:20241018T081101Z
LAST-MODIFIED:20241018T081101Z
UID:15154-1733945400-1733950800@sports.tukums.lv
SUMMARY:SV: Tenapors Dobele - Tukuma Sporta skola
DESCRIPTION:Sieviešu volejbola čempionāta spēle!
URL:https://sports.tukums.lv/event/sv-tenapors-dobele-tukuma-sporta-skola/
LOCATION:Jaunbērze
CATEGORIES:Novads sieviešu volejbols
END:VEVENT
BEGIN:VEVENT
DTSTART;TZID=Europe/Riga:20241209T190000
DTEND;TZID=Europe/Riga:20241209T203000
DTSTAMP:20260423T180712
CREATED:20241018T075658Z
LAST-MODIFIED:20241122T081535Z
UID:15126-1733770800-1733776200@sports.tukums.lv
SUMMARY:SV: Jūrmalas Sporta skola - Tukuma Sporta skola
DESCRIPTION:Sieviešu volejbola čempionāta spēle!
URL:https://sports.tukums.lv/event/sv-jurmalas-sporta-skola-tukuma-sporta-skola/
LOCATION:Kļavu iela 29/31\, Dubulti Taurenītis\, Kļavu iela 29/31\, Dubulti \, Jūrmala\, Latvija
CATEGORIES:Novads sieviešu volejbols
END:VEVENT
BEGIN:VEVENT
DTSTART;TZID=Europe/Riga:20241206T193000
DTEND;TZID=Europe/Riga:20241206T210000
DTSTAMP:20260423T180712
CREATED:20241130T131452Z
LAST-MODIFIED:20241130T131452Z
UID:16035-1733513400-1733518800@sports.tukums.lv
SUMMARY:SV: Tenapors Dobele - Mārupe Desk Pro
DESCRIPTION:Sieviešu volejbola čempionāta spēle
URL:https://sports.tukums.lv/event/sv-tenapors-dobele-marupe-desk-pro/
LOCATION:Kroņauce\, Tērvetes sporta centrs\, Kroņauce\, LV3730\, Latvija
CATEGORIES:Novads sieviešu volejbols
END:VEVENT
BEGIN:VEVENT
DTSTART;TZID=Europe/Riga:20241204T193000
DTEND;TZID=Europe/Riga:20241204T210000
DTSTAMP:20260423T180712
CREATED:20241108T082027Z
LAST-MODIFIED:20241108T082027Z
UID:15598-1733340600-1733346000@sports.tukums.lv
SUMMARY:SV: Lapmežciems - Ventspils novads
DESCRIPTION:Sieviešu volejbola čempionāta spēle
URL:https://sports.tukums.lv/event/sv-lapmezciems-ventspils-novads/
LOCATION:Lapmežciema sporta komplekss
CATEGORIES:Novads sieviešu volejbols
END:VEVENT
BEGIN:VEVENT
DTSTART;TZID=Europe/Riga:20241204T193000
DTEND;TZID=Europe/Riga:20241204T210000
DTSTAMP:20260423T180712
CREATED:20241018T080816Z
LAST-MODIFIED:20241018T080816Z
UID:15150-1733340600-1733346000@sports.tukums.lv
SUMMARY:SV: Sēme - SK Pūre
DESCRIPTION:Sieviešu volejbola čempionāta spēle!
URL:https://sports.tukums.lv/event/sv-seme-sk-pure/
LOCATION:Sēme\, Sēmes sākumskola
CATEGORIES:Novads sieviešu volejbols
END:VEVENT
BEGIN:VEVENT
DTSTART;TZID=Europe/Riga:20241202T190000
DTEND;TZID=Europe/Riga:20241202T203000
DTSTAMP:20260423T180712
CREATED:20241018T080649Z
LAST-MODIFIED:20241018T080649Z
UID:15146-1733166000-1733171400@sports.tukums.lv
SUMMARY:SV: Tukuma Sporta skola - VK Saldus
DESCRIPTION:Sieviešu volejbola čempionāta spēle!
URL:https://sports.tukums.lv/event/sv-tukuma-sporta-skola-vk-saldus/
LOCATION:Tukuma sporta hallē\, Pauzera iela 7
CATEGORIES:Novads sieviešu volejbols
END:VEVENT
BEGIN:VEVENT
DTSTART;TZID=Europe/Riga:20241128T193000
DTEND;TZID=Europe/Riga:20241128T210000
DTSTAMP:20260423T180712
CREATED:20241122T064409Z
LAST-MODIFIED:20241122T064409Z
UID:15859-1732822200-1732827600@sports.tukums.lv
SUMMARY:SV: Mārupe Desk Pro - VK Saldus
DESCRIPTION:Sieviešu volejbola čempionāta spēle
URL:https://sports.tukums.lv/event/sv-marupe-desk-pro-vk-saldus-4/
LOCATION:Smārde\, Smārdes skola\, Smārdes pagasts\, Tukuma novads\, LV3129\, Latvija
CATEGORIES:Novads sieviešu volejbols
END:VEVENT
END:VCALENDAR