BEGIN:VCALENDAR
VERSION:2.0
PRODID:-//Sports Tukuma novadā - ECPv5.14.2.1//NONSGML v1.0//EN
CALSCALE:GREGORIAN
METHOD:PUBLISH
X-WR-CALNAME:Sports Tukuma novadā
X-ORIGINAL-URL:https://sports.tukums.lv
X-WR-CALDESC:Events for Sports Tukuma novadā
REFRESH-INTERVAL;VALUE=DURATION:PT1H
X-Robots-Tag:noindex
X-PUBLISHED-TTL:PT1H
BEGIN:VTIMEZONE
TZID:Europe/Riga
BEGIN:DAYLIGHT
TZOFFSETFROM:+0200
TZOFFSETTO:+0300
TZNAME:EEST
DTSTART:20260329T010000
END:DAYLIGHT
BEGIN:STANDARD
TZOFFSETFROM:+0300
TZOFFSETTO:+0200
TZNAME:EET
DTSTART:20261025T010000
END:STANDARD
END:VTIMEZONE
BEGIN:VEVENT
DTSTART;TZID=Europe/Riga:20260109T180000
DTEND;TZID=Europe/Riga:20260109T220000
DTSTAMP:20260422T001119
CREATED:20260105T093615Z
LAST-MODIFIED:20260105T093615Z
UID:23788-1767981600-1767996000@sports.tukums.lv
SUMMARY:Piejūras kausa izcīņa novusā\, vienspēles
DESCRIPTION:
URL:https://sports.tukums.lv/event/piejuras-kausa-izcina-novusa-vienspeles/
LOCATION:Lapmežciema sporta komplekss
CATEGORIES:Novuss
END:VEVENT
BEGIN:VEVENT
DTSTART;TZID=Europe/Riga:20260123T180000
DTEND;TZID=Europe/Riga:20260123T220000
DTSTAMP:20260422T001119
CREATED:20260112T085321Z
LAST-MODIFIED:20260112T085321Z
UID:23961-1769191200-1769205600@sports.tukums.lv
SUMMARY:Piejūras kauss novusa dubultspēlēs\, 3.posms
DESCRIPTION:
URL:https://sports.tukums.lv/event/piejuras-kauss-novusa-dubultspeles-3-posms/
LOCATION:Lapmežciema sporta komplekss
CATEGORIES:Novuss
END:VEVENT
END:VCALENDAR