BEGIN:VCALENDAR
VERSION:2.0
PRODID:-//Sports Tukuma novadā - ECPv5.14.2.1//NONSGML v1.0//EN
CALSCALE:GREGORIAN
METHOD:PUBLISH
X-WR-CALNAME:Sports Tukuma novadā
X-ORIGINAL-URL:https://sports.tukums.lv
X-WR-CALDESC:Events for Sports Tukuma novadā
REFRESH-INTERVAL;VALUE=DURATION:PT1H
X-Robots-Tag:noindex
X-PUBLISHED-TTL:PT1H
BEGIN:VTIMEZONE
TZID:Europe/Riga
BEGIN:DAYLIGHT
TZOFFSETFROM:+0200
TZOFFSETTO:+0300
TZNAME:EEST
DTSTART:20260329T010000
END:DAYLIGHT
BEGIN:STANDARD
TZOFFSETFROM:+0300
TZOFFSETTO:+0200
TZNAME:EET
DTSTART:20261025T010000
END:STANDARD
END:VTIMEZONE
BEGIN:VEVENT
DTSTART;TZID=Europe/Riga:20260306T180000
DTEND;TZID=Europe/Riga:20260306T220000
DTSTAMP:20260421T161425
CREATED:20260302T085506Z
LAST-MODIFIED:20260302T085506Z
UID:25282-1772820000-1772834400@sports.tukums.lv
SUMMARY:Piejūras kausa izcīņa novusā\, dubultspēles
DESCRIPTION:
URL:https://sports.tukums.lv/event/piejuras-kausa-izcina-novusa-dubultspeles-3/
LOCATION:Lapmežciema sporta komplekss
CATEGORIES:Novuss
END:VEVENT
BEGIN:VEVENT
DTSTART;TZID=Europe/Riga:20260320T180000
DTEND;TZID=Europe/Riga:20260320T220000
DTSTAMP:20260421T161425
CREATED:20260312T075718Z
LAST-MODIFIED:20260312T075718Z
UID:25505-1774029600-1774044000@sports.tukums.lv
SUMMARY:Piejūras kausa izcīņa novusā\, dubultspēles
DESCRIPTION:
URL:https://sports.tukums.lv/event/piejuras-kausa-izcina-novusa-dubultspeles-4/
LOCATION:Lapmežciema sporta komplekss
CATEGORIES:Novuss,Novads novuss
END:VEVENT
BEGIN:VEVENT
DTSTART;TZID=Europe/Riga:20260327T180000
DTEND;TZID=Europe/Riga:20260327T210000
DTSTAMP:20260421T161425
CREATED:20260323T090238Z
LAST-MODIFIED:20260323T090238Z
UID:25772-1774634400-1774645200@sports.tukums.lv
SUMMARY:Piejūras kausa izcīņas posms novusa vienspēlēs
DESCRIPTION:
URL:https://sports.tukums.lv/event/piejuras-kausa-izcinas-posms-novusa-vienspeles-3/
LOCATION:Lapmežciema sporta komplekss
CATEGORIES:Novuss,Novads novuss
END:VEVENT
END:VCALENDAR