BEGIN:VCALENDAR
VERSION:2.0
PRODID:-//Sports Tukuma novadā - ECPv5.14.2.1//NONSGML v1.0//EN
CALSCALE:GREGORIAN
METHOD:PUBLISH
X-WR-CALNAME:Sports Tukuma novadā
X-ORIGINAL-URL:https://sports.tukums.lv
X-WR-CALDESC:Events for Sports Tukuma novadā
REFRESH-INTERVAL;VALUE=DURATION:PT1H
X-Robots-Tag:noindex
X-PUBLISHED-TTL:PT1H
BEGIN:VTIMEZONE
TZID:Europe/Riga
BEGIN:DAYLIGHT
TZOFFSETFROM:+0200
TZOFFSETTO:+0300
TZNAME:EEST
DTSTART:20230326T010000
END:DAYLIGHT
BEGIN:STANDARD
TZOFFSETFROM:+0300
TZOFFSETTO:+0200
TZNAME:EET
DTSTART:20231029T010000
END:STANDARD
BEGIN:DAYLIGHT
TZOFFSETFROM:+0200
TZOFFSETTO:+0300
TZNAME:EEST
DTSTART:20240331T010000
END:DAYLIGHT
BEGIN:STANDARD
TZOFFSETFROM:+0300
TZOFFSETTO:+0200
TZNAME:EET
DTSTART:20241027T010000
END:STANDARD
BEGIN:DAYLIGHT
TZOFFSETFROM:+0200
TZOFFSETTO:+0300
TZNAME:EEST
DTSTART:20250330T010000
END:DAYLIGHT
BEGIN:STANDARD
TZOFFSETFROM:+0300
TZOFFSETTO:+0200
TZNAME:EET
DTSTART:20251026T010000
END:STANDARD
END:VTIMEZONE
BEGIN:VEVENT
DTSTART;TZID=Europe/Riga:20251107T180000
DTEND;TZID=Europe/Riga:20251107T220000
DTSTAMP:20260422T024538
CREATED:20251029T094034Z
LAST-MODIFIED:20251029T094034Z
UID:22205-1762538400-1762552800@sports.tukums.lv
SUMMARY:Piejūras kauss novusa vienspēlēs\, 2.posms
DESCRIPTION:
URL:https://sports.tukums.lv/event/piejuras-kauss-novusa-vienspeles-2-posms-3/
LOCATION:Lapmežciema sporta komplekss
CATEGORIES:Novuss
END:VEVENT
BEGIN:VEVENT
DTSTART;TZID=Europe/Riga:20251024T180000
DTEND;TZID=Europe/Riga:20251024T220000
DTSTAMP:20260422T024538
CREATED:20251022T061909Z
LAST-MODIFIED:20251022T061909Z
UID:21795-1761328800-1761343200@sports.tukums.lv
SUMMARY:Piejūras kausa izcīņa novusa dubultspēlēs\, 1.posms
DESCRIPTION:
URL:https://sports.tukums.lv/event/piejuras-kausa-izcina-novusa-dubultspeles-1-posms/
LOCATION:Lapmežciema sporta komplekss
CATEGORIES:Novuss,Novads novuss
END:VEVENT
BEGIN:VEVENT
DTSTART;TZID=Europe/Riga:20251010T180000
DTEND;TZID=Europe/Riga:20251010T220000
DTSTAMP:20260422T024538
CREATED:20250926T081449Z
LAST-MODIFIED:20251002T095008Z
UID:21211-1760119200-1760133600@sports.tukums.lv
SUMMARY:Piejūras kausa izcīņa novusa vienspēlēs\, 1.posms
DESCRIPTION:Piejūras kausa izcīņas novusā 1.posms Lapmežciemā
URL:https://sports.tukums.lv/event/piejuras-kausa-izcina-novusa-vienspeles-1-posms/
LOCATION:Lapmežciema sporta komplekss
CATEGORIES:Novuss,Novads novuss
END:VEVENT
BEGIN:VEVENT
DTSTART;TZID=Europe/Riga:20250425T180000
DTEND;TZID=Europe/Riga:20250425T220000
DTSTAMP:20260422T024538
CREATED:20250415T060215Z
LAST-MODIFIED:20250415T060215Z
UID:19273-1745604000-1745618400@sports.tukums.lv
SUMMARY:Reņģu kauss novusā\, Lapmežciems
DESCRIPTION:
URL:https://sports.tukums.lv/event/rengu-kauss-novusa-lapmezciems/
LOCATION:Lapmežciema sporta komplekss
CATEGORIES:Novuss
END:VEVENT
BEGIN:VEVENT
DTSTART;TZID=Europe/Riga:20250420T100000
DTEND;TZID=Europe/Riga:20250420T130000
DTSTAMP:20260422T024538
CREATED:20250331T093641Z
LAST-MODIFIED:20250331T093641Z
UID:18910-1745143200-1745154000@sports.tukums.lv
SUMMARY:NOVUSS/dubultspēles/ – Irlavas atklātais čempionāts /6.kārta/
DESCRIPTION:
URL:https://sports.tukums.lv/event/novuss-dubultspeles-irlavas-atklatais-cempionats-6-karta/
LOCATION:Irlavas sporta hallē\, Sporta iela 1\, Irlava
CATEGORIES:Novuss
END:VEVENT
BEGIN:VEVENT
DTSTART;TZID=Europe/Riga:20250411T180000
DTEND;TZID=Europe/Riga:20250411T220000
DTSTAMP:20260422T024538
CREATED:20250407T081637Z
LAST-MODIFIED:20250407T081637Z
UID:19102-1744394400-1744408800@sports.tukums.lv
SUMMARY:Piejūras kausa izcīņa novusa dubultspēlēs
DESCRIPTION:
URL:https://sports.tukums.lv/event/piejuras-kausa-izcina-novusa-dubultspeles-2/
LOCATION:Lapmežciema sporta komplekss
CATEGORIES:Novuss,Novads novuss
END:VEVENT
BEGIN:VEVENT
DTSTART;TZID=Europe/Riga:20250404T180000
DTEND;TZID=Europe/Riga:20250404T220000
DTSTAMP:20260422T024538
CREATED:20250320T195338Z
LAST-MODIFIED:20250327T070312Z
UID:18671-1743789600-1743804000@sports.tukums.lv
SUMMARY:Piejūras kausa posms novusa vienspēlēs
DESCRIPTION:
URL:https://sports.tukums.lv/event/piejuras-kausa-posms-novusa-dubultspeles/
LOCATION:Lapmežciema sporta komplekss
CATEGORIES:Novuss,Novads novuss
END:VEVENT
BEGIN:VEVENT
DTSTART;TZID=Europe/Riga:20250323T100000
DTEND;TZID=Europe/Riga:20250323T130000
DTSTAMP:20260422T024538
CREATED:20250304T143135Z
LAST-MODIFIED:20250304T143135Z
UID:18191-1742724000-1742734800@sports.tukums.lv
SUMMARY:NOVUSS/dubultspēles/ – Irlavas atklātais čempionāts /5.kārta/
DESCRIPTION:
URL:https://sports.tukums.lv/event/novuss-dubultspeles-irlavas-atklatais-cempionats-5-karta-2/
LOCATION:Irlavas sporta hallē\, Sporta iela 1\, Irlava
CATEGORIES:Novuss
END:VEVENT
BEGIN:VEVENT
DTSTART;TZID=Europe/Riga:20250309T100000
DTEND;TZID=Europe/Riga:20250309T130000
DTSTAMP:20260422T024538
CREATED:20250304T142908Z
LAST-MODIFIED:20250304T142908Z
UID:18185-1741514400-1741525200@sports.tukums.lv
SUMMARY:NOVUSS/dubultspēles/ – Irlavas atklātais čempionāts /4.kārta/
DESCRIPTION:
URL:https://sports.tukums.lv/event/novuss-dubultspeles-irlavas-atklatais-cempionats-4-karta/
LOCATION:Irlavas sporta hallē\, Sporta iela 1\, Irlava
CATEGORIES:Novuss
END:VEVENT
BEGIN:VEVENT
DTSTART;TZID=Europe/Riga:20250307T180000
DTEND;TZID=Europe/Riga:20250307T220000
DTSTAMP:20260422T024538
CREATED:20250226T115153Z
LAST-MODIFIED:20250226T115153Z
UID:18037-1741370400-1741384800@sports.tukums.lv
SUMMARY:Piejūras kausa izcīņas novusā posms dubultspēlēs
DESCRIPTION:
URL:https://sports.tukums.lv/event/piejuras-kausa-izcinas-novusa-posms-dubultspeles/
LOCATION:Lapmežciema sporta komplekss
CATEGORIES:Novuss,Novads novuss
END:VEVENT
BEGIN:VEVENT
DTSTART;TZID=Europe/Riga:20250301T100000
DTEND;TZID=Europe/Riga:20250301T150000
DTSTAMP:20260422T024538
CREATED:20250226T115405Z
LAST-MODIFIED:20250226T115405Z
UID:18039-1740823200-1740841200@sports.tukums.lv
SUMMARY:Latvijas čempionāts novusā\, 2.līga\, fināls Kandavā
DESCRIPTION:
URL:https://sports.tukums.lv/event/latvijas-cempionats-novusa-2-liga-finals-kandava/
LOCATION:Kandava\, Kandava\, Kandava
CATEGORIES:Novuss
ATTACH;FMTTYPE=image/jpeg:https://sports.tukums.lv/wp-content/uploads/2025/02/481206739_9354637927945004_5685243454558545380_n.jpg
END:VEVENT
BEGIN:VEVENT
DTSTART;TZID=Europe/Riga:20250221T180000
DTEND;TZID=Europe/Riga:20250221T220000
DTSTAMP:20260422T024538
CREATED:20250213T072040Z
LAST-MODIFIED:20250213T072040Z
UID:17748-1740160800-1740175200@sports.tukums.lv
SUMMARY:Piejūras kauss novusa vienspēlēs
DESCRIPTION:
URL:https://sports.tukums.lv/event/piejuras-kauss-novusa-vienspeles/
LOCATION:Lapmežciema sporta komplekss
CATEGORIES:Novuss,Novads novuss
END:VEVENT
BEGIN:VEVENT
DTSTART;TZID=Europe/Riga:20250207T180000
DTEND;TZID=Europe/Riga:20250207T220000
DTSTAMP:20260422T024538
CREATED:20250128T084118Z
LAST-MODIFIED:20250128T084118Z
UID:17422-1738951200-1738965600@sports.tukums.lv
SUMMARY:Piejūras kausa izcīņa novusa vienspēlēs Lapmežciemā
DESCRIPTION:
URL:https://sports.tukums.lv/event/piejuras-kausa-izcina-novusa-vienspeles-lapmezciema/
LOCATION:Lapmežciema sporta komplekss
CATEGORIES:Novuss,Novads novuss
END:VEVENT
BEGIN:VEVENT
DTSTART;TZID=Europe/Riga:20250124T180000
DTEND;TZID=Europe/Riga:20250124T220000
DTSTAMP:20260422T024538
CREATED:20250114T063504Z
LAST-MODIFIED:20250114T063504Z
UID:17003-1737741600-1737756000@sports.tukums.lv
SUMMARY:Piejūras kauss novusa dubultspēlēs Lapmežciemā
DESCRIPTION:
URL:https://sports.tukums.lv/event/piejuras-kauss-novusa-dubultspeles-lapmezciema-5/
LOCATION:Lapmežciema sporta komplekss
CATEGORIES:Novuss,Novads novuss
END:VEVENT
BEGIN:VEVENT
DTSTART;TZID=Europe/Riga:20250103T180000
DTEND;TZID=Europe/Riga:20250103T220000
DTSTAMP:20260422T024538
CREATED:20250102T073839Z
LAST-MODIFIED:20250102T073839Z
UID:16673-1735927200-1735941600@sports.tukums.lv
SUMMARY:Piejūras kausa posms novusa vienspēlēs
DESCRIPTION:
URL:https://sports.tukums.lv/event/piejuras-kausa-posms-novusa-vienspeles/
LOCATION:Lapmežciema sporta komplekss
CATEGORIES:Novuss,Novads novuss
END:VEVENT
BEGIN:VEVENT
DTSTART;TZID=Europe/Riga:20241229T100000
DTEND;TZID=Europe/Riga:20241229T120000
DTSTAMP:20260422T024538
CREATED:20241204T110710Z
LAST-MODIFIED:20241204T110710Z
UID:16225-1735466400-1735473600@sports.tukums.lv
SUMMARY:NOVUSS(dubultspēles) – Irlavas atklātais čempionāts /2.kārta/
DESCRIPTION:
URL:https://sports.tukums.lv/event/novussdubultspeles-irlavas-atklatais-cempionats-2-karta/
LOCATION:Irlavas sporta hallē\, Sporta iela 1\, Irlava
CATEGORIES:Novuss
END:VEVENT
BEGIN:VEVENT
DTSTART;TZID=Europe/Riga:20241213T180000
DTEND;TZID=Europe/Riga:20241213T213000
DTSTAMP:20260422T024538
CREATED:20241209T063059Z
LAST-MODIFIED:20241209T063059Z
UID:16307-1734112800-1734125400@sports.tukums.lv
SUMMARY:Piejūras kausa izcīņas posms novusa vienspēlēs
DESCRIPTION:
URL:https://sports.tukums.lv/event/piejuras-kausa-izcinas-posms-novusa-vienspeles/
LOCATION:Lapmežciema sporta komplekss
CATEGORIES:Novuss,Novads novuss
END:VEVENT
BEGIN:VEVENT
DTSTART;TZID=Europe/Riga:20241117T100000
DTEND;TZID=Europe/Riga:20241117T130000
DTSTAMP:20260422T024538
CREATED:20241030T070533Z
LAST-MODIFIED:20241030T070533Z
UID:15439-1731837600-1731848400@sports.tukums.lv
SUMMARY:NOVUSS(dubultspēles) – Irlavas atklātais čempionāts /1.kārta/
DESCRIPTION:
URL:https://sports.tukums.lv/event/novussdubultspeles-irlavas-atklatais-cempionats-1-karta/
LOCATION:Irlavas sporta hallē\, Sporta iela 1\, Irlava
CATEGORIES:Novuss,Novads novuss
END:VEVENT
BEGIN:VEVENT
DTSTART;TZID=Europe/Riga:20241011T180000
DTEND;TZID=Europe/Riga:20241011T220000
DTSTAMP:20260422T024538
CREATED:20240919T111355Z
LAST-MODIFIED:20240919T111355Z
UID:14369-1728669600-1728684000@sports.tukums.lv
SUMMARY:Piejūras kausa izcīņa novusā\, 1.posms
DESCRIPTION:Piejūras kausa izcīņa novusa viespēlēs\, 1.posms.
URL:https://sports.tukums.lv/event/piejuras-kausa-izcina-novusa-1-posms/
LOCATION:Lapmežciema sporta komplekss
CATEGORIES:Novuss,Novads novuss
END:VEVENT
BEGIN:VEVENT
DTSTART;TZID=Europe/Riga:20240428T100000
DTEND;TZID=Europe/Riga:20240428T130000
DTSTAMP:20260422T024538
CREATED:20240419T065002Z
LAST-MODIFIED:20240419T065002Z
UID:12668-1714298400-1714309200@sports.tukums.lv
SUMMARY:NOVUSS /dubultspēles/ – Irlavas atklātais čempionāts /5.kārta/
DESCRIPTION:
URL:https://sports.tukums.lv/event/novuss-dubultspeles-irlavas-atklatais-cempionats-5-karta/
LOCATION:Irlavas sporta hallē\, Sporta iela 1\, Irlava
CATEGORIES:Novuss
END:VEVENT
BEGIN:VEVENT
DTSTART;TZID=Europe/Riga:20240426T180000
DTEND;TZID=Europe/Riga:20240426T210000
DTSTAMP:20260422T024538
CREATED:20240418T093340Z
LAST-MODIFIED:20240418T093340Z
UID:12642-1714154400-1714165200@sports.tukums.lv
SUMMARY:Lapmežciema kauss novusā!
DESCRIPTION:26.04. plkst. 18:00\, Lapmežciema kauss novusā!\nInformācijai – 29418443 Normunds.
URL:https://sports.tukums.lv/event/lapmezciema-kauss-novusa/
LOCATION:Lapmežciema sporta komplekss
CATEGORIES:Novuss
END:VEVENT
BEGIN:VEVENT
DTSTART;TZID=Europe/Riga:20240412T180000
DTEND;TZID=Europe/Riga:20240412T210000
DTSTAMP:20260422T024538
CREATED:20240408T153118Z
LAST-MODIFIED:20240408T153118Z
UID:12436-1712944800-1712955600@sports.tukums.lv
SUMMARY:Piejūras kauss novusā\, 7.posms\, Lapmežciemā
DESCRIPTION:
URL:https://sports.tukums.lv/event/piejuras-kauss-novusa-7-posms-lapmezciema/
LOCATION:Lapmežciema sporta komplekss
CATEGORIES:Novuss,Novads novuss
END:VEVENT
BEGIN:VEVENT
DTSTART;TZID=Europe/Riga:20240322T180000
DTEND;TZID=Europe/Riga:20240322T220000
DTSTAMP:20260422T024538
CREATED:20240318T102054Z
LAST-MODIFIED:20240318T102054Z
UID:11931-1711130400-1711144800@sports.tukums.lv
SUMMARY:Piejūras kauss novusa vienspēlēs Lapmežciemā
DESCRIPTION:
URL:https://sports.tukums.lv/event/piejuras-kauss-novusa-vienspeles-lapmezciema-4/
LOCATION:Lapmežciema sporta komplekss
CATEGORIES:Novuss,Novads novuss
END:VEVENT
BEGIN:VEVENT
DTSTART;TZID=Europe/Riga:20240225T100000
DTEND;TZID=Europe/Riga:20240225T120000
DTSTAMP:20260422T024538
CREATED:20240202T061224Z
LAST-MODIFIED:20240202T061224Z
UID:10967-1708855200-1708862400@sports.tukums.lv
SUMMARY:NOVUSS /dubultspēles/ – Irlavas atklātais čempionāts /3.kārta/
DESCRIPTION:
URL:https://sports.tukums.lv/event/novuss-dubultspeles-irlavas-atklatais-cempionats-3-karta-2/
LOCATION:Irlavas sporta hallē\, Sporta iela 1\, Irlava
CATEGORIES:Novuss
END:VEVENT
BEGIN:VEVENT
DTSTART;TZID=Europe/Riga:20240216T180000
DTEND;TZID=Europe/Riga:20240216T220000
DTSTAMP:20260422T024538
CREATED:20240206T092203Z
LAST-MODIFIED:20240206T092203Z
UID:11028-1708106400-1708120800@sports.tukums.lv
SUMMARY:Piejūras kauss novusa dubultspēlēs Lapmežciemā
DESCRIPTION:
URL:https://sports.tukums.lv/event/piejuras-kauss-novusa-dubultspeles-lapmezciema-4/
LOCATION:Lapmežciema sporta komplekss
CATEGORIES:Novuss,Novads novuss
END:VEVENT
BEGIN:VEVENT
DTSTART;TZID=Europe/Riga:20240202T180000
DTEND;TZID=Europe/Riga:20240202T220000
DTSTAMP:20260422T024538
CREATED:20240123T095654Z
LAST-MODIFIED:20240123T095654Z
UID:10707-1706896800-1706911200@sports.tukums.lv
SUMMARY:Piejūras kauss novusā - vienspēles Lapmežciemā
DESCRIPTION:
URL:https://sports.tukums.lv/event/piejuras-kauss-novusa-vienspeles-lapmezciema-3/
LOCATION:Lapmežciema sporta komplekss
CATEGORIES:Novuss,Novads novuss
END:VEVENT
BEGIN:VEVENT
DTSTART;TZID=Europe/Riga:20240121T100000
DTEND;TZID=Europe/Riga:20240121T120000
DTSTAMP:20260422T024538
CREATED:20240104T080636Z
LAST-MODIFIED:20240104T080636Z
UID:10107-1705831200-1705838400@sports.tukums.lv
SUMMARY:NOVUSS /dubultspēles/ – Irlavas atklātais čempionāts /3.kārta/
DESCRIPTION:
URL:https://sports.tukums.lv/event/novuss-dubultspeles-irlavas-atklatais-cempionats-3-karta/
LOCATION:Irlavas sporta hallē\, Sporta iela 1\, Irlava
CATEGORIES:Novuss
END:VEVENT
BEGIN:VEVENT
DTSTART;TZID=Europe/Riga:20240119T180000
DTEND;TZID=Europe/Riga:20240119T220000
DTSTAMP:20260422T024538
CREATED:20240109T100726Z
LAST-MODIFIED:20240109T100726Z
UID:10259-1705687200-1705701600@sports.tukums.lv
SUMMARY:Piejūras kauss novusa dubultspēlēs Lapmežciemā
DESCRIPTION:
URL:https://sports.tukums.lv/event/piejuras-kauss-novusa-dubultspeles-lapmezciema-3/
LOCATION:Lapmežciema sporta komplekss
CATEGORIES:Novuss,Novads novuss
END:VEVENT
BEGIN:VEVENT
DTSTART;TZID=Europe/Riga:20240105T180000
DTEND;TZID=Europe/Riga:20240105T210000
DTSTAMP:20260422T024538
CREATED:20240101T114426Z
LAST-MODIFIED:20240101T114426Z
UID:10066-1704477600-1704488400@sports.tukums.lv
SUMMARY:Piejūras kauss novusa vienspēlēs Lapmežciemā
DESCRIPTION:
URL:https://sports.tukums.lv/event/piejuras-kauss-novusa-vienspeles-lapmezciema-2/
LOCATION:Lapmežciema sporta komplekss
CATEGORIES:Novuss,Novads novuss
END:VEVENT
BEGIN:VEVENT
DTSTART;TZID=Europe/Riga:20231226T110000
DTEND;TZID=Europe/Riga:20231226T130000
DTSTAMP:20260422T024538
CREATED:20231213T070402Z
LAST-MODIFIED:20231213T070402Z
UID:9861-1703588400-1703595600@sports.tukums.lv
SUMMARY:Engures Ziemassvētku turnīrs novusā
DESCRIPTION:
URL:https://sports.tukums.lv/event/engures-ziemassvetku-turnirs-novusa/
LOCATION:Engures Saieta nams
CATEGORIES:Novuss
ATTACH;FMTTYPE=image/jpeg:https://sports.tukums.lv/wp-content/uploads/2023/12/410052530_687671800163268_9046928235707744834_n-1.jpg
END:VEVENT
END:VCALENDAR