BEGIN:VCALENDAR
VERSION:2.0
PRODID:-//Sports Tukuma novadā - ECPv5.14.2.1//NONSGML v1.0//EN
CALSCALE:GREGORIAN
METHOD:PUBLISH
X-WR-CALNAME:Sports Tukuma novadā
X-ORIGINAL-URL:https://sports.tukums.lv
X-WR-CALDESC:Events for Sports Tukuma novadā
REFRESH-INTERVAL;VALUE=DURATION:PT1H
X-Robots-Tag:noindex
X-PUBLISHED-TTL:PT1H
BEGIN:VTIMEZONE
TZID:Europe/Riga
BEGIN:DAYLIGHT
TZOFFSETFROM:+0200
TZOFFSETTO:+0300
TZNAME:EEST
DTSTART:20220327T010000
END:DAYLIGHT
BEGIN:STANDARD
TZOFFSETFROM:+0300
TZOFFSETTO:+0200
TZNAME:EET
DTSTART:20221030T010000
END:STANDARD
BEGIN:DAYLIGHT
TZOFFSETFROM:+0200
TZOFFSETTO:+0300
TZNAME:EEST
DTSTART:20230326T010000
END:DAYLIGHT
BEGIN:STANDARD
TZOFFSETFROM:+0300
TZOFFSETTO:+0200
TZNAME:EET
DTSTART:20231029T010000
END:STANDARD
END:VTIMEZONE
BEGIN:VEVENT
DTSTART;TZID=Europe/Riga:20230203T180000
DTEND;TZID=Europe/Riga:20230203T220000
DTSTAMP:20260422T122849
CREATED:20230130T074350Z
LAST-MODIFIED:20230130T074350Z
UID:4846-1675447200-1675461600@sports.tukums.lv
SUMMARY:Novusa čempionāts Lapmežciemā
DESCRIPTION:Piejūras novusa čempionāta 5.posms vienspēlēs.
URL:https://sports.tukums.lv/event/novusa-cempionats-lapmezciema/
LOCATION:Lapmežciema sporta komplekss
CATEGORIES:Novuss,Novads novuss
END:VEVENT
BEGIN:VEVENT
DTSTART;TZID=Europe/Riga:20230127T180000
DTEND;TZID=Europe/Riga:20230127T220000
DTSTAMP:20260422T122849
CREATED:20230119T114359Z
LAST-MODIFIED:20230119T114359Z
UID:4592-1674842400-1674856800@sports.tukums.lv
SUMMARY:Novusa čempionāta posms Lapmežciemā
DESCRIPTION:Novusa čempionāta 4.posms vienspēlēs.
URL:https://sports.tukums.lv/event/novusa-cempionata-posms-lapmezciema-3/
LOCATION:Lapmežciema sporta komplekss
CATEGORIES:Novuss,Novads novuss
END:VEVENT
BEGIN:VEVENT
DTSTART;TZID=Europe/Riga:20230113T180000
DTEND;TZID=Europe/Riga:20230113T230000
DTSTAMP:20260422T122849
CREATED:20230105T062026Z
LAST-MODIFIED:20230105T062026Z
UID:4274-1673632800-1673650800@sports.tukums.lv
SUMMARY:Novusa čempionāta posms vienspēlēs Lapmežciemā
DESCRIPTION:Novusa čempionāta posms vienspēlēs Lapmežciemā!
URL:https://sports.tukums.lv/event/novusa-cempionata-posms-vienspeles-lapmezciema/
LOCATION:Lapmežciema sporta komplekss
CATEGORIES:Novuss,Novads novuss
END:VEVENT
BEGIN:VEVENT
DTSTART;VALUE=DATE:20230108
DTEND;VALUE=DATE:20230109
DTSTAMP:20260422T122849
CREATED:20230103T115906Z
LAST-MODIFIED:20230103T115906Z
UID:4213-1673136000-1673222399@sports.tukums.lv
SUMMARY:Irlavas atklātais čempionāts novusā (dubultspēlēs) 4.kārta
DESCRIPTION:
URL:https://sports.tukums.lv/event/irlavas-atklatais-cempionats-novusa-dubultspeles-4-karta/
LOCATION:Irlavas sporta hallē\, Sporta iela 1\, Irlava
CATEGORIES:Novuss
END:VEVENT
BEGIN:VEVENT
DTSTART;TZID=Europe/Riga:20221202T180000
DTEND;TZID=Europe/Riga:20221202T220000
DTSTAMP:20260422T122849
CREATED:20221109T082339Z
LAST-MODIFIED:20221109T082339Z
UID:3466-1670004000-1670018400@sports.tukums.lv
SUMMARY:Novusa čempionāta 1.posms dubultspēlēs Lapmežciemā
DESCRIPTION:
URL:https://sports.tukums.lv/event/novusa-cempionata-1-posms-dubultspeles-lapmezciema/
LOCATION:Lapmežciema sporta komplekss
CATEGORIES:Novuss,Novads novuss
END:VEVENT
BEGIN:VEVENT
DTSTART;TZID=Europe/Riga:20221202T180000
DTEND;TZID=Europe/Riga:20221202T220000
DTSTAMP:20260422T122849
CREATED:20221108T051925Z
LAST-MODIFIED:20221108T051925Z
UID:3432-1670004000-1670018400@sports.tukums.lv
SUMMARY:Novusa čempionāta posms Lapmežciemā - dubultspēles
DESCRIPTION:
URL:https://sports.tukums.lv/event/novusa-cempionata-posms-lapmezciema-dubultspeles/
LOCATION:Lapmežciema sporta komplekss
CATEGORIES:Novuss,Novads novuss
END:VEVENT
BEGIN:VEVENT
DTSTART;TZID=Europe/Riga:20221028T180000
DTEND;TZID=Europe/Riga:20221028T230000
DTSTAMP:20260422T122849
CREATED:20221019T081843Z
LAST-MODIFIED:20221019T081843Z
UID:3074-1666980000-1666998000@sports.tukums.lv
SUMMARY:Novusa čempionāta otrais posms vienspēlēs Lapmežciemā
DESCRIPTION:
URL:https://sports.tukums.lv/event/novusa-cempionata-otrais-posms-vienspeles-lapmezciema/
CATEGORIES:Novuss,Novads novuss
END:VEVENT
BEGIN:VEVENT
DTSTART;VALUE=DATE:20221022
DTEND;VALUE=DATE:20221023
DTSTAMP:20260422T122849
CREATED:20220830T123439Z
LAST-MODIFIED:20220830T123439Z
UID:2269-1666396800-1666483199@sports.tukums.lv
SUMMARY:2022. gada Tukuma novada individuālais novusa čempionāts 2.posms
DESCRIPTION:
URL:https://sports.tukums.lv/event/2022-gada-tukuma-novada-individualais-novusa-cempionats-2-posms/
LOCATION:Tidaholmas iela 3
CATEGORIES:Novuss
ATTACH;FMTTYPE=application/pdf:https://sports.tukums.lv/wp-content/uploads/2022/08/Nolikums_Tukuma_novada_individualajam_cempionatam-2020-1.pdf
END:VEVENT
BEGIN:VEVENT
DTSTART;VALUE=DATE:20221015
DTEND;VALUE=DATE:20221016
DTSTAMP:20260422T122849
CREATED:20220830T123322Z
LAST-MODIFIED:20221008T161542Z
UID:2264-1665792000-1665878399@sports.tukums.lv
SUMMARY:2022. gada Tukuma novada individuālais novusa čempionāts 1.posms
DESCRIPTION:
URL:https://sports.tukums.lv/event/2022-gada-tukuma-novada-individualais-novusa-cempionats-1-posms/
LOCATION:Tidaholmas iela 3
CATEGORIES:Novuss,Novads novuss
ATTACH;FMTTYPE=application/pdf:https://sports.tukums.lv/wp-content/uploads/2022/08/Nolikums_Tukuma_novada_individualajam_cempionatam-2020.pdf
END:VEVENT
BEGIN:VEVENT
DTSTART;TZID=Europe/Riga:20221014T180000
DTEND;TZID=Europe/Riga:20221014T230000
DTSTAMP:20260422T122849
CREATED:20221005T094418Z
LAST-MODIFIED:20221008T161634Z
UID:2719-1665770400-1665788400@sports.tukums.lv
SUMMARY:Novusa čempionāta posms Lapmežciemā
DESCRIPTION:14.novembrī plkst. 18:00\, Lapmežciema sporta kompleksā Novusa čempionāta 1. posms vienspēlēs.\nInfo 29418443 Normunds.
URL:https://sports.tukums.lv/event/novusa-cempionata-posms-lapmezciema-2/
CATEGORIES:Novuss,Novads novuss
END:VEVENT
BEGIN:VEVENT
DTSTART;TZID=Europe/Riga:20220515T100000
DTEND;TZID=Europe/Riga:20220515T150000
DTSTAMP:20260422T122849
CREATED:20220429T111535Z
LAST-MODIFIED:20220429T111535Z
UID:778-1652608800-1652626800@sports.tukums.lv
SUMMARY:Irlavas atklātais čempionāts novusā
DESCRIPTION:NOVUSS/Dubultspēles – Irlavas atklātais čempionāts (2022.g.6.kārta)
URL:https://sports.tukums.lv/event/irlavas-atklatais-cempionats-novusa/
CATEGORIES:Novuss
END:VEVENT
BEGIN:VEVENT
DTSTART;TZID=Europe/Riga:20220513T180000
DTEND;TZID=Europe/Riga:20220513T220000
DTSTAMP:20260422T122849
CREATED:20220508T144536Z
LAST-MODIFIED:20220508T144536Z
UID:886-1652464800-1652479200@sports.tukums.lv
SUMMARY:Novusa vienspēļu posms Lapmežciemā
DESCRIPTION:Novusa čempionāta posms Lapmežciemā.
URL:https://sports.tukums.lv/event/novusa-vienspelu-posms-lapmezciema/
CATEGORIES:Novuss,Novads novuss
ATTACH;FMTTYPE=image/jpeg:https://sports.tukums.lv/wp-content/uploads/2022/04/ecom_p-24887-1-d11bb.jpg_52655.jpg
END:VEVENT
BEGIN:VEVENT
DTSTART;TZID=Europe/Riga:20220325T180000
DTEND;TZID=Europe/Riga:20220325T230000
DTSTAMP:20260422T122849
CREATED:20220317T095743Z
LAST-MODIFIED:20220317T095743Z
UID:188-1648231200-1648249200@sports.tukums.lv
SUMMARY:Novusa čempionāta posms Lapmežciemā
DESCRIPTION:Novusa čempionāta posms vienspēlēs. Posms notiks Lapmežciema sporta kompleksā.
URL:https://sports.tukums.lv/event/novusa-cempionata-posms-lapmezciema/
CATEGORIES:Novuss
END:VEVENT
END:VCALENDAR