BEGIN:VCALENDAR
VERSION:2.0
PRODID:-//Sports Tukuma novadā - ECPv5.14.2.1//NONSGML v1.0//EN
CALSCALE:GREGORIAN
METHOD:PUBLISH
X-WR-CALNAME:Sports Tukuma novadā
X-ORIGINAL-URL:https://sports.tukums.lv
X-WR-CALDESC:Events for Sports Tukuma novadā
REFRESH-INTERVAL;VALUE=DURATION:PT1H
X-Robots-Tag:noindex
X-PUBLISHED-TTL:PT1H
BEGIN:VTIMEZONE
TZID:Europe/Riga
BEGIN:DAYLIGHT
TZOFFSETFROM:+0200
TZOFFSETTO:+0300
TZNAME:EEST
DTSTART:20260329T010000
END:DAYLIGHT
BEGIN:STANDARD
TZOFFSETFROM:+0300
TZOFFSETTO:+0200
TZNAME:EET
DTSTART:20261025T010000
END:STANDARD
END:VTIMEZONE
BEGIN:VEVENT
DTSTART;TZID=Europe/Riga:20260125T100000
DTEND;TZID=Europe/Riga:20260125T130000
DTSTAMP:20260421T060126
CREATED:20260112T072828Z
LAST-MODIFIED:20260112T072828Z
UID:23938-1769335200-1769346000@sports.tukums.lv
SUMMARY:Irlavas atklātais čempionāts- ŠAHS/3. kārta/
DESCRIPTION:
URL:https://sports.tukums.lv/event/irlavas-atklatais-cempionats-sahs-3-karta/
LOCATION:Irlava\, Tukuma novads\, Irlavas pagasts\, Sporta iela-1\, Irlavas sporta nams\, LV-3137\, Irlava\, LV3137
CATEGORIES:Šahs
END:VEVENT
END:VCALENDAR