BEGIN:VCALENDAR
VERSION:2.0
PRODID:-//Sports Tukuma novadā - ECPv5.14.2.1//NONSGML v1.0//EN
CALSCALE:GREGORIAN
METHOD:PUBLISH
X-WR-CALNAME:Sports Tukuma novadā
X-ORIGINAL-URL:https://sports.tukums.lv
X-WR-CALDESC:Events for Sports Tukuma novadā
REFRESH-INTERVAL;VALUE=DURATION:PT1H
X-Robots-Tag:noindex
X-PUBLISHED-TTL:PT1H
BEGIN:VTIMEZONE
TZID:Europe/Riga
BEGIN:DAYLIGHT
TZOFFSETFROM:+0200
TZOFFSETTO:+0300
TZNAME:EEST
DTSTART:20260329T010000
END:DAYLIGHT
BEGIN:STANDARD
TZOFFSETFROM:+0300
TZOFFSETTO:+0200
TZNAME:EET
DTSTART:20261025T010000
END:STANDARD
END:VTIMEZONE
BEGIN:VEVENT
DTSTART;TZID=Europe/Riga:20260426T100000
DTEND;TZID=Europe/Riga:20260426T130000
DTSTAMP:20260421T010151
CREATED:20260402T105614Z
LAST-MODIFIED:20260402T105614Z
UID:26017-1777197600-1777208400@sports.tukums.lv
SUMMARY:Irlavas atklātais čempionāts- ŠAHS/6. kārta/
DESCRIPTION:
URL:https://sports.tukums.lv/event/irlavas-atklatais-cempionats-sahs-6-karta/
LOCATION:Irlavas sporta hallē\, Sporta iela 1\, Irlava
CATEGORIES:Šahs
END:VEVENT
END:VCALENDAR